Workbook

Sheet Suchana
B1: आप अब तक का सबसे आसान तरीके से "संकलित मूल्यमापन - 2" संपूर्ण तक्ता कुछ ही मिनटों मे बना सकते हैं ।
B3: सूचना | H3: ê ê ê ê ê ê ê ê ê ê ê ê ê | T3: 04.04.2025
C6: 1 | D6: सबसे पहले Info_1 Sheet में आवश्यक माहिती केवल एक बार भरना है ।
D8: विद्यार्थियों के नाम Type करने के बाद M / F (Male / Female) Select करना अति आवश्यक है |
D9: जितने विद्यार्थियों के M या F Select होगा, उन्हीं का रिजल्ट तैयार होगा ।
D10: अब बच्चों की Cast Select करें ।
C12: 2 | D12: Takta_A में केवल आकारिक के अंक भरना है, बस ! तक्ता - अ, तक्ता - ब, लास्ट पेज, कवर पेज और रिपोर्ट कार्ड तैयार है ।
C14: 3 | D14: अब आप 60 विद्यार्थियों के रिजल्ट बना सकते हैं ।
C16: 4 | D16: Takta_A में जहाँ "बृहन्मुंबई महानगरपालिका - शिक्षण विभाग" लिखा हुआ है,
D17: उसे वहीं पर अपनी आवश्यकता अनुसार बदल / Edit कर सकते हैं ।
B18: F | D18: Takta_A में अब सातत्यपूर्ण सर्वंकष मूल्यमापन ( 1 या 2 ) को Select करने की सुविधा दिया गया है ।
C20: 5 | D20: द्वितीय भाषा या तृतीय भाषा, मराठी या अंग्रेजी के अतिरिक्त कोई और भाषा होने पर
D21: "Takta_A" में ही उसके शीर्षक (Heading) को बदल सकते हैं ।
C23: 6 | D23: तृतीय भाषा ना होने पर कुल अंक में अब तक बदल नहीं किया जा सकता था, पर अब उसमें बदल करने का ऑप्शन दिया गया है ।
D24: जैसे : | F24: आपके विद्यालय में तृतीय भाषा की परीक्षा नहीं होने पर
F25: आप तृतीय भाषा के संकलित और आकारिक मूल्यमापन के अंक Takta_A में 0 "शून्य" टाईप कर दिजीए,
F26: अब आपके कुल योग का चेक कर लिजीए ।
C28: 7 | D28: तक्ता तैयार होने पर Save करें और File Menu > Save as में जाकर
D29: PDF फाईल ऑप्शन चुनकर PDF फाईल सेव करें प्रिंट लेना आसान हो जाएगा ।
C31: 8 | D31: Report Card विद्यार्थियों को भेजने के लिए "Report Card Sheet" पर जाकर जैसे ही आप रोल नंबर चेंज करेंगे, उस बच्चे का
D32: Report Card आप के सामने होगा । अब आप उसे File Menu > Save as में जाकर PDF फाईल ऑप्शन चुनकर PDF फाईल सेव करें । इसी प्रकार हर विद्यार्थी का Report Card, सेव करके उसे Whatsapp पर भेज सकतें हैं ।

Sheet Info_1
C1: hellomitra.in | I1: Sr.No.2 Start From Here | J1: hellomitra.in
B2: è | C2: Purple कलर के Cell में आवश्यक जानकारी टाईप करें एक बार आपको Result Sheet (तक्ता) पर पुन: टाईप करने की आवश्यकता नहीं होगी । | J2: अनु. टाईप करें | K2: विद्यार्थियों के नाम टाइप करें ê | L2: ê यहाँ ऑप्शन चुनना है । ê | O2: Warning ( आवश्यक सूचना)
B3: è | C3: For Std. 6th | D3: ê | E3: नीचे Purple Colour के Cell में आवश्यक जानकारी Type करें । | H3: ê | J3: Sr. No. | K3: Students Name | L3: Select Male / Female | M3: Cast | O3: Male / Female Select करना अतिआवश्यक है । बीना Select किए आप का Result Sheet (तक्ता - अ, तक्ता - ब) तैयार नहीं होगा ।
J4: ê | K4: ê | L4: ê | M4: ê
B5: 1 ) | C5: स्कूल का नाम : | D5: School Name | J5: 1 | O5: यहाँ आपको विद्यार्थियों के अनु. क्र. (Sr.No.), नाम (Name Of Students) Type करना है ।
C6: स्कूल का पता : | D6: School Address | I6: è
B7: 2 ) | C7: वार्ड | D7: A | E7: ç è | F7: माध्यम : | G7: Hindi
B9: 3 ) | C9: URC | D9: 1 | E9: ç | F9: वर्ष : | G9: 2024 - 25
O10: बालक / कन्या ( Male / Female ) और जाति प्रवर्ग ( Cast ) को वही Cell में Click करके चुनाव (Select) करना है । बस इतना ही ।
B11: 4 ) | C11: UDISE No. | D11: 27220000000 | H11: ç
D12: ê
B13: 5 ) | C13: कक्षा : | D13: 6 | E13: वर्ग : | F13: A | G13: ç
D14: ê | E14: ê
B15: 6 ) | D15: पट | E15: उपस्थित | F15: अनुपस्थित
C16: बालक | F16: =D16-E16 -> 0
D17: ê | E17: ê | F17: ê
C18: कन्या | F18: =D18-E18 -> 0
D19: ê | E19: ê | F19: ê
C20: योग | D20: =SUM(D16:D19) -> 0 | E20: =SUM(E16:E19) -> 0 | F20: =SUM(F16:F19) -> 0
B22: 7 ) | C22: वर्ग शिक्षक (नाम) | E22: Class Teacher's Name
E23: é
B24: 8 ) | C24: तक्ता तैयार कर्ता (नाम) | E24: Type Here - Prepaired By
E25: é
B26: 9 ) | C26: तक्ता तपासला (नाम) | E26: Type Here - Checked By
E27: é
B28: 10 ) | C28: मुख्याध्यापक (नाम) : | E28: HM's Name
E29: é
B31: 11 ) | C31: संस्था | E31: बृहन्मुंबई महानगरपालिका - शिक्षण विभाग
E32: é
C36: hellomitraonline@gmail.com
C46: Copyright@hellomitra.blogspot.in March-2018
C47: arvindgg

Sheet Takta_A
B2: =Info_1!E31 -> बृहन्मुंबई महानगरपालिका - शिक्षण विभाग
B3: कक्षा : | D3: =Info_1!D13 -> 6 | E3: सातत्यपूर्ण सर्वंकष मूल्यमापन | P3: - | Q3: 2 | S3: तक्ता - अ | AB3: शैक्षणिक वर्ष: | AG3: =Info_1!G9 -> 2024 - 25 | AY3: माध्यम : | BD3: =Info_1!G7 -> Hindi
B5: शाळा : | D5: =Info_1!D5 -> School Name | S5: इयत्ता : | W5: =Info_1!D13 -> 6 | Z5: तुकडी : | AD5: =Info_1!F13 -> A | AJ5: पट : | AO5: =Info_1!D20 -> 0 | AW5: è | AY5: बालक: | BA5: =Info_1!D16 -> 0 | BD5: कन्या: | BF5: =Info_1!D18 -> 0
B7: UDISE : | D7: =Info_1!D11 -> 27220000000 | H7: URC : | L7: =Info_1!D9 -> 1 | S7: वार्ड : | W7: =Info_1!D7 -> A | AJ7: उपस्थित : | AO7: =Info_1!E20 -> 0 | AW7: è | AY7: बालक: | BA7: =Info_1!E16 -> 0 | BD7: कन्या: | BF7: =Info_1!E18 -> 0
S8: arvindgg74@ | AJ8: अनुपस्थित : | AO8: =Info_1!F20 -> 0 | AY8: बालक : | BA8: =Info_1!F16 -> 0 | BD8: कन्या : | BF8: =Info_1!F18 -> 0
B9: जाति प्रवर्ग | C9: अनु. क्रमांक | D9: hellomitra.blogspot.in | E9: * | F9: विषय | BE9: शाळा सिद्धी में रिपोर्ट Submit के लिए
D10: विद्यार्थ्यांचे नाव | F10: प्रथम भाषा | L10: द्वितीय भाषा (मराठी) | R10: तृतीय भाषा (इंग्रजी) | X10: गणित | AD10: सामान्य विज्ञान | AJ10: सामाजिक शास्त्र | AP10: स्काऊट / गाईड | AV10: कला | AY10: कार्यानुभव | BB10: शा.शि. व आरोग्य
E11: M / F | F11: आकारिक मूल्यमापन गुण | G11: संकलित मूल्यमापन गुण | H11: एकूण मूल्यमापन गुण | J11: अतिरिक्त पूरक मार्गदर्शन पूर्व श्रेणी | K11: अतिरिक्त पूरक मार्गदर्शन नंतरची श्रेणी | L11: आकारिक मूल्यमापन गुण | M11: संकलित मूल्यमापन गुण | N11: एकूण मूल्यमापन गुण | P11: अतिरिक्त पूरक मार्गदर्शन पूर्व श्रेणी | Q11: अतिरिक्त पूरक मार्गदर्शन नंतरची श्रेणी | R11: आकारिक मूल्यमापन गुण | S11: संकलित मूल्यमापन गुण | T11: एकूण मूल्यमापन गुण | V11: अतिरिक्त पूरक मार्गदर्शन पूर्व श्रेणी | W11: अतिरिक्त पूरक मार्गदर्शन नंतरची श्रेणी | X11: आकारिक मूल्यमापन गुण | Y11: संकलित मूल्यमापन गुण | Z11: एकूण मूल्यमापन गुण | AB11: अतिरिक्त पूरक मार्गदर्शन पूर्व श्रेणी | AC11: अतिरिक्त पूरक मार्गदर्शन नंतरची श्रेणी | AD11: आकारिक मूल्यमापन गुण | AE11: संकलित मूल्यमापन गुण | AF11: एकूण मूल्यमापन गुण | AH11: अतिरिक्त पूरक मार्गदर्शन पूर्व श्रेणी | AI11: अतिरिक्त पूरक मार्गदर्शन नंतरची श्रेणी | AJ11: आकारिक मूल्यमापन गुण | AK11: संकलित मूल्यमापन गुण | AL11: एकूण मूल्यमापन गुण | AN11: अतिरिक्त पूरक मार्गदर्शन पूर्व श्रेणी | AO11: अतिरिक्त पूरक मार्गदर्शन नंतरची श्रेणी | AP11: आकारिक मूल्यमापन गुण | AQ11: संकलित मूल्यमापन गुण | AR11: एकूण मूल्यमापन गुण | AT11: अतिरिक्त पूरक मार्गदर्शन पूर्व श्रेणी | AU11: अतिरिक्त पूरक मार्गदर्शन नंतरची श्रेणी | AV11: आकारिक मूल्यमापन गुण | AW11: अतिरिक्त पूरक मार्गदर्शन पूर्व श्रेणी | AX11: अतिरिक्त पूरक मार्गदर्शन नंतरची श्रेणी | AY11: आकारिक मूल्यमापन गुण | AZ11: अतिरिक्त पूरक मार्गदर्शन पूर्व श्रेणी | BA11: अतिरिक्त पूरक मार्गदर्शन नंतरची श्रेणी | BB11: आकारिक मूल्यमापन गुण | BC11: अतिरिक्त पूरक मार्गदर्शन पूर्व श्रेणी | BD11: अतिरिक्त पूरक मार्गदर्शन नंतरची श्रेणी | BE11: कुल योग (सभी विषय) | BF11: प्रतिशत अंक | BG11: श्रेणी
E12: भारांश :) | F12: 50 | G12: 50 | H12: 100 | J12: श्रेणी | L12: =F12 -> 50 | M12: 50 | N12: =H12 -> 100 | P12: श्रेणी | R12: 50 | S12: 50 | T12: 100 | V12: श्रेणी | X12: 50 | Y12: 50 | Z12: =SUM(X12:Y12) -> 100 | AB12: श्रेणी | AD12: =X12 -> 50 | AE12: 50 | AF12: =Z12 -> 100 | AH12: श्रेणी | AJ12: =AD12 -> 50 | AK12: 50 | AL12: =AF12 -> 100 | AN12: श्रेणी | AP12: =AJ12 -> 50 | AQ12: 50 | AR12: =AL12 -> 100 | AT12: श्रेणी | AV12: 100 | AW12: श्रेणी | AY12: 100 | AZ12: श्रेणी | BB12: 100 | BC12: श्रेणी | BE12: =SUM(H12,N12,T12,Z12,AF12,AL12,AR12,AV12,AY12,BB12) -> 1000 | BF12: %
B13: =Info_1!M5 -> 0 | C13: =Info_1!J5 -> 1 | D13: =Info_1!K5 -> 0 | E13: =Info_1!L5 -> 0 | F13: 0 | G13: 0 | H13: =SUM(F13:G13) -> 0 | J13: =IF(H13>=91,"अ-1", IF(H13>=81,"अ-2", IF(H13>=71,"ब-1", IF(H13>=61,"ब-2", IF(H13>=51,"क-1", IF(H13>=41,"क-2", IF(H13>=33,"ड", IF(H13>=21,"ई-1", IF(H13<=20, "ई-2" ))))))))) -> ई-2 | L13: 0 | M13: 0 | N13: =SUM(L13:M13) -> 0 | P13: =IF(N13>=91,"अ-1", IF(N13>=81,"अ-2", IF(N13>=71,"ब-1", IF(N13>=61,"ब-2", IF(N13>=51,"क-1", IF(N13>=41,"क-2", IF(N13>=33,"ड", IF(N13>=21,"ई-1", IF(N13<=20, "ई-2" ))))))))) -> ई-2 | R13: 0 | S13: 0 | T13: =SUM(R13:S13) -> 0 | V13: =IF(T13>=91,"अ-1", IF(T13>=81,"अ-2", IF(T13>=71,"ब-1", IF(T13>=61,"ब-2", IF(T13>=51,"क-1", IF(T13>=41,"क-2", IF(T13>=33,"ड", IF(T13>=21,"ई-1", IF(T13<=20, "ई-2" ))))))))) -> ई-2 | X13: 0 | Y13: 0 | Z13: =SUM(X13:Y13) -> 0 | AB13: =IF(Z13>=91,"अ-1", IF(Z13>=81,"अ-2", IF(Z13>=71,"ब-1", IF(Z13>=61,"ब-2", IF(Z13>=51,"क-1", IF(Z13>=41,"क-2", IF(Z13>=33,"ड", IF(Z13>=21,"ई-1", IF(Z13<=20, "ई-2" ))))))))) -> ई-2 | AD13: 0 | AE13: 0 | AF13: =SUM(AD13:AE13) -> 0 | AH13: =IF(AF13>=91,"अ-1", IF(AF13>=81,"अ-2", IF(AF13>=71,"ब-1", IF(AF13>=61,"ब-2", IF(AF13>=51,"क-1", IF(AF13>=41,"क-2", IF(AF13>=33,"ड", IF(AF13>=21,"ई-1", IF(AF13<=20, "ई-2" ))))))))) -> ई-2 | AJ13: 0 | AK13: 0 | AL13: =SUM(AJ13:AK13) -> 0 | AN13: =IF(AL13>=91,"अ-1", IF(AL13>=81,"अ-2", IF(AL13>=71,"ब-1", IF(AL13>=61,"ब-2", IF(AL13>=51,"क-1", IF(AL13>=41,"क-2", IF(AL13>=33,"ड", IF(AL13>=21,"ई-1", IF(AL13<=20, "ई-2" ))))))))) -> ई-2 | AP13: 0 | AQ13: 0 | AR13: =SUM(AP13:AQ13) -> 0 | AT13: =IF(AR13>=91,"अ-1", IF(AR13>=81,"अ-2", IF(AR13>=71,"ब-1", IF(AR13>=61,"ब-2", IF(AR13>=51,"क-1", IF(AR13>=41,"क-2", IF(AR13>=33,"ड", IF(AR13>=21,"ई-1", IF(AR13<=20, "ई-2" ))))))))) -> ई-2 | AV13: 0 | AW13: =IF(AV13>=91,"अ-1", IF(AV13>=81,"अ-2", IF(AV13>=71,"ब-1", IF(AV13>=61,"ब-2", IF(AV13>=51,"क-1", IF(AV13>=41,"क-2", IF(AV13>=33,"ड", IF(AV13>=21,"ई-1", IF(AV13<=20, "ई-2" ))))))))) -> ई-2 | AY13: 0 | AZ13: =IF(AY13>=91,"अ-1", IF(AY13>=81,"अ-2", IF(AY13>=71,"ब-1", IF(AY13>=61,"ब-2", IF(AY13>=51,"क-1", IF(AY13>=41,"क-2", IF(AY13>=33,"ड", IF(AY13>=21,"ई-1", IF(AY13<=20, "ई-2" ))))))))) -> ई-2 | BB13: 0 | BC13: =IF(BB13>=91,"अ-1", IF(BB13>=81,"अ-2", IF(BB13>=71,"ब-1", IF(BB13>=61,"ब-2", IF(BB13>=51,"क-1", IF(BB13>=41,"क-2", IF(BB13>=33,"ड", IF(BB13>=21,"ई-1", IF(BB13<=20, "ई-2" ))))))))) -> ई-2 | BE13: =SUM(H13,N13,T13,Z13,AF13,AL13,AR13,AV13,AY13,BB13) -> 0 | BF13: =SUM(BE13*100)/BE12 -> 0 | BG13: =IF(BF13>=91,"अ-1", IF(BF13>=81,"अ-2", IF(BF13>=71,"ब-1", IF(BF13>=61,"ब-2", IF(BF13>=51,"क-1", IF(BF13>=41,"क-2", IF(BF13>=33,"ड", IF(BF13>=21,"ई-1", IF(BF13>=0, "ई-2" ))))))))) -> ई-2
B14: =Info_1!M6 -> 0 | C14: =Info_1!J6 -> 0 | D14: =Info_1!K6 -> 0 | E14: =Info_1!L6 -> 0 | F14: 0 | G14: 0 | H14: =SUM(F14:G14) -> 0 | J14: =IF(H14>=91,"अ-1", IF(H14>=81,"अ-2", IF(H14>=71,"ब-1", IF(H14>=61,"ब-2", IF(H14>=51,"क-1", IF(H14>=41,"क-2", IF(H14>=33,"ड", IF(H14>=21,"ई-1", IF(H14<=20, "ई-2" ))))))))) -> ई-2 | L14: 0 | M14: 0 | N14: =SUM(L14:M14) -> 0 | P14: =IF(N14>=91,"अ-1", IF(N14>=81,"अ-2", IF(N14>=71,"ब-1", IF(N14>=61,"ब-2", IF(N14>=51,"क-1", IF(N14>=41,"क-2", IF(N14>=33,"ड", IF(N14>=21,"ई-1", IF(N14<=20, "ई-2" ))))))))) -> ई-2 | R14: 0 | S14: 0 | T14: =SUM(R14:S14) -> 0 | V14: =IF(T14>=91,"अ-1", IF(T14>=81,"अ-2", IF(T14>=71,"ब-1", IF(T14>=61,"ब-2", IF(T14>=51,"क-1", IF(T14>=41,"क-2", IF(T14>=33,"ड", IF(T14>=21,"ई-1", IF(T14<=20, "ई-2" ))))))))) -> ई-2 | X14: 0 | Y14: 0 | Z14: =SUM(X14:Y14) -> 0 | AB14: =IF(Z14>=91,"अ-1", IF(Z14>=81,"अ-2", IF(Z14>=71,"ब-1", IF(Z14>=61,"ब-2", IF(Z14>=51,"क-1", IF(Z14>=41,"क-2", IF(Z14>=33,"ड", IF(Z14>=21,"ई-1", IF(Z14<=20, "ई-2" ))))))))) -> ई-2 | AD14: 0 | AE14: 0 | AF14: =SUM(AD14:AE14) -> 0 | AH14: =IF(AF14>=91,"अ-1", IF(AF14>=81,"अ-2", IF(AF14>=71,"ब-1", IF(AF14>=61,"ब-2", IF(AF14>=51,"क-1", IF(AF14>=41,"क-2", IF(AF14>=33,"ड", IF(AF14>=21,"ई-1", IF(AF14<=20, "ई-2" ))))))))) -> ई-2 | AJ14: 0 | AK14: 0 | AL14: =SUM(AJ14:AK14) -> 0 | AN14: =IF(AL14>=91,"अ-1", IF(AL14>=81,"अ-2", IF(AL14>=71,"ब-1", IF(AL14>=61,"ब-2", IF(AL14>=51,"क-1", IF(AL14>=41,"क-2", IF(AL14>=33,"ड", IF(AL14>=21,"ई-1", IF(AL14<=20, "ई-2" ))))))))) -> ई-2 | AP14: 0 | AQ14: 0 | AR14: =SUM(AP14:AQ14) -> 0 | AT14: =IF(AR14>=91,"अ-1", IF(AR14>=81,"अ-2", IF(AR14>=71,"ब-1", IF(AR14>=61,"ब-2", IF(AR14>=51,"क-1", IF(AR14>=41,"क-2", IF(AR14>=33,"ड", IF(AR14>=21,"ई-1", IF(AR14<=20, "ई-2" ))))))))) -> ई-2 | AV14: 0 | AW14: =IF(AV14>=91,"अ-1", IF(AV14>=81,"अ-2", IF(AV14>=71,"ब-1", IF(AV14>=61,"ब-2", IF(AV14>=51,"क-1", IF(AV14>=41,"क-2", IF(AV14>=33,"ड", IF(AV14>=21,"ई-1", IF(AV14<=20, "ई-2" ))))))))) -> ई-2 | AY14: 0 | AZ14: =IF(AY14>=91,"अ-1", IF(AY14>=81,"अ-2", IF(AY14>=71,"ब-1", IF(AY14>=61,"ब-2", IF(AY14>=51,"क-1", IF(AY14>=41,"क-2", IF(AY14>=33,"ड", IF(AY14>=21,"ई-1", IF(AY14<=20, "ई-2" ))))))))) -> ई-2 | BB14: 0 | BC14: =IF(BB14>=91,"अ-1", IF(BB14>=81,"अ-2", IF(BB14>=71,"ब-1", IF(BB14>=61,"ब-2", IF(BB14>=51,"क-1", IF(BB14>=41,"क-2", IF(BB14>=33,"ड", IF(BB14>=21,"ई-1", IF(BB14<=20, "ई-2" ))))))))) -> ई-2 | BE14: =SUM(H14,N14,T14,Z14,AF14,AL14,AR14,AV14,AY14,BB14) -> 0 | BF14: =SUM(BE14*100)/BE12 -> 0 | BG14: =IF(BF14>=91,"अ-1", IF(BF14>=81,"अ-2", IF(BF14>=71,"ब-1", IF(BF14>=61,"ब-2", IF(BF14>=51,"क-1", IF(BF14>=41,"क-2", IF(BF14>=33,"ड", IF(BF14>=21,"ई-1", IF(BF14>=0, "ई-2" ))))))))) -> ई-2
B15: =Info_1!M7 -> 0 | C15: =Info_1!J7 -> 0 | D15: =Info_1!K7 -> 0 | E15: =Info_1!L7 -> 0 | F15: 0 | G15: 0 | H15: =SUM(F15:G15) -> 0 | J15: =IF(H15>=91,"अ-1", IF(H15>=81,"अ-2", IF(H15>=71,"ब-1", IF(H15>=61,"ब-2", IF(H15>=51,"क-1", IF(H15>=41,"क-2", IF(H15>=33,"ड", IF(H15>=21,"ई-1", IF(H15<=20, "ई-2" ))))))))) -> ई-2 | L15: 0 | M15: 0 | N15: =SUM(L15:M15) -> 0 | P15: =IF(N15>=91,"अ-1", IF(N15>=81,"अ-2", IF(N15>=71,"ब-1", IF(N15>=61,"ब-2", IF(N15>=51,"क-1", IF(N15>=41,"क-2", IF(N15>=33,"ड", IF(N15>=21,"ई-1", IF(N15<=20, "ई-2" ))))))))) -> ई-2 | R15: 0 | S15: 0 | T15: =SUM(R15:S15) -> 0 | V15: =IF(T15>=91,"अ-1", IF(T15>=81,"अ-2", IF(T15>=71,"ब-1", IF(T15>=61,"ब-2", IF(T15>=51,"क-1", IF(T15>=41,"क-2", IF(T15>=33,"ड", IF(T15>=21,"ई-1", IF(T15<=20, "ई-2" ))))))))) -> ई-2 | X15: 0 | Y15: 0 | Z15: =SUM(X15:Y15) -> 0 | AB15: =IF(Z15>=91,"अ-1", IF(Z15>=81,"अ-2", IF(Z15>=71,"ब-1", IF(Z15>=61,"ब-2", IF(Z15>=51,"क-1", IF(Z15>=41,"क-2", IF(Z15>=33,"ड", IF(Z15>=21,"ई-1", IF(Z15<=20, "ई-2" ))))))))) -> ई-2 | AD15: 0 | AE15: 0 | AF15: =SUM(AD15:AE15) -> 0 | AH15: =IF(AF15>=91,"अ-1", IF(AF15>=81,"अ-2", IF(AF15>=71,"ब-1", IF(AF15>=61,"ब-2", IF(AF15>=51,"क-1", IF(AF15>=41,"क-2", IF(AF15>=33,"ड", IF(AF15>=21,"ई-1", IF(AF15<=20, "ई-2" ))))))))) -> ई-2 | AJ15: 0 | AK15: 0 | AL15: =SUM(AJ15:AK15) -> 0 | AN15: =IF(AL15>=91,"अ-1", IF(AL15>=81,"अ-2", IF(AL15>=71,"ब-1", IF(AL15>=61,"ब-2", IF(AL15>=51,"क-1", IF(AL15>=41,"क-2", IF(AL15>=33,"ड", IF(AL15>=21,"ई-1", IF(AL15<=20, "ई-2" ))))))))) -> ई-2 | AP15: 0 | AQ15: 0 | AR15: =SUM(AP15:AQ15) -> 0 | AT15: =IF(AR15>=91,"अ-1", IF(AR15>=81,"अ-2", IF(AR15>=71,"ब-1", IF(AR15>=61,"ब-2", IF(AR15>=51,"क-1", IF(AR15>=41,"क-2", IF(AR15>=33,"ड", IF(AR15>=21,"ई-1", IF(AR15<=20, "ई-2" ))))))))) -> ई-2 | AV15: 0 | AW15: =IF(AV15>=91,"अ-1", IF(AV15>=81,"अ-2", IF(AV15>=71,"ब-1", IF(AV15>=61,"ब-2", IF(AV15>=51,"क-1", IF(AV15>=41,"क-2", IF(AV15>=33,"ड", IF(AV15>=21,"ई-1", IF(AV15<=20, "ई-2" ))))))))) -> ई-2 | AY15: 0 | AZ15: =IF(AY15>=91,"अ-1", IF(AY15>=81,"अ-2", IF(AY15>=71,"ब-1", IF(AY15>=61,"ब-2", IF(AY15>=51,"क-1", IF(AY15>=41,"क-2", IF(AY15>=33,"ड", IF(AY15>=21,"ई-1", IF(AY15<=20, "ई-2" ))))))))) -> ई-2 | BB15: 0 | BC15: =IF(BB15>=91,"अ-1", IF(BB15>=81,"अ-2", IF(BB15>=71,"ब-1", IF(BB15>=61,"ब-2", IF(BB15>=51,"क-1", IF(BB15>=41,"क-2", IF(BB15>=33,"ड", IF(BB15>=21,"ई-1", IF(BB15<=20, "ई-2" ))))))))) -> ई-2 | BE15: =SUM(H15,N15,T15,Z15,AF15,AL15,AR15,AV15,AY15,BB15) -> 0 | BF15: =SUM(BE15*100)/BE12 -> 0 | BG15: =IF(BF15>=91,"अ-1", IF(BF15>=81,"अ-2", IF(BF15>=71,"ब-1", IF(BF15>=61,"ब-2", IF(BF15>=51,"क-1", IF(BF15>=41,"क-2", IF(BF15>=33,"ड", IF(BF15>=21,"ई-1", IF(BF15>=0, "ई-2" ))))))))) -> ई-2
B16: =Info_1!M8 -> 0 | C16: =Info_1!J8 -> 0 | D16: =Info_1!K8 -> 0 | E16: =Info_1!L8 -> 0 | F16: 0 | G16: 0 | H16: =SUM(F16:G16) -> 0 | J16: =IF(H16>=91,"अ-1", IF(H16>=81,"अ-2", IF(H16>=71,"ब-1", IF(H16>=61,"ब-2", IF(H16>=51,"क-1", IF(H16>=41,"क-2", IF(H16>=33,"ड", IF(H16>=21,"ई-1", IF(H16<=20, "ई-2" ))))))))) -> ई-2 | L16: 0 | M16: 0 | N16: =SUM(L16:M16) -> 0 | P16: =IF(N16>=91,"अ-1", IF(N16>=81,"अ-2", IF(N16>=71,"ब-1", IF(N16>=61,"ब-2", IF(N16>=51,"क-1", IF(N16>=41,"क-2", IF(N16>=33,"ड", IF(N16>=21,"ई-1", IF(N16<=20, "ई-2" ))))))))) -> ई-2 | R16: 0 | S16: 0 | T16: =SUM(R16:S16) -> 0 | V16: =IF(T16>=91,"अ-1", IF(T16>=81,"अ-2", IF(T16>=71,"ब-1", IF(T16>=61,"ब-2", IF(T16>=51,"क-1", IF(T16>=41,"क-2", IF(T16>=33,"ड", IF(T16>=21,"ई-1", IF(T16<=20, "ई-2" ))))))))) -> ई-2 | X16: 0 | Y16: 0 | Z16: =SUM(X16:Y16) -> 0 | AB16: =IF(Z16>=91,"अ-1", IF(Z16>=81,"अ-2", IF(Z16>=71,"ब-1", IF(Z16>=61,"ब-2", IF(Z16>=51,"क-1", IF(Z16>=41,"क-2", IF(Z16>=33,"ड", IF(Z16>=21,"ई-1", IF(Z16<=20, "ई-2" ))))))))) -> ई-2 | AD16: 0 | AE16: 0 | AF16: =SUM(AD16:AE16) -> 0 | AH16: =IF(AF16>=91,"अ-1", IF(AF16>=81,"अ-2", IF(AF16>=71,"ब-1", IF(AF16>=61,"ब-2", IF(AF16>=51,"क-1", IF(AF16>=41,"क-2", IF(AF16>=33,"ड", IF(AF16>=21,"ई-1", IF(AF16<=20, "ई-2" ))))))))) -> ई-2 | AJ16: 0 | AK16: 0 | AL16: =SUM(AJ16:AK16) -> 0 | AN16: =IF(AL16>=91,"अ-1", IF(AL16>=81,"अ-2", IF(AL16>=71,"ब-1", IF(AL16>=61,"ब-2", IF(AL16>=51,"क-1", IF(AL16>=41,"क-2", IF(AL16>=33,"ड", IF(AL16>=21,"ई-1", IF(AL16<=20, "ई-2" ))))))))) -> ई-2 | AP16: 0 | AQ16: 0 | AR16: =SUM(AP16:AQ16) -> 0 | AT16: =IF(AR16>=91,"अ-1", IF(AR16>=81,"अ-2", IF(AR16>=71,"ब-1", IF(AR16>=61,"ब-2", IF(AR16>=51,"क-1", IF(AR16>=41,"क-2", IF(AR16>=33,"ड", IF(AR16>=21,"ई-1", IF(AR16<=20, "ई-2" ))))))))) -> ई-2 | AV16: 0 | AW16: =IF(AV16>=91,"अ-1", IF(AV16>=81,"अ-2", IF(AV16>=71,"ब-1", IF(AV16>=61,"ब-2", IF(AV16>=51,"क-1", IF(AV16>=41,"क-2", IF(AV16>=33,"ड", IF(AV16>=21,"ई-1", IF(AV16<=20, "ई-2" ))))))))) -> ई-2 | AY16: 0 | AZ16: =IF(AY16>=91,"अ-1", IF(AY16>=81,"अ-2", IF(AY16>=71,"ब-1", IF(AY16>=61,"ब-2", IF(AY16>=51,"क-1", IF(AY16>=41,"क-2", IF(AY16>=33,"ड", IF(AY16>=21,"ई-1", IF(AY16<=20, "ई-2" ))))))))) -> ई-2 | BB16: 0 | BC16: =IF(BB16>=91,"अ-1", IF(BB16>=81,"अ-2", IF(BB16>=71,"ब-1", IF(BB16>=61,"ब-2", IF(BB16>=51,"क-1", IF(BB16>=41,"क-2", IF(BB16>=33,"ड", IF(BB16>=21,"ई-1", IF(BB16<=20, "ई-2" ))))))))) -> ई-2 | BE16: =SUM(H16,N16,T16,Z16,AF16,AL16,AR16,AV16,AY16,BB16) -> 0 | BF16: =SUM(BE16*100)/BE12 -> 0 | BG16: =IF(BF16>=91,"अ-1", IF(BF16>=81,"अ-2", IF(BF16>=71,"ब-1", IF(BF16>=61,"ब-2", IF(BF16>=51,"क-1", IF(BF16>=41,"क-2", IF(BF16>=33,"ड", IF(BF16>=21,"ई-1", IF(BF16>=0, "ई-2" ))))))))) -> ई-2
B17: =Info_1!M9 -> 0 | C17: =Info_1!J9 -> 0 | D17: =Info_1!K9 -> 0 | E17: =Info_1!L9 -> 0 | F17: 0 | G17: 0 | H17: =SUM(F17:G17) -> 0 | J17: =IF(H17>=91,"अ-1", IF(H17>=81,"अ-2", IF(H17>=71,"ब-1", IF(H17>=61,"ब-2", IF(H17>=51,"क-1", IF(H17>=41,"क-2", IF(H17>=33,"ड", IF(H17>=21,"ई-1", IF(H17<=20, "ई-2" ))))))))) -> ई-2 | L17: 0 | M17: 0 | N17: =SUM(L17:M17) -> 0 | P17: =IF(N17>=91,"अ-1", IF(N17>=81,"अ-2", IF(N17>=71,"ब-1", IF(N17>=61,"ब-2", IF(N17>=51,"क-1", IF(N17>=41,"क-2", IF(N17>=33,"ड", IF(N17>=21,"ई-1", IF(N17<=20, "ई-2" ))))))))) -> ई-2 | R17: 0 | S17: 0 | T17: =SUM(R17:S17) -> 0 | V17: =IF(T17>=91,"अ-1", IF(T17>=81,"अ-2", IF(T17>=71,"ब-1", IF(T17>=61,"ब-2", IF(T17>=51,"क-1", IF(T17>=41,"क-2", IF(T17>=33,"ड", IF(T17>=21,"ई-1", IF(T17<=20, "ई-2" ))))))))) -> ई-2 | X17: 0 | Y17: 0 | Z17: =SUM(X17:Y17) -> 0 | AB17: =IF(Z17>=91,"अ-1", IF(Z17>=81,"अ-2", IF(Z17>=71,"ब-1", IF(Z17>=61,"ब-2", IF(Z17>=51,"क-1", IF(Z17>=41,"क-2", IF(Z17>=33,"ड", IF(Z17>=21,"ई-1", IF(Z17<=20, "ई-2" ))))))))) -> ई-2 | AD17: 0 | AE17: 0 | AF17: =SUM(AD17:AE17) -> 0 | AH17: =IF(AF17>=91,"अ-1", IF(AF17>=81,"अ-2", IF(AF17>=71,"ब-1", IF(AF17>=61,"ब-2", IF(AF17>=51,"क-1", IF(AF17>=41,"क-2", IF(AF17>=33,"ड", IF(AF17>=21,"ई-1", IF(AF17<=20, "ई-2" ))))))))) -> ई-2 | AJ17: 0 | AK17: 0 | AL17: =SUM(AJ17:AK17) -> 0 | AN17: =IF(AL17>=91,"अ-1", IF(AL17>=81,"अ-2", IF(AL17>=71,"ब-1", IF(AL17>=61,"ब-2", IF(AL17>=51,"क-1", IF(AL17>=41,"क-2", IF(AL17>=33,"ड", IF(AL17>=21,"ई-1", IF(AL17<=20, "ई-2" ))))))))) -> ई-2 | AP17: 0 | AQ17: 0 | AR17: =SUM(AP17:AQ17) -> 0 | AT17: =IF(AR17>=91,"अ-1", IF(AR17>=81,"अ-2", IF(AR17>=71,"ब-1", IF(AR17>=61,"ब-2", IF(AR17>=51,"क-1", IF(AR17>=41,"क-2", IF(AR17>=33,"ड", IF(AR17>=21,"ई-1", IF(AR17<=20, "ई-2" ))))))))) -> ई-2 | AV17: 0 | AW17: =IF(AV17>=91,"अ-1", IF(AV17>=81,"अ-2", IF(AV17>=71,"ब-1", IF(AV17>=61,"ब-2", IF(AV17>=51,"क-1", IF(AV17>=41,"क-2", IF(AV17>=33,"ड", IF(AV17>=21,"ई-1", IF(AV17<=20, "ई-2" ))))))))) -> ई-2 | AY17: 0 | AZ17: =IF(AY17>=91,"अ-1", IF(AY17>=81,"अ-2", IF(AY17>=71,"ब-1", IF(AY17>=61,"ब-2", IF(AY17>=51,"क-1", IF(AY17>=41,"क-2", IF(AY17>=33,"ड", IF(AY17>=21,"ई-1", IF(AY17<=20, "ई-2" ))))))))) -> ई-2 | BB17: 0 | BC17: =IF(BB17>=91,"अ-1", IF(BB17>=81,"अ-2", IF(BB17>=71,"ब-1", IF(BB17>=61,"ब-2", IF(BB17>=51,"क-1", IF(BB17>=41,"क-2", IF(BB17>=33,"ड", IF(BB17>=21,"ई-1", IF(BB17<=20, "ई-2" ))))))))) -> ई-2 | BE17: =SUM(H17,N17,T17,Z17,AF17,AL17,AR17,AV17,AY17,BB17) -> 0 | BF17: =SUM(BE17*100)/BE12 -> 0 | BG17: =IF(BF17>=91,"अ-1", IF(BF17>=81,"अ-2", IF(BF17>=71,"ब-1", IF(BF17>=61,"ब-2", IF(BF17>=51,"क-1", IF(BF17>=41,"क-2", IF(BF17>=33,"ड", IF(BF17>=21,"ई-1", IF(BF17>=0, "ई-2" ))))))))) -> ई-2
B18: =Info_1!M10 -> 0 | C18: =Info_1!J10 -> 0 | D18: =Info_1!K10 -> 0 | E18: =Info_1!L10 -> 0 | F18: 0 | G18: 0 | H18: =SUM(F18:G18) -> 0 | J18: =IF(H18>=91,"अ-1", IF(H18>=81,"अ-2", IF(H18>=71,"ब-1", IF(H18>=61,"ब-2", IF(H18>=51,"क-1", IF(H18>=41,"क-2", IF(H18>=33,"ड", IF(H18>=21,"ई-1", IF(H18<=20, "ई-2" ))))))))) -> ई-2 | L18: 0 | M18: 0 | N18: =SUM(L18:M18) -> 0 | P18: =IF(N18>=91,"अ-1", IF(N18>=81,"अ-2", IF(N18>=71,"ब-1", IF(N18>=61,"ब-2", IF(N18>=51,"क-1", IF(N18>=41,"क-2", IF(N18>=33,"ड", IF(N18>=21,"ई-1", IF(N18<=20, "ई-2" ))))))))) -> ई-2 | R18: 0 | S18: 0 | T18: =SUM(R18:S18) -> 0 | V18: =IF(T18>=91,"अ-1", IF(T18>=81,"अ-2", IF(T18>=71,"ब-1", IF(T18>=61,"ब-2", IF(T18>=51,"क-1", IF(T18>=41,"क-2", IF(T18>=33,"ड", IF(T18>=21,"ई-1", IF(T18<=20, "ई-2" ))))))))) -> ई-2 | X18: 0 | Y18: 0 | Z18: =SUM(X18:Y18) -> 0 | AB18: =IF(Z18>=91,"अ-1", IF(Z18>=81,"अ-2", IF(Z18>=71,"ब-1", IF(Z18>=61,"ब-2", IF(Z18>=51,"क-1", IF(Z18>=41,"क-2", IF(Z18>=33,"ड", IF(Z18>=21,"ई-1", IF(Z18<=20, "ई-2" ))))))))) -> ई-2 | AD18: 0 | AE18: 0 | AF18: =SUM(AD18:AE18) -> 0 | AH18: =IF(AF18>=91,"अ-1", IF(AF18>=81,"अ-2", IF(AF18>=71,"ब-1", IF(AF18>=61,"ब-2", IF(AF18>=51,"क-1", IF(AF18>=41,"क-2", IF(AF18>=33,"ड", IF(AF18>=21,"ई-1", IF(AF18<=20, "ई-2" ))))))))) -> ई-2 | AJ18: 0 | AK18: 0 | AL18: =SUM(AJ18:AK18) -> 0 | AN18: =IF(AL18>=91,"अ-1", IF(AL18>=81,"अ-2", IF(AL18>=71,"ब-1", IF(AL18>=61,"ब-2", IF(AL18>=51,"क-1", IF(AL18>=41,"क-2", IF(AL18>=33,"ड", IF(AL18>=21,"ई-1", IF(AL18<=20, "ई-2" ))))))))) -> ई-2 | AP18: 0 | AQ18: 0 | AR18: =SUM(AP18:AQ18) -> 0 | AT18: =IF(AR18>=91,"अ-1", IF(AR18>=81,"अ-2", IF(AR18>=71,"ब-1", IF(AR18>=61,"ब-2", IF(AR18>=51,"क-1", IF(AR18>=41,"क-2", IF(AR18>=33,"ड", IF(AR18>=21,"ई-1", IF(AR18<=20, "ई-2" ))))))))) -> ई-2 | AV18: 0 | AW18: =IF(AV18>=91,"अ-1", IF(AV18>=81,"अ-2", IF(AV18>=71,"ब-1", IF(AV18>=61,"ब-2", IF(AV18>=51,"क-1", IF(AV18>=41,"क-2", IF(AV18>=33,"ड", IF(AV18>=21,"ई-1", IF(AV18<=20, "ई-2" ))))))))) -> ई-2 | AY18: 0 | AZ18: =IF(AY18>=91,"अ-1", IF(AY18>=81,"अ-2", IF(AY18>=71,"ब-1", IF(AY18>=61,"ब-2", IF(AY18>=51,"क-1", IF(AY18>=41,"क-2", IF(AY18>=33,"ड", IF(AY18>=21,"ई-1", IF(AY18<=20, "ई-2" ))))))))) -> ई-2 | BB18: 0 | BC18: =IF(BB18>=91,"अ-1", IF(BB18>=81,"अ-2", IF(BB18>=71,"ब-1", IF(BB18>=61,"ब-2", IF(BB18>=51,"क-1", IF(BB18>=41,"क-2", IF(BB18>=33,"ड", IF(BB18>=21,"ई-1", IF(BB18<=20, "ई-2" ))))))))) -> ई-2 | BE18: =SUM(H18,N18,T18,Z18,AF18,AL18,AR18,AV18,AY18,BB18) -> 0 | BF18: =SUM(BE18*100)/BE12 -> 0 | BG18: =IF(BF18>=91,"अ-1", IF(BF18>=81,"अ-2", IF(BF18>=71,"ब-1", IF(BF18>=61,"ब-2", IF(BF18>=51,"क-1", IF(BF18>=41,"क-2", IF(BF18>=33,"ड", IF(BF18>=21,"ई-1", IF(BF18>=0, "ई-2" ))))))))) -> ई-2
B19: =Info_1!M11 -> 0 | C19: =Info_1!J11 -> 0 | D19: =Info_1!K11 -> 0 | E19: =Info_1!L11 -> 0 | F19: 0 | G19: 0 | H19: =SUM(F19:G19) -> 0 | J19: =IF(H19>=91,"अ-1", IF(H19>=81,"अ-2", IF(H19>=71,"ब-1", IF(H19>=61,"ब-2", IF(H19>=51,"क-1", IF(H19>=41,"क-2", IF(H19>=33,"ड", IF(H19>=21,"ई-1", IF(H19<=20, "ई-2" ))))))))) -> ई-2 | L19: 0 | M19: 0 | N19: =SUM(L19:M19) -> 0 | P19: =IF(N19>=91,"अ-1", IF(N19>=81,"अ-2", IF(N19>=71,"ब-1", IF(N19>=61,"ब-2", IF(N19>=51,"क-1", IF(N19>=41,"क-2", IF(N19>=33,"ड", IF(N19>=21,"ई-1", IF(N19<=20, "ई-2" ))))))))) -> ई-2 | R19: 0 | S19: 0 | T19: =SUM(R19:S19) -> 0 | V19: =IF(T19>=91,"अ-1", IF(T19>=81,"अ-2", IF(T19>=71,"ब-1", IF(T19>=61,"ब-2", IF(T19>=51,"क-1", IF(T19>=41,"क-2", IF(T19>=33,"ड", IF(T19>=21,"ई-1", IF(T19<=20, "ई-2" ))))))))) -> ई-2 | X19: 0 | Y19: 0 | Z19: =SUM(X19:Y19) -> 0 | AB19: =IF(Z19>=91,"अ-1", IF(Z19>=81,"अ-2", IF(Z19>=71,"ब-1", IF(Z19>=61,"ब-2", IF(Z19>=51,"क-1", IF(Z19>=41,"क-2", IF(Z19>=33,"ड", IF(Z19>=21,"ई-1", IF(Z19<=20, "ई-2" ))))))))) -> ई-2 | AD19: 0 | AE19: 0 | AF19: =SUM(AD19:AE19) -> 0 | AH19: =IF(AF19>=91,"अ-1", IF(AF19>=81,"अ-2", IF(AF19>=71,"ब-1", IF(AF19>=61,"ब-2", IF(AF19>=51,"क-1", IF(AF19>=41,"क-2", IF(AF19>=33,"ड", IF(AF19>=21,"ई-1", IF(AF19<=20, "ई-2" ))))))))) -> ई-2 | AJ19: 0 | AK19: 0 | AL19: =SUM(AJ19:AK19) -> 0 | AN19: =IF(AL19>=91,"अ-1", IF(AL19>=81,"अ-2", IF(AL19>=71,"ब-1", IF(AL19>=61,"ब-2", IF(AL19>=51,"क-1", IF(AL19>=41,"क-2", IF(AL19>=33,"ड", IF(AL19>=21,"ई-1", IF(AL19<=20, "ई-2" ))))))))) -> ई-2 | AP19: 0 | AQ19: 0 | AR19: =SUM(AP19:AQ19) -> 0 | AT19: =IF(AR19>=91,"अ-1", IF(AR19>=81,"अ-2", IF(AR19>=71,"ब-1", IF(AR19>=61,"ब-2", IF(AR19>=51,"क-1", IF(AR19>=41,"क-2", IF(AR19>=33,"ड", IF(AR19>=21,"ई-1", IF(AR19<=20, "ई-2" ))))))))) -> ई-2 | AV19: 0 | AW19: =IF(AV19>=91,"अ-1", IF(AV19>=81,"अ-2", IF(AV19>=71,"ब-1", IF(AV19>=61,"ब-2", IF(AV19>=51,"क-1", IF(AV19>=41,"क-2", IF(AV19>=33,"ड", IF(AV19>=21,"ई-1", IF(AV19<=20, "ई-2" ))))))))) -> ई-2 | AY19: 0 | AZ19: =IF(AY19>=91,"अ-1", IF(AY19>=81,"अ-2", IF(AY19>=71,"ब-1", IF(AY19>=61,"ब-2", IF(AY19>=51,"क-1", IF(AY19>=41,"क-2", IF(AY19>=33,"ड", IF(AY19>=21,"ई-1", IF(AY19<=20, "ई-2" ))))))))) -> ई-2 | BB19: 0 | BC19: =IF(BB19>=91,"अ-1", IF(BB19>=81,"अ-2", IF(BB19>=71,"ब-1", IF(BB19>=61,"ब-2", IF(BB19>=51,"क-1", IF(BB19>=41,"क-2", IF(BB19>=33,"ड", IF(BB19>=21,"ई-1", IF(BB19<=20, "ई-2" ))))))))) -> ई-2 | BE19: =SUM(H19,N19,T19,Z19,AF19,AL19,AR19,AV19,AY19,BB19) -> 0 | BF19: =SUM(BE19*100)/BE12 -> 0 | BG19: =IF(BF19>=91,"अ-1", IF(BF19>=81,"अ-2", IF(BF19>=71,"ब-1", IF(BF19>=61,"ब-2", IF(BF19>=51,"क-1", IF(BF19>=41,"क-2", IF(BF19>=33,"ड", IF(BF19>=21,"ई-1", IF(BF19>=0, "ई-2" ))))))))) -> ई-2
B20: =Info_1!M12 -> 0 | C20: =Info_1!J12 -> 0 | D20: =Info_1!K12 -> 0 | E20: =Info_1!L12 -> 0 | F20: 0 | G20: 0 | H20: =SUM(F20:G20) -> 0 | J20: =IF(H20>=91,"अ-1", IF(H20>=81,"अ-2", IF(H20>=71,"ब-1", IF(H20>=61,"ब-2", IF(H20>=51,"क-1", IF(H20>=41,"क-2", IF(H20>=33,"ड", IF(H20>=21,"ई-1", IF(H20<=20, "ई-2" ))))))))) -> ई-2 | L20: 0 | M20: 0 | N20: =SUM(L20:M20) -> 0 | P20: =IF(N20>=91,"अ-1", IF(N20>=81,"अ-2", IF(N20>=71,"ब-1", IF(N20>=61,"ब-2", IF(N20>=51,"क-1", IF(N20>=41,"क-2", IF(N20>=33,"ड", IF(N20>=21,"ई-1", IF(N20<=20, "ई-2" ))))))))) -> ई-2 | R20: 0 | S20: 0 | T20: =SUM(R20:S20) -> 0 | V20: =IF(T20>=91,"अ-1", IF(T20>=81,"अ-2", IF(T20>=71,"ब-1", IF(T20>=61,"ब-2", IF(T20>=51,"क-1", IF(T20>=41,"क-2", IF(T20>=33,"ड", IF(T20>=21,"ई-1", IF(T20<=20, "ई-2" ))))))))) -> ई-2 | X20: 0 | Y20: 0 | Z20: =SUM(X20:Y20) -> 0 | AB20: =IF(Z20>=91,"अ-1", IF(Z20>=81,"अ-2", IF(Z20>=71,"ब-1", IF(Z20>=61,"ब-2", IF(Z20>=51,"क-1", IF(Z20>=41,"क-2", IF(Z20>=33,"ड", IF(Z20>=21,"ई-1", IF(Z20<=20, "ई-2" ))))))))) -> ई-2 | AD20: 0 | AE20: 0 | AF20: =SUM(AD20:AE20) -> 0 | AH20: =IF(AF20>=91,"अ-1", IF(AF20>=81,"अ-2", IF(AF20>=71,"ब-1", IF(AF20>=61,"ब-2", IF(AF20>=51,"क-1", IF(AF20>=41,"क-2", IF(AF20>=33,"ड", IF(AF20>=21,"ई-1", IF(AF20<=20, "ई-2" ))))))))) -> ई-2 | AJ20: 0 | AK20: 0 | AL20: =SUM(AJ20:AK20) -> 0 | AN20: =IF(AL20>=91,"अ-1", IF(AL20>=81,"अ-2", IF(AL20>=71,"ब-1", IF(AL20>=61,"ब-2", IF(AL20>=51,"क-1", IF(AL20>=41,"क-2", IF(AL20>=33,"ड", IF(AL20>=21,"ई-1", IF(AL20<=20, "ई-2" ))))))))) -> ई-2 | AP20: 0 | AQ20: 0 | AR20: =SUM(AP20:AQ20) -> 0 | AT20: =IF(AR20>=91,"अ-1", IF(AR20>=81,"अ-2", IF(AR20>=71,"ब-1", IF(AR20>=61,"ब-2", IF(AR20>=51,"क-1", IF(AR20>=41,"क-2", IF(AR20>=33,"ड", IF(AR20>=21,"ई-1", IF(AR20<=20, "ई-2" ))))))))) -> ई-2 | AV20: 0 | AW20: =IF(AV20>=91,"अ-1", IF(AV20>=81,"अ-2", IF(AV20>=71,"ब-1", IF(AV20>=61,"ब-2", IF(AV20>=51,"क-1", IF(AV20>=41,"क-2", IF(AV20>=33,"ड", IF(AV20>=21,"ई-1", IF(AV20<=20, "ई-2" ))))))))) -> ई-2 | AY20: 0 | AZ20: =IF(AY20>=91,"अ-1", IF(AY20>=81,"अ-2", IF(AY20>=71,"ब-1", IF(AY20>=61,"ब-2", IF(AY20>=51,"क-1", IF(AY20>=41,"क-2", IF(AY20>=33,"ड", IF(AY20>=21,"ई-1", IF(AY20<=20, "ई-2" ))))))))) -> ई-2 | BB20: 0 | BC20: =IF(BB20>=91,"अ-1", IF(BB20>=81,"अ-2", IF(BB20>=71,"ब-1", IF(BB20>=61,"ब-2", IF(BB20>=51,"क-1", IF(BB20>=41,"क-2", IF(BB20>=33,"ड", IF(BB20>=21,"ई-1", IF(BB20<=20, "ई-2" ))))))))) -> ई-2 | BE20: =SUM(H20,N20,T20,Z20,AF20,AL20,AR20,AV20,AY20,BB20) -> 0 | BF20: =SUM(BE20*100)/BE12 -> 0 | BG20: =IF(BF20>=91,"अ-1", IF(BF20>=81,"अ-2", IF(BF20>=71,"ब-1", IF(BF20>=61,"ब-2", IF(BF20>=51,"क-1", IF(BF20>=41,"क-2", IF(BF20>=33,"ड", IF(BF20>=21,"ई-1", IF(BF20>=0, "ई-2" ))))))))) -> ई-2
B21: =Info_1!M13 -> 0 | C21: =Info_1!J13 -> 0 | D21: =Info_1!K13 -> 0 | E21: =Info_1!L13 -> 0 | F21: 0 | G21: 0 | H21: =SUM(F21:G21) -> 0 | J21: =IF(H21>=91,"अ-1", IF(H21>=81,"अ-2", IF(H21>=71,"ब-1", IF(H21>=61,"ब-2", IF(H21>=51,"क-1", IF(H21>=41,"क-2", IF(H21>=33,"ड", IF(H21>=21,"ई-1", IF(H21<=20, "ई-2" ))))))))) -> ई-2 | L21: 0 | M21: 0 | N21: =SUM(L21:M21) -> 0 | P21: =IF(N21>=91,"अ-1", IF(N21>=81,"अ-2", IF(N21>=71,"ब-1", IF(N21>=61,"ब-2", IF(N21>=51,"क-1", IF(N21>=41,"क-2", IF(N21>=33,"ड", IF(N21>=21,"ई-1", IF(N21<=20, "ई-2" ))))))))) -> ई-2 | R21: 0 | S21: 0 | T21: =SUM(R21:S21) -> 0 | V21: =IF(T21>=91,"अ-1", IF(T21>=81,"अ-2", IF(T21>=71,"ब-1", IF(T21>=61,"ब-2", IF(T21>=51,"क-1", IF(T21>=41,"क-2", IF(T21>=33,"ड", IF(T21>=21,"ई-1", IF(T21<=20, "ई-2" ))))))))) -> ई-2 | X21: 0 | Y21: 0 | Z21: =SUM(X21:Y21) -> 0 | AB21: =IF(Z21>=91,"अ-1", IF(Z21>=81,"अ-2", IF(Z21>=71,"ब-1", IF(Z21>=61,"ब-2", IF(Z21>=51,"क-1", IF(Z21>=41,"क-2", IF(Z21>=33,"ड", IF(Z21>=21,"ई-1", IF(Z21<=20, "ई-2" ))))))))) -> ई-2 | AD21: 0 | AE21: 0 | AF21: =SUM(AD21:AE21) -> 0 | AH21: =IF(AF21>=91,"अ-1", IF(AF21>=81,"अ-2", IF(AF21>=71,"ब-1", IF(AF21>=61,"ब-2", IF(AF21>=51,"क-1", IF(AF21>=41,"क-2", IF(AF21>=33,"ड", IF(AF21>=21,"ई-1", IF(AF21<=20, "ई-2" ))))))))) -> ई-2 | AJ21: 0 | AK21: 0 | AL21: =SUM(AJ21:AK21) -> 0 | AN21: =IF(AL21>=91,"अ-1", IF(AL21>=81,"अ-2", IF(AL21>=71,"ब-1", IF(AL21>=61,"ब-2", IF(AL21>=51,"क-1", IF(AL21>=41,"क-2", IF(AL21>=33,"ड", IF(AL21>=21,"ई-1", IF(AL21<=20, "ई-2" ))))))))) -> ई-2 | AP21: 0 | AQ21: 0 | AR21: =SUM(AP21:AQ21) -> 0 | AT21: =IF(AR21>=91,"अ-1", IF(AR21>=81,"अ-2", IF(AR21>=71,"ब-1", IF(AR21>=61,"ब-2", IF(AR21>=51,"क-1", IF(AR21>=41,"क-2", IF(AR21>=33,"ड", IF(AR21>=21,"ई-1", IF(AR21<=20, "ई-2" ))))))))) -> ई-2 | AV21: 0 | AW21: =IF(AV21>=91,"अ-1", IF(AV21>=81,"अ-2", IF(AV21>=71,"ब-1", IF(AV21>=61,"ब-2", IF(AV21>=51,"क-1", IF(AV21>=41,"क-2", IF(AV21>=33,"ड", IF(AV21>=21,"ई-1", IF(AV21<=20, "ई-2" ))))))))) -> ई-2 | AY21: 0 | AZ21: =IF(AY21>=91,"अ-1", IF(AY21>=81,"अ-2", IF(AY21>=71,"ब-1", IF(AY21>=61,"ब-2", IF(AY21>=51,"क-1", IF(AY21>=41,"क-2", IF(AY21>=33,"ड", IF(AY21>=21,"ई-1", IF(AY21<=20, "ई-2" ))))))))) -> ई-2 | BB21: 0 | BC21: =IF(BB21>=91,"अ-1", IF(BB21>=81,"अ-2", IF(BB21>=71,"ब-1", IF(BB21>=61,"ब-2", IF(BB21>=51,"क-1", IF(BB21>=41,"क-2", IF(BB21>=33,"ड", IF(BB21>=21,"ई-1", IF(BB21<=20, "ई-2" ))))))))) -> ई-2 | BE21: =SUM(H21,N21,T21,Z21,AF21,AL21,AR21,AV21,AY21,BB21) -> 0 | BF21: =SUM(BE21*100)/BE12 -> 0 | BG21: =IF(BF21>=91,"अ-1", IF(BF21>=81,"अ-2", IF(BF21>=71,"ब-1", IF(BF21>=61,"ब-2", IF(BF21>=51,"क-1", IF(BF21>=41,"क-2", IF(BF21>=33,"ड", IF(BF21>=21,"ई-1", IF(BF21>=0, "ई-2" ))))))))) -> ई-2
B22: =Info_1!M14 -> 0 | C22: =Info_1!J14 -> 0 | D22: =Info_1!K14 -> 0 | E22: =Info_1!L14 -> 0 | F22: 0 | G22: 0 | H22: =SUM(F22:G22) -> 0 | J22: =IF(H22>=91,"अ-1", IF(H22>=81,"अ-2", IF(H22>=71,"ब-1", IF(H22>=61,"ब-2", IF(H22>=51,"क-1", IF(H22>=41,"क-2", IF(H22>=33,"ड", IF(H22>=21,"ई-1", IF(H22<=20, "ई-2" ))))))))) -> ई-2 | L22: 0 | M22: 0 | N22: =SUM(L22:M22) -> 0 | P22: =IF(N22>=91,"अ-1", IF(N22>=81,"अ-2", IF(N22>=71,"ब-1", IF(N22>=61,"ब-2", IF(N22>=51,"क-1", IF(N22>=41,"क-2", IF(N22>=33,"ड", IF(N22>=21,"ई-1", IF(N22<=20, "ई-2" ))))))))) -> ई-2 | R22: 0 | S22: 0 | T22: =SUM(R22:S22) -> 0 | V22: =IF(T22>=91,"अ-1", IF(T22>=81,"अ-2", IF(T22>=71,"ब-1", IF(T22>=61,"ब-2", IF(T22>=51,"क-1", IF(T22>=41,"क-2", IF(T22>=33,"ड", IF(T22>=21,"ई-1", IF(T22<=20, "ई-2" ))))))))) -> ई-2 | X22: 0 | Y22: 0 | Z22: =SUM(X22:Y22) -> 0 | AB22: =IF(Z22>=91,"अ-1", IF(Z22>=81,"अ-2", IF(Z22>=71,"ब-1", IF(Z22>=61,"ब-2", IF(Z22>=51,"क-1", IF(Z22>=41,"क-2", IF(Z22>=33,"ड", IF(Z22>=21,"ई-1", IF(Z22<=20, "ई-2" ))))))))) -> ई-2 | AD22: 0 | AE22: 0 | AF22: =SUM(AD22:AE22) -> 0 | AH22: =IF(AF22>=91,"अ-1", IF(AF22>=81,"अ-2", IF(AF22>=71,"ब-1", IF(AF22>=61,"ब-2", IF(AF22>=51,"क-1", IF(AF22>=41,"क-2", IF(AF22>=33,"ड", IF(AF22>=21,"ई-1", IF(AF22<=20, "ई-2" ))))))))) -> ई-2 | AJ22: 0 | AK22: 0 | AL22: =SUM(AJ22:AK22) -> 0 | AN22: =IF(AL22>=91,"अ-1", IF(AL22>=81,"अ-2", IF(AL22>=71,"ब-1", IF(AL22>=61,"ब-2", IF(AL22>=51,"क-1", IF(AL22>=41,"क-2", IF(AL22>=33,"ड", IF(AL22>=21,"ई-1", IF(AL22<=20, "ई-2" ))))))))) -> ई-2 | AP22: 0 | AQ22: 0 | AR22: =SUM(AP22:AQ22) -> 0 | AT22: =IF(AR22>=91,"अ-1", IF(AR22>=81,"अ-2", IF(AR22>=71,"ब-1", IF(AR22>=61,"ब-2", IF(AR22>=51,"क-1", IF(AR22>=41,"क-2", IF(AR22>=33,"ड", IF(AR22>=21,"ई-1", IF(AR22<=20, "ई-2" ))))))))) -> ई-2 | AV22: 0 | AW22: =IF(AV22>=91,"अ-1", IF(AV22>=81,"अ-2", IF(AV22>=71,"ब-1", IF(AV22>=61,"ब-2", IF(AV22>=51,"क-1", IF(AV22>=41,"क-2", IF(AV22>=33,"ड", IF(AV22>=21,"ई-1", IF(AV22<=20, "ई-2" ))))))))) -> ई-2 | AY22: 0 | AZ22: =IF(AY22>=91,"अ-1", IF(AY22>=81,"अ-2", IF(AY22>=71,"ब-1", IF(AY22>=61,"ब-2", IF(AY22>=51,"क-1", IF(AY22>=41,"क-2", IF(AY22>=33,"ड", IF(AY22>=21,"ई-1", IF(AY22<=20, "ई-2" ))))))))) -> ई-2 | BB22: 0 | BC22: =IF(BB22>=91,"अ-1", IF(BB22>=81,"अ-2", IF(BB22>=71,"ब-1", IF(BB22>=61,"ब-2", IF(BB22>=51,"क-1", IF(BB22>=41,"क-2", IF(BB22>=33,"ड", IF(BB22>=21,"ई-1", IF(BB22<=20, "ई-2" ))))))))) -> ई-2 | BE22: =SUM(H22,N22,T22,Z22,AF22,AL22,AR22,AV22,AY22,BB22) -> 0 | BF22: =SUM(BE22*100)/BE12 -> 0 | BG22: =IF(BF22>=91,"अ-1", IF(BF22>=81,"अ-2", IF(BF22>=71,"ब-1", IF(BF22>=61,"ब-2", IF(BF22>=51,"क-1", IF(BF22>=41,"क-2", IF(BF22>=33,"ड", IF(BF22>=21,"ई-1", IF(BF22>=0, "ई-2" ))))))))) -> ई-2
B23: =Info_1!M15 -> 0 | C23: =Info_1!J15 -> 0 | D23: =Info_1!K15 -> 0 | E23: =Info_1!L15 -> 0 | F23: 0 | G23: 0 | H23: =SUM(F23:G23) -> 0 | J23: =IF(H23>=91,"अ-1", IF(H23>=81,"अ-2", IF(H23>=71,"ब-1", IF(H23>=61,"ब-2", IF(H23>=51,"क-1", IF(H23>=41,"क-2", IF(H23>=33,"ड", IF(H23>=21,"ई-1", IF(H23<=20, "ई-2" ))))))))) -> ई-2 | L23: 0 | M23: 0 | N23: =SUM(L23:M23) -> 0 | P23: =IF(N23>=91,"अ-1", IF(N23>=81,"अ-2", IF(N23>=71,"ब-1", IF(N23>=61,"ब-2", IF(N23>=51,"क-1", IF(N23>=41,"क-2", IF(N23>=33,"ड", IF(N23>=21,"ई-1", IF(N23<=20, "ई-2" ))))))))) -> ई-2 | R23: 0 | S23: 0 | T23: =SUM(R23:S23) -> 0 | V23: =IF(T23>=91,"अ-1", IF(T23>=81,"अ-2", IF(T23>=71,"ब-1", IF(T23>=61,"ब-2", IF(T23>=51,"क-1", IF(T23>=41,"क-2", IF(T23>=33,"ड", IF(T23>=21,"ई-1", IF(T23<=20, "ई-2" ))))))))) -> ई-2 | X23: 0 | Y23: 0 | Z23: =SUM(X23:Y23) -> 0 | AB23: =IF(Z23>=91,"अ-1", IF(Z23>=81,"अ-2", IF(Z23>=71,"ब-1", IF(Z23>=61,"ब-2", IF(Z23>=51,"क-1", IF(Z23>=41,"क-2", IF(Z23>=33,"ड", IF(Z23>=21,"ई-1", IF(Z23<=20, "ई-2" ))))))))) -> ई-2 | AD23: 0 | AE23: 0 | AF23: =SUM(AD23:AE23) -> 0 | AH23: =IF(AF23>=91,"अ-1", IF(AF23>=81,"अ-2", IF(AF23>=71,"ब-1", IF(AF23>=61,"ब-2", IF(AF23>=51,"क-1", IF(AF23>=41,"क-2", IF(AF23>=33,"ड", IF(AF23>=21,"ई-1", IF(AF23<=20, "ई-2" ))))))))) -> ई-2 | AJ23: 0 | AK23: 0 | AL23: =SUM(AJ23:AK23) -> 0 | AN23: =IF(AL23>=91,"अ-1", IF(AL23>=81,"अ-2", IF(AL23>=71,"ब-1", IF(AL23>=61,"ब-2", IF(AL23>=51,"क-1", IF(AL23>=41,"क-2", IF(AL23>=33,"ड", IF(AL23>=21,"ई-1", IF(AL23<=20, "ई-2" ))))))))) -> ई-2 | AP23: 0 | AQ23: 0 | AR23: =SUM(AP23:AQ23) -> 0 | AT23: =IF(AR23>=91,"अ-1", IF(AR23>=81,"अ-2", IF(AR23>=71,"ब-1", IF(AR23>=61,"ब-2", IF(AR23>=51,"क-1", IF(AR23>=41,"क-2", IF(AR23>=33,"ड", IF(AR23>=21,"ई-1", IF(AR23<=20, "ई-2" ))))))))) -> ई-2 | AV23: 0 | AW23: =IF(AV23>=91,"अ-1", IF(AV23>=81,"अ-2", IF(AV23>=71,"ब-1", IF(AV23>=61,"ब-2", IF(AV23>=51,"क-1", IF(AV23>=41,"क-2", IF(AV23>=33,"ड", IF(AV23>=21,"ई-1", IF(AV23<=20, "ई-2" ))))))))) -> ई-2 | AY23: 0 | AZ23: =IF(AY23>=91,"अ-1", IF(AY23>=81,"अ-2", IF(AY23>=71,"ब-1", IF(AY23>=61,"ब-2", IF(AY23>=51,"क-1", IF(AY23>=41,"क-2", IF(AY23>=33,"ड", IF(AY23>=21,"ई-1", IF(AY23<=20, "ई-2" ))))))))) -> ई-2 | BB23: 0 | BC23: =IF(BB23>=91,"अ-1", IF(BB23>=81,"अ-2", IF(BB23>=71,"ब-1", IF(BB23>=61,"ब-2", IF(BB23>=51,"क-1", IF(BB23>=41,"क-2", IF(BB23>=33,"ड", IF(BB23>=21,"ई-1", IF(BB23<=20, "ई-2" ))))))))) -> ई-2 | BE23: =SUM(H23,N23,T23,Z23,AF23,AL23,AR23,AV23,AY23,BB23) -> 0 | BF23: =SUM(BE23*100)/BE12 -> 0 | BG23: =IF(BF23>=91,"अ-1", IF(BF23>=81,"अ-2", IF(BF23>=71,"ब-1", IF(BF23>=61,"ब-2", IF(BF23>=51,"क-1", IF(BF23>=41,"क-2", IF(BF23>=33,"ड", IF(BF23>=21,"ई-1", IF(BF23>=0, "ई-2" ))))))))) -> ई-2
B24: =Info_1!M16 -> 0 | C24: =Info_1!J16 -> 0 | D24: =Info_1!K16 -> 0 | E24: =Info_1!L16 -> 0 | F24: 0 | G24: 0 | H24: =SUM(F24:G24) -> 0 | J24: =IF(H24>=91,"अ-1", IF(H24>=81,"अ-2", IF(H24>=71,"ब-1", IF(H24>=61,"ब-2", IF(H24>=51,"क-1", IF(H24>=41,"क-2", IF(H24>=33,"ड", IF(H24>=21,"ई-1", IF(H24<=20, "ई-2" ))))))))) -> ई-2 | L24: 0 | M24: 0 | N24: =SUM(L24:M24) -> 0 | P24: =IF(N24>=91,"अ-1", IF(N24>=81,"अ-2", IF(N24>=71,"ब-1", IF(N24>=61,"ब-2", IF(N24>=51,"क-1", IF(N24>=41,"क-2", IF(N24>=33,"ड", IF(N24>=21,"ई-1", IF(N24<=20, "ई-2" ))))))))) -> ई-2 | R24: 0 | S24: 0 | T24: =SUM(R24:S24) -> 0 | V24: =IF(T24>=91,"अ-1", IF(T24>=81,"अ-2", IF(T24>=71,"ब-1", IF(T24>=61,"ब-2", IF(T24>=51,"क-1", IF(T24>=41,"क-2", IF(T24>=33,"ड", IF(T24>=21,"ई-1", IF(T24<=20, "ई-2" ))))))))) -> ई-2 | X24: 0 | Y24: 0 | Z24: =SUM(X24:Y24) -> 0 | AB24: =IF(Z24>=91,"अ-1", IF(Z24>=81,"अ-2", IF(Z24>=71,"ब-1", IF(Z24>=61,"ब-2", IF(Z24>=51,"क-1", IF(Z24>=41,"क-2", IF(Z24>=33,"ड", IF(Z24>=21,"ई-1", IF(Z24<=20, "ई-2" ))))))))) -> ई-2 | AD24: 0 | AE24: 0 | AF24: =SUM(AD24:AE24) -> 0 | AH24: =IF(AF24>=91,"अ-1", IF(AF24>=81,"अ-2", IF(AF24>=71,"ब-1", IF(AF24>=61,"ब-2", IF(AF24>=51,"क-1", IF(AF24>=41,"क-2", IF(AF24>=33,"ड", IF(AF24>=21,"ई-1", IF(AF24<=20, "ई-2" ))))))))) -> ई-2 | AJ24: 0 | AK24: 0 | AL24: =SUM(AJ24:AK24) -> 0 | AN24: =IF(AL24>=91,"अ-1", IF(AL24>=81,"अ-2", IF(AL24>=71,"ब-1", IF(AL24>=61,"ब-2", IF(AL24>=51,"क-1", IF(AL24>=41,"क-2", IF(AL24>=33,"ड", IF(AL24>=21,"ई-1", IF(AL24<=20, "ई-2" ))))))))) -> ई-2 | AP24: 0 | AQ24: 0 | AR24: =SUM(AP24:AQ24) -> 0 | AT24: =IF(AR24>=91,"अ-1", IF(AR24>=81,"अ-2", IF(AR24>=71,"ब-1", IF(AR24>=61,"ब-2", IF(AR24>=51,"क-1", IF(AR24>=41,"क-2", IF(AR24>=33,"ड", IF(AR24>=21,"ई-1", IF(AR24<=20, "ई-2" ))))))))) -> ई-2 | AV24: 0 | AW24: =IF(AV24>=91,"अ-1", IF(AV24>=81,"अ-2", IF(AV24>=71,"ब-1", IF(AV24>=61,"ब-2", IF(AV24>=51,"क-1", IF(AV24>=41,"क-2", IF(AV24>=33,"ड", IF(AV24>=21,"ई-1", IF(AV24<=20, "ई-2" ))))))))) -> ई-2 | AY24: 0 | AZ24: =IF(AY24>=91,"अ-1", IF(AY24>=81,"अ-2", IF(AY24>=71,"ब-1", IF(AY24>=61,"ब-2", IF(AY24>=51,"क-1", IF(AY24>=41,"क-2", IF(AY24>=33,"ड", IF(AY24>=21,"ई-1", IF(AY24<=20, "ई-2" ))))))))) -> ई-2 | BB24: 0 | BC24: =IF(BB24>=91,"अ-1", IF(BB24>=81,"अ-2", IF(BB24>=71,"ब-1", IF(BB24>=61,"ब-2", IF(BB24>=51,"क-1", IF(BB24>=41,"क-2", IF(BB24>=33,"ड", IF(BB24>=21,"ई-1", IF(BB24<=20, "ई-2" ))))))))) -> ई-2 | BE24: =SUM(H24,N24,T24,Z24,AF24,AL24,AR24,AV24,AY24,BB24) -> 0 | BF24: =SUM(BE24*100)/BE12 -> 0 | BG24: =IF(BF24>=91,"अ-1", IF(BF24>=81,"अ-2", IF(BF24>=71,"ब-1", IF(BF24>=61,"ब-2", IF(BF24>=51,"क-1", IF(BF24>=41,"क-2", IF(BF24>=33,"ड", IF(BF24>=21,"ई-1", IF(BF24>=0, "ई-2" ))))))))) -> ई-2
B25: =Info_1!M17 -> 0 | C25: =Info_1!J17 -> 0 | D25: =Info_1!K17 -> 0 | E25: =Info_1!L17 -> 0 | F25: 0 | G25: 0 | H25: =SUM(F25:G25) -> 0 | J25: =IF(H25>=91,"अ-1", IF(H25>=81,"अ-2", IF(H25>=71,"ब-1", IF(H25>=61,"ब-2", IF(H25>=51,"क-1", IF(H25>=41,"क-2", IF(H25>=33,"ड", IF(H25>=21,"ई-1", IF(H25<=20, "ई-2" ))))))))) -> ई-2 | L25: 0 | M25: 0 | N25: =SUM(L25:M25) -> 0 | P25: =IF(N25>=91,"अ-1", IF(N25>=81,"अ-2", IF(N25>=71,"ब-1", IF(N25>=61,"ब-2", IF(N25>=51,"क-1", IF(N25>=41,"क-2", IF(N25>=33,"ड", IF(N25>=21,"ई-1", IF(N25<=20, "ई-2" ))))))))) -> ई-2 | R25: 0 | S25: 0 | T25: =SUM(R25:S25) -> 0 | V25: =IF(T25>=91,"अ-1", IF(T25>=81,"अ-2", IF(T25>=71,"ब-1", IF(T25>=61,"ब-2", IF(T25>=51,"क-1", IF(T25>=41,"क-2", IF(T25>=33,"ड", IF(T25>=21,"ई-1", IF(T25<=20, "ई-2" ))))))))) -> ई-2 | X25: 0 | Y25: 0 | Z25: =SUM(X25:Y25) -> 0 | AB25: =IF(Z25>=91,"अ-1", IF(Z25>=81,"अ-2", IF(Z25>=71,"ब-1", IF(Z25>=61,"ब-2", IF(Z25>=51,"क-1", IF(Z25>=41,"क-2", IF(Z25>=33,"ड", IF(Z25>=21,"ई-1", IF(Z25<=20, "ई-2" ))))))))) -> ई-2 | AD25: 0 | AE25: 0 | AF25: =SUM(AD25:AE25) -> 0 | AH25: =IF(AF25>=91,"अ-1", IF(AF25>=81,"अ-2", IF(AF25>=71,"ब-1", IF(AF25>=61,"ब-2", IF(AF25>=51,"क-1", IF(AF25>=41,"क-2", IF(AF25>=33,"ड", IF(AF25>=21,"ई-1", IF(AF25<=20, "ई-2" ))))))))) -> ई-2 | AJ25: 0 | AK25: 0 | AL25: =SUM(AJ25:AK25) -> 0 | AN25: =IF(AL25>=91,"अ-1", IF(AL25>=81,"अ-2", IF(AL25>=71,"ब-1", IF(AL25>=61,"ब-2", IF(AL25>=51,"क-1", IF(AL25>=41,"क-2", IF(AL25>=33,"ड", IF(AL25>=21,"ई-1", IF(AL25<=20, "ई-2" ))))))))) -> ई-2 | AP25: 0 | AQ25: 0 | AR25: =SUM(AP25:AQ25) -> 0 | AT25: =IF(AR25>=91,"अ-1", IF(AR25>=81,"अ-2", IF(AR25>=71,"ब-1", IF(AR25>=61,"ब-2", IF(AR25>=51,"क-1", IF(AR25>=41,"क-2", IF(AR25>=33,"ड", IF(AR25>=21,"ई-1", IF(AR25<=20, "ई-2" ))))))))) -> ई-2 | AV25: 0 | AW25: =IF(AV25>=91,"अ-1", IF(AV25>=81,"अ-2", IF(AV25>=71,"ब-1", IF(AV25>=61,"ब-2", IF(AV25>=51,"क-1", IF(AV25>=41,"क-2", IF(AV25>=33,"ड", IF(AV25>=21,"ई-1", IF(AV25<=20, "ई-2" ))))))))) -> ई-2 | AY25: 0 | AZ25: =IF(AY25>=91,"अ-1", IF(AY25>=81,"अ-2", IF(AY25>=71,"ब-1", IF(AY25>=61,"ब-2", IF(AY25>=51,"क-1", IF(AY25>=41,"क-2", IF(AY25>=33,"ड", IF(AY25>=21,"ई-1", IF(AY25<=20, "ई-2" ))))))))) -> ई-2 | BB25: 0 | BC25: =IF(BB25>=91,"अ-1", IF(BB25>=81,"अ-2", IF(BB25>=71,"ब-1", IF(BB25>=61,"ब-2", IF(BB25>=51,"क-1", IF(BB25>=41,"क-2", IF(BB25>=33,"ड", IF(BB25>=21,"ई-1", IF(BB25<=20, "ई-2" ))))))))) -> ई-2 | BE25: =SUM(H25,N25,T25,Z25,AF25,AL25,AR25,AV25,AY25,BB25) -> 0 | BF25: =SUM(BE25*100)/BE12 -> 0 | BG25: =IF(BF25>=91,"अ-1", IF(BF25>=81,"अ-2", IF(BF25>=71,"ब-1", IF(BF25>=61,"ब-2", IF(BF25>=51,"क-1", IF(BF25>=41,"क-2", IF(BF25>=33,"ड", IF(BF25>=21,"ई-1", IF(BF25>=0, "ई-2" ))))))))) -> ई-2
B26: =Info_1!M18 -> 0 | C26: =Info_1!J18 -> 0 | D26: =Info_1!K18 -> 0 | E26: =Info_1!L18 -> 0 | F26: 0 | G26: 0 | H26: =SUM(F26:G26) -> 0 | J26: =IF(H26>=91,"अ-1", IF(H26>=81,"अ-2", IF(H26>=71,"ब-1", IF(H26>=61,"ब-2", IF(H26>=51,"क-1", IF(H26>=41,"क-2", IF(H26>=33,"ड", IF(H26>=21,"ई-1", IF(H26<=20, "ई-2" ))))))))) -> ई-2 | L26: 0 | M26: 0 | N26: =SUM(L26:M26) -> 0 | P26: =IF(N26>=91,"अ-1", IF(N26>=81,"अ-2", IF(N26>=71,"ब-1", IF(N26>=61,"ब-2", IF(N26>=51,"क-1", IF(N26>=41,"क-2", IF(N26>=33,"ड", IF(N26>=21,"ई-1", IF(N26<=20, "ई-2" ))))))))) -> ई-2 | R26: 0 | S26: 0 | T26: =SUM(R26:S26) -> 0 | V26: =IF(T26>=91,"अ-1", IF(T26>=81,"अ-2", IF(T26>=71,"ब-1", IF(T26>=61,"ब-2", IF(T26>=51,"क-1", IF(T26>=41,"क-2", IF(T26>=33,"ड", IF(T26>=21,"ई-1", IF(T26<=20, "ई-2" ))))))))) -> ई-2 | X26: 0 | Y26: 0 | Z26: =SUM(X26:Y26) -> 0 | AB26: =IF(Z26>=91,"अ-1", IF(Z26>=81,"अ-2", IF(Z26>=71,"ब-1", IF(Z26>=61,"ब-2", IF(Z26>=51,"क-1", IF(Z26>=41,"क-2", IF(Z26>=33,"ड", IF(Z26>=21,"ई-1", IF(Z26<=20, "ई-2" ))))))))) -> ई-2 | AD26: 0 | AE26: 0 | AF26: =SUM(AD26:AE26) -> 0 | AH26: =IF(AF26>=91,"अ-1", IF(AF26>=81,"अ-2", IF(AF26>=71,"ब-1", IF(AF26>=61,"ब-2", IF(AF26>=51,"क-1", IF(AF26>=41,"क-2", IF(AF26>=33,"ड", IF(AF26>=21,"ई-1", IF(AF26<=20, "ई-2" ))))))))) -> ई-2 | AJ26: 0 | AK26: 0 | AL26: =SUM(AJ26:AK26) -> 0 | AN26: =IF(AL26>=91,"अ-1", IF(AL26>=81,"अ-2", IF(AL26>=71,"ब-1", IF(AL26>=61,"ब-2", IF(AL26>=51,"क-1", IF(AL26>=41,"क-2", IF(AL26>=33,"ड", IF(AL26>=21,"ई-1", IF(AL26<=20, "ई-2" ))))))))) -> ई-2 | AP26: 0 | AQ26: 0 | AR26: =SUM(AP26:AQ26) -> 0 | AT26: =IF(AR26>=91,"अ-1", IF(AR26>=81,"अ-2", IF(AR26>=71,"ब-1", IF(AR26>=61,"ब-2", IF(AR26>=51,"क-1", IF(AR26>=41,"क-2", IF(AR26>=33,"ड", IF(AR26>=21,"ई-1", IF(AR26<=20, "ई-2" ))))))))) -> ई-2 | AV26: 0 | AW26: =IF(AV26>=91,"अ-1", IF(AV26>=81,"अ-2", IF(AV26>=71,"ब-1", IF(AV26>=61,"ब-2", IF(AV26>=51,"क-1", IF(AV26>=41,"क-2", IF(AV26>=33,"ड", IF(AV26>=21,"ई-1", IF(AV26<=20, "ई-2" ))))))))) -> ई-2 | AY26: 0 | AZ26: =IF(AY26>=91,"अ-1", IF(AY26>=81,"अ-2", IF(AY26>=71,"ब-1", IF(AY26>=61,"ब-2", IF(AY26>=51,"क-1", IF(AY26>=41,"क-2", IF(AY26>=33,"ड", IF(AY26>=21,"ई-1", IF(AY26<=20, "ई-2" ))))))))) -> ई-2 | BB26: 0 | BC26: =IF(BB26>=91,"अ-1", IF(BB26>=81,"अ-2", IF(BB26>=71,"ब-1", IF(BB26>=61,"ब-2", IF(BB26>=51,"क-1", IF(BB26>=41,"क-2", IF(BB26>=33,"ड", IF(BB26>=21,"ई-1", IF(BB26<=20, "ई-2" ))))))))) -> ई-2 | BE26: =SUM(H26,N26,T26,Z26,AF26,AL26,AR26,AV26,AY26,BB26) -> 0 | BF26: =SUM(BE26*100)/BE12 -> 0 | BG26: =IF(BF26>=91,"अ-1", IF(BF26>=81,"अ-2", IF(BF26>=71,"ब-1", IF(BF26>=61,"ब-2", IF(BF26>=51,"क-1", IF(BF26>=41,"क-2", IF(BF26>=33,"ड", IF(BF26>=21,"ई-1", IF(BF26>=0, "ई-2" ))))))))) -> ई-2
B27: =Info_1!M19 -> 0 | C27: =Info_1!J19 -> 0 | D27: =Info_1!K19 -> 0 | E27: =Info_1!L19 -> 0 | F27: 0 | G27: 0 | H27: =SUM(F27:G27) -> 0 | J27: =IF(H27>=91,"अ-1", IF(H27>=81,"अ-2", IF(H27>=71,"ब-1", IF(H27>=61,"ब-2", IF(H27>=51,"क-1", IF(H27>=41,"क-2", IF(H27>=33,"ड", IF(H27>=21,"ई-1", IF(H27<=20, "ई-2" ))))))))) -> ई-2 | L27: 0 | M27: 0 | N27: =SUM(L27:M27) -> 0 | P27: =IF(N27>=91,"अ-1", IF(N27>=81,"अ-2", IF(N27>=71,"ब-1", IF(N27>=61,"ब-2", IF(N27>=51,"क-1", IF(N27>=41,"क-2", IF(N27>=33,"ड", IF(N27>=21,"ई-1", IF(N27<=20, "ई-2" ))))))))) -> ई-2 | R27: 0 | S27: 0 | T27: =SUM(R27:S27) -> 0 | V27: =IF(T27>=91,"अ-1", IF(T27>=81,"अ-2", IF(T27>=71,"ब-1", IF(T27>=61,"ब-2", IF(T27>=51,"क-1", IF(T27>=41,"क-2", IF(T27>=33,"ड", IF(T27>=21,"ई-1", IF(T27<=20, "ई-2" ))))))))) -> ई-2 | X27: 0 | Y27: 0 | Z27: =SUM(X27:Y27) -> 0 | AB27: =IF(Z27>=91,"अ-1", IF(Z27>=81,"अ-2", IF(Z27>=71,"ब-1", IF(Z27>=61,"ब-2", IF(Z27>=51,"क-1", IF(Z27>=41,"क-2", IF(Z27>=33,"ड", IF(Z27>=21,"ई-1", IF(Z27<=20, "ई-2" ))))))))) -> ई-2 | AD27: 0 | AE27: 0 | AF27: =SUM(AD27:AE27) -> 0 | AH27: =IF(AF27>=91,"अ-1", IF(AF27>=81,"अ-2", IF(AF27>=71,"ब-1", IF(AF27>=61,"ब-2", IF(AF27>=51,"क-1", IF(AF27>=41,"क-2", IF(AF27>=33,"ड", IF(AF27>=21,"ई-1", IF(AF27<=20, "ई-2" ))))))))) -> ई-2 | AJ27: 0 | AK27: 0 | AL27: =SUM(AJ27:AK27) -> 0 | AN27: =IF(AL27>=91,"अ-1", IF(AL27>=81,"अ-2", IF(AL27>=71,"ब-1", IF(AL27>=61,"ब-2", IF(AL27>=51,"क-1", IF(AL27>=41,"क-2", IF(AL27>=33,"ड", IF(AL27>=21,"ई-1", IF(AL27<=20, "ई-2" ))))))))) -> ई-2 | AP27: 0 | AQ27: 0 | AR27: =SUM(AP27:AQ27) -> 0 | AT27: =IF(AR27>=91,"अ-1", IF(AR27>=81,"अ-2", IF(AR27>=71,"ब-1", IF(AR27>=61,"ब-2", IF(AR27>=51,"क-1", IF(AR27>=41,"क-2", IF(AR27>=33,"ड", IF(AR27>=21,"ई-1", IF(AR27<=20, "ई-2" ))))))))) -> ई-2 | AV27: 0 | AW27: =IF(AV27>=91,"अ-1", IF(AV27>=81,"अ-2", IF(AV27>=71,"ब-1", IF(AV27>=61,"ब-2", IF(AV27>=51,"क-1", IF(AV27>=41,"क-2", IF(AV27>=33,"ड", IF(AV27>=21,"ई-1", IF(AV27<=20, "ई-2" ))))))))) -> ई-2 | AY27: 0 | AZ27: =IF(AY27>=91,"अ-1", IF(AY27>=81,"अ-2", IF(AY27>=71,"ब-1", IF(AY27>=61,"ब-2", IF(AY27>=51,"क-1", IF(AY27>=41,"क-2", IF(AY27>=33,"ड", IF(AY27>=21,"ई-1", IF(AY27<=20, "ई-2" ))))))))) -> ई-2 | BB27: 0 | BC27: =IF(BB27>=91,"अ-1", IF(BB27>=81,"अ-2", IF(BB27>=71,"ब-1", IF(BB27>=61,"ब-2", IF(BB27>=51,"क-1", IF(BB27>=41,"क-2", IF(BB27>=33,"ड", IF(BB27>=21,"ई-1", IF(BB27<=20, "ई-2" ))))))))) -> ई-2 | BE27: =SUM(H27,N27,T27,Z27,AF27,AL27,AR27,AV27,AY27,BB27) -> 0 | BF27: =SUM(BE27*100)/BE12 -> 0 | BG27: =IF(BF27>=91,"अ-1", IF(BF27>=81,"अ-2", IF(BF27>=71,"ब-1", IF(BF27>=61,"ब-2", IF(BF27>=51,"क-1", IF(BF27>=41,"क-2", IF(BF27>=33,"ड", IF(BF27>=21,"ई-1", IF(BF27>=0, "ई-2" ))))))))) -> ई-2
B28: =Info_1!M20 -> 0 | C28: =Info_1!J20 -> 0 | D28: =Info_1!K20 -> 0 | E28: =Info_1!L20 -> 0 | F28: 0 | G28: 0 | H28: =SUM(F28:G28) -> 0 | J28: =IF(H28>=91,"अ-1", IF(H28>=81,"अ-2", IF(H28>=71,"ब-1", IF(H28>=61,"ब-2", IF(H28>=51,"क-1", IF(H28>=41,"क-2", IF(H28>=33,"ड", IF(H28>=21,"ई-1", IF(H28<=20, "ई-2" ))))))))) -> ई-2 | L28: 0 | M28: 0 | N28: =SUM(L28:M28) -> 0 | P28: =IF(N28>=91,"अ-1", IF(N28>=81,"अ-2", IF(N28>=71,"ब-1", IF(N28>=61,"ब-2", IF(N28>=51,"क-1", IF(N28>=41,"क-2", IF(N28>=33,"ड", IF(N28>=21,"ई-1", IF(N28<=20, "ई-2" ))))))))) -> ई-2 | R28: 0 | S28: 0 | T28: =SUM(R28:S28) -> 0 | V28: =IF(T28>=91,"अ-1", IF(T28>=81,"अ-2", IF(T28>=71,"ब-1", IF(T28>=61,"ब-2", IF(T28>=51,"क-1", IF(T28>=41,"क-2", IF(T28>=33,"ड", IF(T28>=21,"ई-1", IF(T28<=20, "ई-2" ))))))))) -> ई-2 | X28: 0 | Y28: 0 | Z28: =SUM(X28:Y28) -> 0 | AB28: =IF(Z28>=91,"अ-1", IF(Z28>=81,"अ-2", IF(Z28>=71,"ब-1", IF(Z28>=61,"ब-2", IF(Z28>=51,"क-1", IF(Z28>=41,"क-2", IF(Z28>=33,"ड", IF(Z28>=21,"ई-1", IF(Z28<=20, "ई-2" ))))))))) -> ई-2 | AD28: 0 | AE28: 0 | AF28: =SUM(AD28:AE28) -> 0 | AH28: =IF(AF28>=91,"अ-1", IF(AF28>=81,"अ-2", IF(AF28>=71,"ब-1", IF(AF28>=61,"ब-2", IF(AF28>=51,"क-1", IF(AF28>=41,"क-2", IF(AF28>=33,"ड", IF(AF28>=21,"ई-1", IF(AF28<=20, "ई-2" ))))))))) -> ई-2 | AJ28: 0 | AK28: 0 | AL28: =SUM(AJ28:AK28) -> 0 | AN28: =IF(AL28>=91,"अ-1", IF(AL28>=81,"अ-2", IF(AL28>=71,"ब-1", IF(AL28>=61,"ब-2", IF(AL28>=51,"क-1", IF(AL28>=41,"क-2", IF(AL28>=33,"ड", IF(AL28>=21,"ई-1", IF(AL28<=20, "ई-2" ))))))))) -> ई-2 | AP28: 0 | AQ28: 0 | AR28: =SUM(AP28:AQ28) -> 0 | AT28: =IF(AR28>=91,"अ-1", IF(AR28>=81,"अ-2", IF(AR28>=71,"ब-1", IF(AR28>=61,"ब-2", IF(AR28>=51,"क-1", IF(AR28>=41,"क-2", IF(AR28>=33,"ड", IF(AR28>=21,"ई-1", IF(AR28<=20, "ई-2" ))))))))) -> ई-2 | AV28: 0 | AW28: =IF(AV28>=91,"अ-1", IF(AV28>=81,"अ-2", IF(AV28>=71,"ब-1", IF(AV28>=61,"ब-2", IF(AV28>=51,"क-1", IF(AV28>=41,"क-2", IF(AV28>=33,"ड", IF(AV28>=21,"ई-1", IF(AV28<=20, "ई-2" ))))))))) -> ई-2 | AY28: 0 | AZ28: =IF(AY28>=91,"अ-1", IF(AY28>=81,"अ-2", IF(AY28>=71,"ब-1", IF(AY28>=61,"ब-2", IF(AY28>=51,"क-1", IF(AY28>=41,"क-2", IF(AY28>=33,"ड", IF(AY28>=21,"ई-1", IF(AY28<=20, "ई-2" ))))))))) -> ई-2 | BB28: 0 | BC28: =IF(BB28>=91,"अ-1", IF(BB28>=81,"अ-2", IF(BB28>=71,"ब-1", IF(BB28>=61,"ब-2", IF(BB28>=51,"क-1", IF(BB28>=41,"क-2", IF(BB28>=33,"ड", IF(BB28>=21,"ई-1", IF(BB28<=20, "ई-2" ))))))))) -> ई-2 | BE28: =SUM(H28,N28,T28,Z28,AF28,AL28,AR28,AV28,AY28,BB28) -> 0 | BF28: =SUM(BE28*100)/BE12 -> 0 | BG28: =IF(BF28>=91,"अ-1", IF(BF28>=81,"अ-2", IF(BF28>=71,"ब-1", IF(BF28>=61,"ब-2", IF(BF28>=51,"क-1", IF(BF28>=41,"क-2", IF(BF28>=33,"ड", IF(BF28>=21,"ई-1", IF(BF28>=0, "ई-2" ))))))))) -> ई-2
B29: =Info_1!M21 -> 0 | C29: =Info_1!J21 -> 0 | D29: =Info_1!K21 -> 0 | E29: =Info_1!L21 -> 0 | F29: 0 | G29: 0 | H29: =SUM(F29:G29) -> 0 | J29: =IF(H29>=91,"अ-1", IF(H29>=81,"अ-2", IF(H29>=71,"ब-1", IF(H29>=61,"ब-2", IF(H29>=51,"क-1", IF(H29>=41,"क-2", IF(H29>=33,"ड", IF(H29>=21,"ई-1", IF(H29<=20, "ई-2" ))))))))) -> ई-2 | L29: 0 | M29: 0 | N29: =SUM(L29:M29) -> 0 | P29: =IF(N29>=91,"अ-1", IF(N29>=81,"अ-2", IF(N29>=71,"ब-1", IF(N29>=61,"ब-2", IF(N29>=51,"क-1", IF(N29>=41,"क-2", IF(N29>=33,"ड", IF(N29>=21,"ई-1", IF(N29<=20, "ई-2" ))))))))) -> ई-2 | R29: 0 | S29: 0 | T29: =SUM(R29:S29) -> 0 | V29: =IF(T29>=91,"अ-1", IF(T29>=81,"अ-2", IF(T29>=71,"ब-1", IF(T29>=61,"ब-2", IF(T29>=51,"क-1", IF(T29>=41,"क-2", IF(T29>=33,"ड", IF(T29>=21,"ई-1", IF(T29<=20, "ई-2" ))))))))) -> ई-2 | X29: 0 | Y29: 0 | Z29: =SUM(X29:Y29) -> 0 | AB29: =IF(Z29>=91,"अ-1", IF(Z29>=81,"अ-2", IF(Z29>=71,"ब-1", IF(Z29>=61,"ब-2", IF(Z29>=51,"क-1", IF(Z29>=41,"क-2", IF(Z29>=33,"ड", IF(Z29>=21,"ई-1", IF(Z29<=20, "ई-2" ))))))))) -> ई-2 | AD29: 0 | AE29: 0 | AF29: =SUM(AD29:AE29) -> 0 | AH29: =IF(AF29>=91,"अ-1", IF(AF29>=81,"अ-2", IF(AF29>=71,"ब-1", IF(AF29>=61,"ब-2", IF(AF29>=51,"क-1", IF(AF29>=41,"क-2", IF(AF29>=33,"ड", IF(AF29>=21,"ई-1", IF(AF29<=20, "ई-2" ))))))))) -> ई-2 | AJ29: 0 | AK29: 0 | AL29: =SUM(AJ29:AK29) -> 0 | AN29: =IF(AL29>=91,"अ-1", IF(AL29>=81,"अ-2", IF(AL29>=71,"ब-1", IF(AL29>=61,"ब-2", IF(AL29>=51,"क-1", IF(AL29>=41,"क-2", IF(AL29>=33,"ड", IF(AL29>=21,"ई-1", IF(AL29<=20, "ई-2" ))))))))) -> ई-2 | AP29: 0 | AQ29: 0 | AR29: =SUM(AP29:AQ29) -> 0 | AT29: =IF(AR29>=91,"अ-1", IF(AR29>=81,"अ-2", IF(AR29>=71,"ब-1", IF(AR29>=61,"ब-2", IF(AR29>=51,"क-1", IF(AR29>=41,"क-2", IF(AR29>=33,"ड", IF(AR29>=21,"ई-1", IF(AR29<=20, "ई-2" ))))))))) -> ई-2 | AV29: 0 | AW29: =IF(AV29>=91,"अ-1", IF(AV29>=81,"अ-2", IF(AV29>=71,"ब-1", IF(AV29>=61,"ब-2", IF(AV29>=51,"क-1", IF(AV29>=41,"क-2", IF(AV29>=33,"ड", IF(AV29>=21,"ई-1", IF(AV29<=20, "ई-2" ))))))))) -> ई-2 | AY29: 0 | AZ29: =IF(AY29>=91,"अ-1", IF(AY29>=81,"अ-2", IF(AY29>=71,"ब-1", IF(AY29>=61,"ब-2", IF(AY29>=51,"क-1", IF(AY29>=41,"क-2", IF(AY29>=33,"ड", IF(AY29>=21,"ई-1", IF(AY29<=20, "ई-2" ))))))))) -> ई-2 | BB29: 0 | BC29: =IF(BB29>=91,"अ-1", IF(BB29>=81,"अ-2", IF(BB29>=71,"ब-1", IF(BB29>=61,"ब-2", IF(BB29>=51,"क-1", IF(BB29>=41,"क-2", IF(BB29>=33,"ड", IF(BB29>=21,"ई-1", IF(BB29<=20, "ई-2" ))))))))) -> ई-2 | BE29: =SUM(H29,N29,T29,Z29,AF29,AL29,AR29,AV29,AY29,BB29) -> 0 | BF29: =SUM(BE29*100)/BE12 -> 0 | BG29: =IF(BF29>=91,"अ-1", IF(BF29>=81,"अ-2", IF(BF29>=71,"ब-1", IF(BF29>=61,"ब-2", IF(BF29>=51,"क-1", IF(BF29>=41,"क-2", IF(BF29>=33,"ड", IF(BF29>=21,"ई-1", IF(BF29>=0, "ई-2" ))))))))) -> ई-2
B30: =Info_1!M22 -> 0 | C30: =Info_1!J22 -> 0 | D30: =Info_1!K22 -> 0 | E30: =Info_1!L22 -> 0 | F30: 0 | G30: 0 | H30: =SUM(F30:G30) -> 0 | J30: =IF(H30>=91,"अ-1", IF(H30>=81,"अ-2", IF(H30>=71,"ब-1", IF(H30>=61,"ब-2", IF(H30>=51,"क-1", IF(H30>=41,"क-2", IF(H30>=33,"ड", IF(H30>=21,"ई-1", IF(H30<=20, "ई-2" ))))))))) -> ई-2 | L30: 0 | M30: 0 | N30: =SUM(L30:M30) -> 0 | P30: =IF(N30>=91,"अ-1", IF(N30>=81,"अ-2", IF(N30>=71,"ब-1", IF(N30>=61,"ब-2", IF(N30>=51,"क-1", IF(N30>=41,"क-2", IF(N30>=33,"ड", IF(N30>=21,"ई-1", IF(N30<=20, "ई-2" ))))))))) -> ई-2 | R30: 0 | S30: 0 | T30: =SUM(R30:S30) -> 0 | V30: =IF(T30>=91,"अ-1", IF(T30>=81,"अ-2", IF(T30>=71,"ब-1", IF(T30>=61,"ब-2", IF(T30>=51,"क-1", IF(T30>=41,"क-2", IF(T30>=33,"ड", IF(T30>=21,"ई-1", IF(T30<=20, "ई-2" ))))))))) -> ई-2 | X30: 0 | Y30: 0 | Z30: =SUM(X30:Y30) -> 0 | AB30: =IF(Z30>=91,"अ-1", IF(Z30>=81,"अ-2", IF(Z30>=71,"ब-1", IF(Z30>=61,"ब-2", IF(Z30>=51,"क-1", IF(Z30>=41,"क-2", IF(Z30>=33,"ड", IF(Z30>=21,"ई-1", IF(Z30<=20, "ई-2" ))))))))) -> ई-2 | AD30: 0 | AE30: 0 | AF30: =SUM(AD30:AE30) -> 0 | AH30: =IF(AF30>=91,"अ-1", IF(AF30>=81,"अ-2", IF(AF30>=71,"ब-1", IF(AF30>=61,"ब-2", IF(AF30>=51,"क-1", IF(AF30>=41,"क-2", IF(AF30>=33,"ड", IF(AF30>=21,"ई-1", IF(AF30<=20, "ई-2" ))))))))) -> ई-2 | AJ30: 0 | AK30: 0 | AL30: =SUM(AJ30:AK30) -> 0 | AN30: =IF(AL30>=91,"अ-1", IF(AL30>=81,"अ-2", IF(AL30>=71,"ब-1", IF(AL30>=61,"ब-2", IF(AL30>=51,"क-1", IF(AL30>=41,"क-2", IF(AL30>=33,"ड", IF(AL30>=21,"ई-1", IF(AL30<=20, "ई-2" ))))))))) -> ई-2 | AP30: 0 | AQ30: 0 | AR30: =SUM(AP30:AQ30) -> 0 | AT30: =IF(AR30>=91,"अ-1", IF(AR30>=81,"अ-2", IF(AR30>=71,"ब-1", IF(AR30>=61,"ब-2", IF(AR30>=51,"क-1", IF(AR30>=41,"क-2", IF(AR30>=33,"ड", IF(AR30>=21,"ई-1", IF(AR30<=20, "ई-2" ))))))))) -> ई-2 | AV30: 0 | AW30: =IF(AV30>=91,"अ-1", IF(AV30>=81,"अ-2", IF(AV30>=71,"ब-1", IF(AV30>=61,"ब-2", IF(AV30>=51,"क-1", IF(AV30>=41,"क-2", IF(AV30>=33,"ड", IF(AV30>=21,"ई-1", IF(AV30<=20, "ई-2" ))))))))) -> ई-2 | AY30: 0 | AZ30: =IF(AY30>=91,"अ-1", IF(AY30>=81,"अ-2", IF(AY30>=71,"ब-1", IF(AY30>=61,"ब-2", IF(AY30>=51,"क-1", IF(AY30>=41,"क-2", IF(AY30>=33,"ड", IF(AY30>=21,"ई-1", IF(AY30<=20, "ई-2" ))))))))) -> ई-2 | BB30: 0 | BC30: =IF(BB30>=91,"अ-1", IF(BB30>=81,"अ-2", IF(BB30>=71,"ब-1", IF(BB30>=61,"ब-2", IF(BB30>=51,"क-1", IF(BB30>=41,"क-2", IF(BB30>=33,"ड", IF(BB30>=21,"ई-1", IF(BB30<=20, "ई-2" ))))))))) -> ई-2 | BE30: =SUM(H30,N30,T30,Z30,AF30,AL30,AR30,AV30,AY30,BB30) -> 0 | BF30: =SUM(BE30*100)/BE12 -> 0 | BG30: =IF(BF30>=91,"अ-1", IF(BF30>=81,"अ-2", IF(BF30>=71,"ब-1", IF(BF30>=61,"ब-2", IF(BF30>=51,"क-1", IF(BF30>=41,"क-2", IF(BF30>=33,"ड", IF(BF30>=21,"ई-1", IF(BF30>=0, "ई-2" ))))))))) -> ई-2
B31: =Info_1!M23 -> 0 | C31: =Info_1!J23 -> 0 | D31: =Info_1!K23 -> 0 | E31: =Info_1!L23 -> 0 | F31: 0 | G31: 0 | H31: =SUM(F31:G31) -> 0 | J31: =IF(H31>=91,"अ-1", IF(H31>=81,"अ-2", IF(H31>=71,"ब-1", IF(H31>=61,"ब-2", IF(H31>=51,"क-1", IF(H31>=41,"क-2", IF(H31>=33,"ड", IF(H31>=21,"ई-1", IF(H31<=20, "ई-2" ))))))))) -> ई-2 | L31: 0 | M31: 0 | N31: =SUM(L31:M31) -> 0 | P31: =IF(N31>=91,"अ-1", IF(N31>=81,"अ-2", IF(N31>=71,"ब-1", IF(N31>=61,"ब-2", IF(N31>=51,"क-1", IF(N31>=41,"क-2", IF(N31>=33,"ड", IF(N31>=21,"ई-1", IF(N31<=20, "ई-2" ))))))))) -> ई-2 | R31: 0 | S31: 0 | T31: =SUM(R31:S31) -> 0 | V31: =IF(T31>=91,"अ-1", IF(T31>=81,"अ-2", IF(T31>=71,"ब-1", IF(T31>=61,"ब-2", IF(T31>=51,"क-1", IF(T31>=41,"क-2", IF(T31>=33,"ड", IF(T31>=21,"ई-1", IF(T31<=20, "ई-2" ))))))))) -> ई-2 | X31: 0 | Y31: 0 | Z31: =SUM(X31:Y31) -> 0 | AB31: =IF(Z31>=91,"अ-1", IF(Z31>=81,"अ-2", IF(Z31>=71,"ब-1", IF(Z31>=61,"ब-2", IF(Z31>=51,"क-1", IF(Z31>=41,"क-2", IF(Z31>=33,"ड", IF(Z31>=21,"ई-1", IF(Z31<=20, "ई-2" ))))))))) -> ई-2 | AD31: 0 | AE31: 0 | AF31: =SUM(AD31:AE31) -> 0 | AH31: =IF(AF31>=91,"अ-1", IF(AF31>=81,"अ-2", IF(AF31>=71,"ब-1", IF(AF31>=61,"ब-2", IF(AF31>=51,"क-1", IF(AF31>=41,"क-2", IF(AF31>=33,"ड", IF(AF31>=21,"ई-1", IF(AF31<=20, "ई-2" ))))))))) -> ई-2 | AJ31: 0 | AK31: 0 | AL31: =SUM(AJ31:AK31) -> 0 | AN31: =IF(AL31>=91,"अ-1", IF(AL31>=81,"अ-2", IF(AL31>=71,"ब-1", IF(AL31>=61,"ब-2", IF(AL31>=51,"क-1", IF(AL31>=41,"क-2", IF(AL31>=33,"ड", IF(AL31>=21,"ई-1", IF(AL31<=20, "ई-2" ))))))))) -> ई-2 | AP31: 0 | AQ31: 0 | AR31: =SUM(AP31:AQ31) -> 0 | AT31: =IF(AR31>=91,"अ-1", IF(AR31>=81,"अ-2", IF(AR31>=71,"ब-1", IF(AR31>=61,"ब-2", IF(AR31>=51,"क-1", IF(AR31>=41,"क-2", IF(AR31>=33,"ड", IF(AR31>=21,"ई-1", IF(AR31<=20, "ई-2" ))))))))) -> ई-2 | AV31: 0 | AW31: =IF(AV31>=91,"अ-1", IF(AV31>=81,"अ-2", IF(AV31>=71,"ब-1", IF(AV31>=61,"ब-2", IF(AV31>=51,"क-1", IF(AV31>=41,"क-2", IF(AV31>=33,"ड", IF(AV31>=21,"ई-1", IF(AV31<=20, "ई-2" ))))))))) -> ई-2 | AY31: 0 | AZ31: =IF(AY31>=91,"अ-1", IF(AY31>=81,"अ-2", IF(AY31>=71,"ब-1", IF(AY31>=61,"ब-2", IF(AY31>=51,"क-1", IF(AY31>=41,"क-2", IF(AY31>=33,"ड", IF(AY31>=21,"ई-1", IF(AY31<=20, "ई-2" ))))))))) -> ई-2 | BB31: 0 | BC31: =IF(BB31>=91,"अ-1", IF(BB31>=81,"अ-2", IF(BB31>=71,"ब-1", IF(BB31>=61,"ब-2", IF(BB31>=51,"क-1", IF(BB31>=41,"क-2", IF(BB31>=33,"ड", IF(BB31>=21,"ई-1", IF(BB31<=20, "ई-2" ))))))))) -> ई-2 | BE31: =SUM(H31,N31,T31,Z31,AF31,AL31,AR31,AV31,AY31,BB31) -> 0 | BF31: =SUM(BE31*100)/BE12 -> 0 | BG31: =IF(BF31>=91,"अ-1", IF(BF31>=81,"अ-2", IF(BF31>=71,"ब-1", IF(BF31>=61,"ब-2", IF(BF31>=51,"क-1", IF(BF31>=41,"क-2", IF(BF31>=33,"ड", IF(BF31>=21,"ई-1", IF(BF31>=0, "ई-2" ))))))))) -> ई-2
