Workbook

Sheet Suchana
B1: आप अब तक का सबसे आसान तरीके से "संकलित मूल्यमापन - 2" संपूर्ण तक्ता कुछ ही मिनटों मे बना सकते हैं ।
B3: सूचना | H3: ê ê ê ê ê ê ê ê ê ê ê ê ê | T3: 04.04.2025
C6: 1 | D6: सबसे पहले Info_1 Sheet में आवश्यक माहिती केवल एक बार भरना है ।
D8: विद्यार्थियों के नाम Type करने के बाद M / F (Male / Female) Select करना अति आवश्यक है |
D9: जितने विद्यार्थियों के M या F Select होगा, उन्हीं का रिजल्ट तैयार होगा ।
D10: अब बच्चों की Cast Select करें ।
C12: 2 | D12: Takta_A में केवल आकारिक के अंक भरना है, बस ! तक्ता - अ, तक्ता - ब, लास्ट पेज, कवर पेज और रिपोर्ट कार्ड तैयार है ।
C14: 3 | D14: अब आप 60 विद्यार्थियों के रिजल्ट बना सकते हैं ।
C16: 4 | D16: Takta_A में जहाँ "बृहन्मुंबई महानगरपालिका - शिक्षण विभाग" लिखा हुआ है,
D17: उसे वहीं पर अपनी आवश्यकता अनुसार बदल / Edit कर सकते हैं ।
B18: F | D18: Takta_A में अब सातत्यपूर्ण सर्वंकष मूल्यमापन ( 1 या 2 ) को Select करने की सुविधा दिया गया है ।
C20: 5 | D20: द्वितीय भाषा या तृतीय भाषा, मराठी या अंग्रेजी के अतिरिक्त कोई और भाषा होने पर
D21: "Takta_A" में ही उसके शीर्षक (Heading) को बदल सकते हैं ।
C23: 6 | D23: तृतीय भाषा ना होने पर कुल अंक में अब तक बदल नहीं किया जा सकता था, पर अब उसमें बदल करने का ऑप्शन दिया गया है ।
D24: जैसे : | F24: आपके विद्यालय में तृतीय भाषा की परीक्षा नहीं होने पर
F25: आप तृतीय भाषा के संकलित और आकारिक मूल्यमापन के अंक Takta_A में 0 "शून्य" टाईप कर दिजीए,
F26: अब आपके कुल योग का चेक कर लिजीए ।
C28: 7 | D28: तक्ता तैयार होने पर Save करें और File Menu > Save as में जाकर
D29: PDF फाईल ऑप्शन चुनकर PDF फाईल सेव करें प्रिंट लेना आसान हो जाएगा ।
C31: 8 | D31: Report Card विद्यार्थियों को भेजने के लिए "Report Card Sheet" पर जाकर जैसे ही आप रोल नंबर चेंज करेंगे, उस बच्चे का
D32: Report Card आप के सामने होगा । अब आप उसे File Menu > Save as में जाकर PDF फाईल ऑप्शन चुनकर PDF फाईल सेव करें । इसी प्रकार हर विद्यार्थी का Report Card, सेव करके उसे Whatsapp पर भेज सकतें हैं ।

Sheet Info_1
C1: hellomitra.in | I1: Sr.No.2 Start From Here | J1: hellomitra.in
B2: è | C2: Purple कलर के Cell में आवश्यक जानकारी टाईप करें एक बार आपको Result Sheet (तक्ता) पर पुन: टाईप करने की आवश्यकता नहीं होगी । | J2: अनु. टाईप करें | K2: विद्यार्थियों के नाम टाइप करें ê | L2: ê यहाँ ऑप्शन चुनना है । ê | O2: Warning ( आवश्यक सूचना)
B3: è | C3: For Std. 6th | D3: ê | E3: नीचे Purple Colour के Cell में आवश्यक जानकारी Type करें । | H3: ê | J3: Sr. No. | K3: Students Name | L3: Select Male / Female | M3: Cast | O3: Male / Female Select करना अतिआवश्यक है । बीना Select किए आप का Result Sheet (तक्ता - अ, तक्ता - ब) तैयार नहीं होगा ।
J4: ê | K4: ê | L4: ê | M4: ê
B5: 1 ) | C5: स्कूल का नाम : | D5: School Name | J5: 1 | O5: यहाँ आपको विद्यार्थियों के अनु. क्र. (Sr.No.), नाम (Name Of Students) Type करना है ।
C6: स्कूल का पता : | D6: School Address | I6: è
B7: 2 ) | C7: वार्ड | D7: A | E7: ç è | F7: माध्यम : | G7: Hindi
B9: 3 ) | C9: URC | D9: 1 | E9: ç | F9: वर्ष : | G9: 2024 - 25
O10: बालक / कन्या ( Male / Female ) और जाति प्रवर्ग ( Cast ) को वही Cell में Click करके चुनाव (Select) करना है । बस इतना ही ।
B11: 4 ) | C11: UDISE No. | D11: 27220000000 | H11: ç
D12: ê
B13: 5 ) | C13: कक्षा : | D13: 6 | E13: वर्ग : | F13: A | G13: ç
D14: ê | E14: ê
B15: 6 ) | D15: पट | E15: उपस्थित | F15: अनुपस्थित
C16: बालक | F16: =D16-E16 -> 0
D17: ê | E17: ê | F17: ê
C18: कन्या | F18: =D18-E18 -> 0
D19: ê | E19: ê | F19: ê
C20: योग | D20: =SUM(D16:D19) -> 0 | E20: =SUM(E16:E19) -> 0 | F20: =SUM(F16:F19) -> 0
B22: 7 ) | C22: वर्ग शिक्षक (नाम) | E22: Class Teacher's Name
E23: é
B24: 8 ) | C24: तक्ता तैयार कर्ता (नाम) | E24: Type Here - Prepaired By
E25: é
B26: 9 ) | C26: तक्ता तपासला (नाम) | E26: Type Here - Checked By
E27: é
B28: 10 ) | C28: मुख्याध्यापक (नाम) : | E28: HM's Name
E29: é
B31: 11 ) | C31: संस्था | E31: बृहन्मुंबई महानगरपालिका - शिक्षण विभाग
E32: é
C36: hellomitraonline@gmail.com
C46: Copyright@hellomitra.blogspot.in March-2018
C47: arvindgg

Sheet Takta_A
B2: =Info_1!E31 -> बृहन्मुंबई महानगरपालिका - शिक्षण विभाग
B3: कक्षा : | D3: =Info_1!D13 -> 6 | E3: सातत्यपूर्ण सर्वंकष मूल्यमापन | P3: - | Q3: 2 | S3: तक्ता - अ | AB3: शैक्षणिक वर्ष: | AG3: =Info_1!G9 -> 2024 - 25 | AY3: माध्यम : | BD3: =Info_1!G7 -> Hindi
B5: शाळा : | D5: =Info_1!D5 -> School Name | S5: इयत्ता : | W5: =Info_1!D13 -> 6 | Z5: तुकडी : | AD5: =Info_1!F13 -> A | AJ5: पट : | AO5: =Info_1!D20 -> 0 | AW5: è | AY5: बालक: | BA5: =Info_1!D16 -> 0 | BD5: कन्या: | BF5: =Info_1!D18 -> 0
B7: UDISE : | D7: =Info_1!D11 -> 27220000000 | H7: URC : | L7: =Info_1!D9 -> 1 | S7: वार्ड : | W7: =Info_1!D7 -> A | AJ7: उपस्थित : | AO7: =Info_1!E20 -> 0 | AW7: è | AY7: बालक: | BA7: =Info_1!E16 -> 0 | BD7: कन्या: | BF7: =Info_1!E18 -> 0
S8: arvindgg74@ | AJ8: अनुपस्थित : | AO8: =Info_1!F20 -> 0 | AY8: बालक : | BA8: =Info_1!F16 -> 0 | BD8: कन्या : | BF8: =Info_1!F18 -> 0
B9: जाति प्रवर्ग | C9: अनु. क्रमांक | D9: hellomitra.blogspot.in | E9: * | F9: विषय | BE9: शाळा सिद्धी में रिपोर्ट Submit के लिए
D10: विद्यार्थ्यांचे नाव | F10: प्रथम भाषा | L10: द्वितीय भाषा (मराठी) | R10: तृतीय भाषा (इंग्रजी) | X10: गणित | AD10: सामान्य विज्ञान | AJ10: सामाजिक शास्त्र | AP10: स्काऊट / गाईड | AV10: कला | AY10: कार्यानुभव | BB10: शा.शि. व आरोग्य
E11: M / F | F11: आकारिक मूल्यमापन गुण | G11: संकलित मूल्यमापन गुण | H11: एकूण मूल्यमापन गुण | J11: अतिरिक्त पूरक मार्गदर्शन पूर्व श्रेणी | K11: अतिरिक्त पूरक मार्गदर्शन नंतरची श्रेणी | L11: आकारिक मूल्यमापन गुण | M11: संकलित मूल्यमापन गुण | N11: एकूण मूल्यमापन गुण | P11: अतिरिक्त पूरक मार्गदर्शन पूर्व श्रेणी | Q11: अतिरिक्त पूरक मार्गदर्शन नंतरची श्रेणी | R11: आकारिक मूल्यमापन गुण | S11: संकलित मूल्यमापन गुण | T11: एकूण मूल्यमापन गुण | V11: अतिरिक्त पूरक मार्गदर्शन पूर्व श्रेणी | W11: अतिरिक्त पूरक मार्गदर्शन नंतरची श्रेणी | X11: आकारिक मूल्यमापन गुण | Y11: संकलित मूल्यमापन गुण | Z11: एकूण मूल्यमापन गुण | AB11: अतिरिक्त पूरक मार्गदर्शन पूर्व श्रेणी | AC11: अतिरिक्त पूरक मार्गदर्शन नंतरची श्रेणी | AD11: आकारिक मूल्यमापन गुण | AE11: संकलित मूल्यमापन गुण | AF11: एकूण मूल्यमापन गुण | AH11: अतिरिक्त पूरक मार्गदर्शन पूर्व श्रेणी | AI11: अतिरिक्त पूरक मार्गदर्शन नंतरची श्रेणी | AJ11: आकारिक मूल्यमापन गुण | AK11: संकलित मूल्यमापन गुण | AL11: एकूण मूल्यमापन गुण | AN11: अतिरिक्त पूरक मार्गदर्शन पूर्व श्रेणी | AO11: अतिरिक्त पूरक मार्गदर्शन नंतरची श्रेणी | AP11: आकारिक मूल्यमापन गुण | AQ11: संकलित मूल्यमापन गुण | AR11: एकूण मूल्यमापन गुण | AT11: अतिरिक्त पूरक मार्गदर्शन पूर्व श्रेणी | AU11: अतिरिक्त पूरक मार्गदर्शन नंतरची श्रेणी | AV11: आकारिक मूल्यमापन गुण | AW11: अतिरिक्त पूरक मार्गदर्शन पूर्व श्रेणी | AX11: अतिरिक्त पूरक मार्गदर्शन नंतरची श्रेणी | AY11: आकारिक मूल्यमापन गुण | AZ11: अतिरिक्त पूरक मार्गदर्शन पूर्व श्रेणी | BA11: अतिरिक्त पूरक मार्गदर्शन नंतरची श्रेणी | BB11: आकारिक मूल्यमापन गुण | BC11: अतिरिक्त पूरक मार्गदर्शन पूर्व श्रेणी | BD11: अतिरिक्त पूरक मार्गदर्शन नंतरची श्रेणी | BE11: कुल योग (सभी विषय) | BF11: प्रतिशत अंक | BG11: श्रेणी
E12: भारांश :) | F12: 50 | G12: 50 | H12: 100 | J12: श्रेणी | L12: =F12 -> 50 | M12: 50 | N12: =H12 -> 100 | P12: श्रेणी | R12: 50 | S12: 50 | T12: 100 | V12: श्रेणी | X12: 50 | Y12: 50 | Z12: =SUM(X12:Y12) -> 100 | AB12: श्रेणी | AD12: =X12 -> 50 | AE12: 50 | AF12: =Z12 -> 100 | AH12: श्रेणी | AJ12: =AD12 -> 50 | AK12: 50 | AL12: =AF12 -> 100 | AN12: श्रेणी | AP12: =AJ12 -> 50 | AQ12: 50 | AR12: =AL12 -> 100 | AT12: श्रेणी | AV12: 100 | AW12: श्रेणी | AY12: 100 | AZ12: श्रेणी | BB12: 100 | BC12: श्रेणी | BE12: =SUM(H12,N12,T12,Z12,AF12,AL12,AR12,AV12,AY12,BB12) -> 1000 | BF12: %
B13: =Info_1!M5 -> 0 | C13: =Info_1!J5 -> 1 | D13: =Info_1!K5 -> 0 | E13: =Info_1!L5 -> 0 | F13: 0 | G13: 0 | H13: =SUM(F13:G13) -> 0 | J13: =IF(H13>=91,"अ-1", IF(H13>=81,"अ-2", IF(H13>=71,"ब-1", IF(H13>=61,"ब-2", IF(H13>=51,"क-1", IF(H13>=41,"क-2", IF(H13>=33,"ड", IF(H13>=21,"ई-1", IF(H13<=20, "ई-2" ))))))))) -> ई-2 | L13: 0 | M13: 0 | N13: =SUM(L13:M13) -> 0 | P13: =IF(N13>=91,"अ-1", IF(N13>=81,"अ-2", IF(N13>=71,"ब-1", IF(N13>=61,"ब-2", IF(N13>=51,"क-1", IF(N13>=41,"क-2", IF(N13>=33,"ड", IF(N13>=21,"ई-1", IF(N13<=20, "ई-2" ))))))))) -> ई-2 | R13: 0 | S13: 0 | T13: =SUM(R13:S13) -> 0 | V13: =IF(T13>=91,"अ-1", IF(T13>=81,"अ-2", IF(T13>=71,"ब-1", IF(T13>=61,"ब-2", IF(T13>=51,"क-1", IF(T13>=41,"क-2", IF(T13>=33,"ड", IF(T13>=21,"ई-1", IF(T13<=20, "ई-2" ))))))))) -> ई-2 | X13: 0 | Y13: 0 | Z13: =SUM(X13:Y13) -> 0 | AB13: =IF(Z13>=91,"अ-1", IF(Z13>=81,"अ-2", IF(Z13>=71,"ब-1", IF(Z13>=61,"ब-2", IF(Z13>=51,"क-1", IF(Z13>=41,"क-2", IF(Z13>=33,"ड", IF(Z13>=21,"ई-1", IF(Z13<=20, "ई-2" ))))))))) -> ई-2 | AD13: 0 | AE13: 0 | AF13: =SUM(AD13:AE13) -> 0 | AH13: =IF(AF13>=91,"अ-1", IF(AF13>=81,"अ-2", IF(AF13>=71,"ब-1", IF(AF13>=61,"ब-2", IF(AF13>=51,"क-1", IF(AF13>=41,"क-2", IF(AF13>=33,"ड", IF(AF13>=21,"ई-1", IF(AF13<=20, "ई-2" ))))))))) -> ई-2 | AJ13: 0 | AK13: 0 | AL13: =SUM(AJ13:AK13) -> 0 | AN13: =IF(AL13>=91,"अ-1", IF(AL13>=81,"अ-2", IF(AL13>=71,"ब-1", IF(AL13>=61,"ब-2", IF(AL13>=51,"क-1", IF(AL13>=41,"क-2", IF(AL13>=33,"ड", IF(AL13>=21,"ई-1", IF(AL13<=20, "ई-2" ))))))))) -> ई-2 | AP13: 0 | AQ13: 0 | AR13: =SUM(AP13:AQ13) -> 0 | AT13: =IF(AR13>=91,"अ-1", IF(AR13>=81,"अ-2", IF(AR13>=71,"ब-1", IF(AR13>=61,"ब-2", IF(AR13>=51,"क-1", IF(AR13>=41,"क-2", IF(AR13>=33,"ड", IF(AR13>=21,"ई-1", IF(AR13<=20, "ई-2" ))))))))) -> ई-2 | AV13: 0 | AW13: =IF(AV13>=91,"अ-1", IF(AV13>=81,"अ-2", IF(AV13>=71,"ब-1", IF(AV13>=61,"ब-2", IF(AV13>=51,"क-1", IF(AV13>=41,"क-2", IF(AV13>=33,"ड", IF(AV13>=21,"ई-1", IF(AV13<=20, "ई-2" ))))))))) -> ई-2 | AY13: 0 | AZ13: =IF(AY13>=91,"अ-1", IF(AY13>=81,"अ-2", IF(AY13>=71,"ब-1", IF(AY13>=61,"ब-2", IF(AY13>=51,"क-1", IF(AY13>=41,"क-2", IF(AY13>=33,"ड", IF(AY13>=21,"ई-1", IF(AY13<=20, "ई-2" ))))))))) -> ई-2 | BB13: 0 | BC13: =IF(BB13>=91,"अ-1", IF(BB13>=81,"अ-2", IF(BB13>=71,"ब-1", IF(BB13>=61,"ब-2", IF(BB13>=51,"क-1", IF(BB13>=41,"क-2", IF(BB13>=33,"ड", IF(BB13>=21,"ई-1", IF(BB13<=20, "ई-2" ))))))))) -> ई-2 | BE13: =SUM(H13,N13,T13,Z13,AF13,AL13,AR13,AV13,AY13,BB13) -> 0 | BF13: =SUM(BE13*100)/BE12 -> 0 | BG13: =IF(BF13>=91,"अ-1", IF(BF13>=81,"अ-2", IF(BF13>=71,"ब-1", IF(BF13>=61,"ब-2", IF(BF13>=51,"क-1", IF(BF13>=41,"क-2", IF(BF13>=33,"ड", IF(BF13>=21,"ई-1", IF(BF13>=0, "ई-2" ))))))))) -> ई-2
B14: =Info_1!M6 -> 0 | C14: =Info_1!J6 -> 0 | D14: =Info_1!K6 -> 0 | E14: =Info_1!L6 -> 0 | F14: 0 | G14: 0 | H14: =SUM(F14:G14) -> 0 | J14: =IF(H14>=91,"अ-1", IF(H14>=81,"अ-2", IF(H14>=71,"ब-1", IF(H14>=61,"ब-2", IF(H14>=51,"क-1", IF(H14>=41,"क-2", IF(H14>=33,"ड", IF(H14>=21,"ई-1", IF(H14<=20, "ई-2" ))))))))) -> ई-2 | L14: 0 | M14: 0 | N14: =SUM(L14:M14) -> 0 | P14: =IF(N14>=91,"अ-1", IF(N14>=81,"अ-2", IF(N14>=71,"ब-1", IF(N14>=61,"ब-2", IF(N14>=51,"क-1", IF(N14>=41,"क-2", IF(N14>=33,"ड", IF(N14>=21,"ई-1", IF(N14<=20, "ई-2" ))))))))) -> ई-2 | R14: 0 | S14: 0 | T14: =SUM(R14:S14) -> 0 | V14: =IF(T14>=91,"अ-1", IF(T14>=81,"अ-2", IF(T14>=71,"ब-1", IF(T14>=61,"ब-2", IF(T14>=51,"क-1", IF(T14>=41,"क-2", IF(T14>=33,"ड", IF(T14>=21,"ई-1", IF(T14<=20, "ई-2" ))))))))) -> ई-2 | X14: 0 | Y14: 0 | Z14: =SUM(X14:Y14) -> 0 | AB14: =IF(Z14>=91,"अ-1", IF(Z14>=81,"अ-2", IF(Z14>=71,"ब-1", IF(Z14>=61,"ब-2", IF(Z14>=51,"क-1", IF(Z14>=41,"क-2", IF(Z14>=33,"ड", IF(Z14>=21,"ई-1", IF(Z14<=20, "ई-2" ))))))))) -> ई-2 | AD14: 0 | AE14: 0 | AF14: =SUM(AD14:AE14) -> 0 | AH14: =IF(AF14>=91,"अ-1", IF(AF14>=81,"अ-2", IF(AF14>=71,"ब-1", IF(AF14>=61,"ब-2", IF(AF14>=51,"क-1", IF(AF14>=41,"क-2", IF(AF14>=33,"ड", IF(AF14>=21,"ई-1", IF(AF14<=20, "ई-2" ))))))))) -> ई-2 | AJ14: 0 | AK14: 0 | AL14: =SUM(AJ14:AK14) -> 0 | AN14: =IF(AL14>=91,"अ-1", IF(AL14>=81,"अ-2", IF(AL14>=71,"ब-1", IF(AL14>=61,"ब-2", IF(AL14>=51,"क-1", IF(AL14>=41,"क-2", IF(AL14>=33,"ड", IF(AL14>=21,"ई-1", IF(AL14<=20, "ई-2" ))))))))) -> ई-2 | AP14: 0 | AQ14: 0 | AR14: =SUM(AP14:AQ14) -> 0 | AT14: =IF(AR14>=91,"अ-1", IF(AR14>=81,"अ-2", IF(AR14>=71,"ब-1", IF(AR14>=61,"ब-2", IF(AR14>=51,"क-1", IF(AR14>=41,"क-2", IF(AR14>=33,"ड", IF(AR14>=21,"ई-1", IF(AR14<=20, "ई-2" ))))))))) -> ई-2 | AV14: 0 | AW14: =IF(AV14>=91,"अ-1", IF(AV14>=81,"अ-2", IF(AV14>=71,"ब-1", IF(AV14>=61,"ब-2", IF(AV14>=51,"क-1", IF(AV14>=41,"क-2", IF(AV14>=33,"ड", IF(AV14>=21,"ई-1", IF(AV14<=20, "ई-2" ))))))))) -> ई-2 | AY14: 0 | AZ14: =IF(AY14>=91,"अ-1", IF(AY14>=81,"अ-2", IF(AY14>=71,"ब-1", IF(AY14>=61,"ब-2", IF(AY14>=51,"क-1", IF(AY14>=41,"क-2", IF(AY14>=33,"ड", IF(AY14>=21,"ई-1", IF(AY14<=20, "ई-2" ))))))))) -> ई-2 | BB14: 0 | BC14: =IF(BB14>=91,"अ-1", IF(BB14>=81,"अ-2", IF(BB14>=71,"ब-1", IF(BB14>=61,"ब-2", IF(BB14>=51,"क-1", IF(BB14>=41,"क-2", IF(BB14>=33,"ड", IF(BB14>=21,"ई-1", IF(BB14<=20, "ई-2" ))))))))) -> ई-2 | BE14: =SUM(H14,N14,T14,Z14,AF14,AL14,AR14,AV14,AY14,BB14) -> 0 | BF14: =SUM(BE14*100)/BE12 -> 0 | BG14: =IF(BF14>=91,"अ-1", IF(BF14>=81,"अ-2", IF(BF14>=71,"ब-1", IF(BF14>=61,"ब-2", IF(BF14>=51,"क-1", IF(BF14>=41,"क-2", IF(BF14>=33,"ड", IF(BF14>=21,"ई-1", IF(BF14>=0, "ई-2" ))))))))) -> ई-2
B15: =Info_1!M7 -> 0 | C15: =Info_1!J7 -> 0 | D15: =Info_1!K7 -> 0 | E15: =Info_1!L7 -> 0 | F15: 0 | G15: 0 | H15: =SUM(F15:G15) -> 0 | J15: =IF(H15>=91,"अ-1", IF(H15>=81,"अ-2", IF(H15>=71,"ब-1", IF(H15>=61,"ब-2", IF(H15>=51,"क-1", IF(H15>=41,"क-2", IF(H15>=33,"ड", IF(H15>=21,"ई-1", IF(H15<=20, "ई-2" ))))))))) -> ई-2 | L15: 0 | M15: 0 | N15: =SUM(L15:M15) -> 0 | P15: =IF(N15>=91,"अ-1", IF(N15>=81,"अ-2", IF(N15>=71,"ब-1", IF(N15>=61,"ब-2", IF(N15>=51,"क-1", IF(N15>=41,"क-2", IF(N15>=33,"ड", IF(N15>=21,"ई-1", IF(N15<=20, "ई-2" ))))))))) -> ई-2 | R15: 0 | S15: 0 | T15: =SUM(R15:S15) -> 0 | V15: =IF(T15>=91,"अ-1", IF(T15>=81,"अ-2", IF(T15>=71,"ब-1", IF(T15>=61,"ब-2", IF(T15>=51,"क-1", IF(T15>=41,"क-2", IF(T15>=33,"ड", IF(T15>=21,"ई-1", IF(T15<=20, "ई-2" ))))))))) -> ई-2 | X15: 0 | Y15: 0 | Z15: =SUM(X15:Y15) -> 0 | AB15: =IF(Z15>=91,"अ-1", IF(Z15>=81,"अ-2", IF(Z15>=71,"ब-1", IF(Z15>=61,"ब-2", IF(Z15>=51,"क-1", IF(Z15>=41,"क-2", IF(Z15>=33,"ड", IF(Z15>=21,"ई-1", IF(Z15<=20, "ई-2" ))))))))) -> ई-2 | AD15: 0 | AE15: 0 | AF15: =SUM(AD15:AE15) -> 0 | AH15: =IF(AF15>=91,"अ-1", IF(AF15>=81,"अ-2", IF(AF15>=71,"ब-1", IF(AF15>=61,"ब-2", IF(AF15>=51,"क-1", IF(AF15>=41,"क-2", IF(AF15>=33,"ड", IF(AF15>=21,"ई-1", IF(AF15<=20, "ई-2" ))))))))) -> ई-2 | AJ15: 0 | AK15: 0 | AL15: =SUM(AJ15:AK15) -> 0 | AN15: =IF(AL15>=91,"अ-1", IF(AL15>=81,"अ-2", IF(AL15>=71,"ब-1", IF(AL15>=61,"ब-2", IF(AL15>=51,"क-1", IF(AL15>=41,"क-2", IF(AL15>=33,"ड", IF(AL15>=21,"ई-1", IF(AL15<=20, "ई-2" ))))))))) -> ई-2 | AP15: 0 | AQ15: 0 | AR15: =SUM(AP15:AQ15) -> 0 | AT15: =IF(AR15>=91,"अ-1", IF(AR15>=81,"अ-2", IF(AR15>=71,"ब-1", IF(AR15>=61,"ब-2", IF(AR15>=51,"क-1", IF(AR15>=41,"क-2", IF(AR15>=33,"ड", IF(AR15>=21,"ई-1", IF(AR15<=20, "ई-2" ))))))))) -> ई-2 | AV15: 0 | AW15: =IF(AV15>=91,"अ-1", IF(AV15>=81,"अ-2", IF(AV15>=71,"ब-1", IF(AV15>=61,"ब-2", IF(AV15>=51,"क-1", IF(AV15>=41,"क-2", IF(AV15>=33,"ड", IF(AV15>=21,"ई-1", IF(AV15<=20, "ई-2" ))))))))) -> ई-2 | AY15: 0 | AZ15: =IF(AY15>=91,"अ-1", IF(AY15>=81,"अ-2", IF(AY15>=71,"ब-1", IF(AY15>=61,"ब-2", IF(AY15>=51,"क-1", IF(AY15>=41,"क-2", IF(AY15>=33,"ड", IF(AY15>=21,"ई-1", IF(AY15<=20, "ई-2" ))))))))) -> ई-2 | BB15: 0 | BC15: =IF(BB15>=91,"अ-1", IF(BB15>=81,"अ-2", IF(BB15>=71,"ब-1", IF(BB15>=61,"ब-2", IF(BB15>=51,"क-1", IF(BB15>=41,"क-2", IF(BB15>=33,"ड", IF(BB15>=21,"ई-1", IF(BB15<=20, "ई-2" ))))))))) -> ई-2 | BE15: =SUM(H15,N15,T15,Z15,AF15,AL15,AR15,AV15,AY15,BB15) -> 0 | BF15: =SUM(BE15*100)/BE12 -> 0 | BG15: =IF(BF15>=91,"अ-1", IF(BF15>=81,"अ-2", IF(BF15>=71,"ब-1", IF(BF15>=61,"ब-2", IF(BF15>=51,"क-1", IF(BF15>=41,"क-2", IF(BF15>=33,"ड", IF(BF15>=21,"ई-1", IF(BF15>=0, "ई-2" ))))))))) -> ई-2
B16: =Info_1!M8 -> 0 | C16: =Info_1!J8 -> 0 | D16: =Info_1!K8 -> 0 | E16: =Info_1!L8 -> 0 | F16: 0 | G16: 0 | H16: =SUM(F16:G16) -> 0 | J16: =IF(H16>=91,"अ-1", IF(H16>=81,"अ-2", IF(H16>=71,"ब-1", IF(H16>=61,"ब-2", IF(H16>=51,"क-1", IF(H16>=41,"क-2", IF(H16>=33,"ड", IF(H16>=21,"ई-1", IF(H16<=20, "ई-2" ))))))))) -> ई-2 | L16: 0 | M16: 0 | N16: =SUM(L16:M16) -> 0 | P16: =IF(N16>=91,"अ-1", IF(N16>=81,"अ-2", IF(N16>=71,"ब-1", IF(N16>=61,"ब-2", IF(N16>=51,"क-1", IF(N16>=41,"क-2", IF(N16>=33,"ड", IF(N16>=21,"ई-1", IF(N16<=20, "ई-2" ))))))))) -> ई-2 | R16: 0 | S16: 0 | T16: =SUM(R16:S16) -> 0 | V16: =IF(T16>=91,"अ-1", IF(T16>=81,"अ-2", IF(T16>=71,"ब-1", IF(T16>=61,"ब-2", IF(T16>=51,"क-1", IF(T16>=41,"क-2", IF(T16>=33,"ड", IF(T16>=21,"ई-1", IF(T16<=20, "ई-2" ))))))))) -> ई-2 | X16: 0 | Y16: 0 | Z16: =SUM(X16:Y16) -> 0 | AB16: =IF(Z16>=91,"अ-1", IF(Z16>=81,"अ-2", IF(Z16>=71,"ब-1", IF(Z16>=61,"ब-2", IF(Z16>=51,"क-1", IF(Z16>=41,"क-2", IF(Z16>=33,"ड", IF(Z16>=21,"ई-1", IF(Z16<=20, "ई-2" ))))))))) -> ई-2 | AD16: 0 | AE16: 0 | AF16: =SUM(AD16:AE16) -> 0 | AH16: =IF(AF16>=91,"अ-1", IF(AF16>=81,"अ-2", IF(AF16>=71,"ब-1", IF(AF16>=61,"ब-2", IF(AF16>=51,"क-1", IF(AF16>=41,"क-2", IF(AF16>=33,"ड", IF(AF16>=21,"ई-1", IF(AF16<=20, "ई-2" ))))))))) -> ई-2 | AJ16: 0 | AK16: 0 | AL16: =SUM(AJ16:AK16) -> 0 | AN16: =IF(AL16>=91,"अ-1", IF(AL16>=81,"अ-2", IF(AL16>=71,"ब-1", IF(AL16>=61,"ब-2", IF(AL16>=51,"क-1", IF(AL16>=41,"क-2", IF(AL16>=33,"ड", IF(AL16>=21,"ई-1", IF(AL16<=20, "ई-2" ))))))))) -> ई-2 | AP16: 0 | AQ16: 0 | AR16: =SUM(AP16:AQ16) -> 0 | AT16: =IF(AR16>=91,"अ-1", IF(AR16>=81,"अ-2", IF(AR16>=71,"ब-1", IF(AR16>=61,"ब-2", IF(AR16>=51,"क-1", IF(AR16>=41,"क-2", IF(AR16>=33,"ड", IF(AR16>=21,"ई-1", IF(AR16<=20, "ई-2" ))))))))) -> ई-2 | AV16: 0 | AW16: =IF(AV16>=91,"अ-1", IF(AV16>=81,"अ-2", IF(AV16>=71,"ब-1", IF(AV16>=61,"ब-2", IF(AV16>=51,"क-1", IF(AV16>=41,"क-2", IF(AV16>=33,"ड", IF(AV16>=21,"ई-1", IF(AV16<=20, "ई-2" ))))))))) -> ई-2 | AY16: 0 | AZ16: =IF(AY16>=91,"अ-1", IF(AY16>=81,"अ-2", IF(AY16>=71,"ब-1", IF(AY16>=61,"ब-2", IF(AY16>=51,"क-1", IF(AY16>=41,"क-2", IF(AY16>=33,"ड", IF(AY16>=21,"ई-1", IF(AY16<=20, "ई-2" ))))))))) -> ई-2 | BB16: 0 | BC16: =IF(BB16>=91,"अ-1", IF(BB16>=81,"अ-2", IF(BB16>=71,"ब-1", IF(BB16>=61,"ब-2", IF(BB16>=51,"क-1", IF(BB16>=41,"क-2", IF(BB16>=33,"ड", IF(BB16>=21,"ई-1", IF(BB16<=20, "ई-2" ))))))))) -> ई-2 | BE16: =SUM(H16,N16,T16,Z16,AF16,AL16,AR16,AV16,AY16,BB16) -> 0 | BF16: =SUM(BE16*100)/BE12 -> 0 | BG16: =IF(BF16>=91,"अ-1", IF(BF16>=81,"अ-2", IF(BF16>=71,"ब-1", IF(BF16>=61,"ब-2", IF(BF16>=51,"क-1", IF(BF16>=41,"क-2", IF(BF16>=33,"ड", IF(BF16>=21,"ई-1", IF(BF16>=0, "ई-2" ))))))))) -> ई-2
B17: =Info_1!M9 -> 0 | C17: =Info_1!J9 -> 0 | D17: =Info_1!K9 -> 0 | E17: =Info_1!L9 -> 0 | F17: 0 | G17: 0 | H17: =SUM(F17:G17) -> 0 | J17: =IF(H17>=91,"अ-1", IF(H17>=81,"अ-2", IF(H17>=71,"ब-1", IF(H17>=61,"ब-2", IF(H17>=51,"क-1", IF(H17>=41,"क-2", IF(H17>=33,"ड", IF(H17>=21,"ई-1", IF(H17<=20, "ई-2" ))))))))) -> ई-2 | L17: 0 | M17: 0 | N17: =SUM(L17:M17) -> 0 | P17: =IF(N17>=91,"अ-1", IF(N17>=81,"अ-2", IF(N17>=71,"ब-1", IF(N17>=61,"ब-2", IF(N17>=51,"क-1", IF(N17>=41,"क-2", IF(N17>=33,"ड", IF(N17>=21,"ई-1", IF(N17<=20, "ई-2" ))))))))) -> ई-2 | R17: 0 | S17: 0 | T17: =SUM(R17:S17) -> 0 | V17: =IF(T17>=91,"अ-1", IF(T17>=81,"अ-2", IF(T17>=71,"ब-1", IF(T17>=61,"ब-2", IF(T17>=51,"क-1", IF(T17>=41,"क-2", IF(T17>=33,"ड", IF(T17>=21,"ई-1", IF(T17<=20, "ई-2" ))))))))) -> ई-2 | X17: 0 | Y17: 0 | Z17: =SUM(X17:Y17) -> 0 | AB17: =IF(Z17>=91,"अ-1", IF(Z17>=81,"अ-2", IF(Z17>=71,"ब-1", IF(Z17>=61,"ब-2", IF(Z17>=51,"क-1", IF(Z17>=41,"क-2", IF(Z17>=33,"ड", IF(Z17>=21,"ई-1", IF(Z17<=20, "ई-2" ))))))))) -> ई-2 | AD17: 0 | AE17: 0 | AF17: =SUM(AD17:AE17) -> 0 | AH17: =IF(AF17>=91,"अ-1", IF(AF17>=81,"अ-2", IF(AF17>=71,"ब-1", IF(AF17>=61,"ब-2", IF(AF17>=51,"क-1", IF(AF17>=41,"क-2", IF(AF17>=33,"ड", IF(AF17>=21,"ई-1", IF(AF17<=20, "ई-2" ))))))))) -> ई-2 | AJ17: 0 | AK17: 0 | AL17: =SUM(AJ17:AK17) -> 0 | AN17: =IF(AL17>=91,"अ-1", IF(AL17>=81,"अ-2", IF(AL17>=71,"ब-1", IF(AL17>=61,"ब-2", IF(AL17>=51,"क-1", IF(AL17>=41,"क-2", IF(AL17>=33,"ड", IF(AL17>=21,"ई-1", IF(AL17<=20, "ई-2" ))))))))) -> ई-2 | AP17: 0 | AQ17: 0 | AR17: =SUM(AP17:AQ17) -> 0 | AT17: =IF(AR17>=91,"अ-1", IF(AR17>=81,"अ-2", IF(AR17>=71,"ब-1", IF(AR17>=61,"ब-2", IF(AR17>=51,"क-1", IF(AR17>=41,"क-2", IF(AR17>=33,"ड", IF(AR17>=21,"ई-1", IF(AR17<=20, "ई-2" ))))))))) -> ई-2 | AV17: 0 | AW17: =IF(AV17>=91,"अ-1", IF(AV17>=81,"अ-2", IF(AV17>=71,"ब-1", IF(AV17>=61,"ब-2", IF(AV17>=51,"क-1", IF(AV17>=41,"क-2", IF(AV17>=33,"ड", IF(AV17>=21,"ई-1", IF(AV17<=20, "ई-2" ))))))))) -> ई-2 | AY17: 0 | AZ17: =IF(AY17>=91,"अ-1", IF(AY17>=81,"अ-2", IF(AY17>=71,"ब-1", IF(AY17>=61,"ब-2", IF(AY17>=51,"क-1", IF(AY17>=41,"क-2", IF(AY17>=33,"ड", IF(AY17>=21,"ई-1", IF(AY17<=20, "ई-2" ))))))))) -> ई-2 | BB17: 0 | BC17: =IF(BB17>=91,"अ-1", IF(BB17>=81,"अ-2", IF(BB17>=71,"ब-1", IF(BB17>=61,"ब-2", IF(BB17>=51,"क-1", IF(BB17>=41,"क-2", IF(BB17>=33,"ड", IF(BB17>=21,"ई-1", IF(BB17<=20, "ई-2" ))))))))) -> ई-2 | BE17: =SUM(H17,N17,T17,Z17,AF17,AL17,AR17,AV17,AY17,BB17) -> 0 | BF17: =SUM(BE17*100)/BE12 -> 0 | BG17: =IF(BF17>=91,"अ-1", IF(BF17>=81,"अ-2", IF(BF17>=71,"ब-1", IF(BF17>=61,"ब-2", IF(BF17>=51,"क-1", IF(BF17>=41,"क-2", IF(BF17>=33,"ड", IF(BF17>=21,"ई-1", IF(BF17>=0, "ई-2" ))))))))) -> ई-2
B18: =Info_1!M10 -> 0 | C18: =Info_1!J10 -> 0 | D18: =Info_1!K10 -> 0 | E18: =Info_1!L10 -> 0 | F18: 0 | G18: 0 | H18: =SUM(F18:G18) -> 0 | J18: =IF(H18>=91,"अ-1", IF(H18>=81,"अ-2", IF(H18>=71,"ब-1", IF(H18>=61,"ब-2", IF(H18>=51,"क-1", IF(H18>=41,"क-2", IF(H18>=33,"ड", IF(H18>=21,"ई-1", IF(H18<=20, "ई-2" ))))))))) -> ई-2 | L18: 0 | M18: 0 | N18: =SUM(L18:M18) -> 0 | P18: =IF(N18>=91,"अ-1", IF(N18>=81,"अ-2", IF(N18>=71,"ब-1", IF(N18>=61,"ब-2", IF(N18>=51,"क-1", IF(N18>=41,"क-2", IF(N18>=33,"ड", IF(N18>=21,"ई-1", IF(N18<=20, "ई-2" ))))))))) -> ई-2 | R18: 0 | S18: 0 | T18: =SUM(R18:S18) -> 0 | V18: =IF(T18>=91,"अ-1", IF(T18>=81,"अ-2", IF(T18>=71,"ब-1", IF(T18>=61,"ब-2", IF(T18>=51,"क-1", IF(T18>=41,"क-2", IF(T18>=33,"ड", IF(T18>=21,"ई-1", IF(T18<=20, "ई-2" ))))))))) -> ई-2 | X18: 0 | Y18: 0 | Z18: =SUM(X18:Y18) -> 0 | AB18: =IF(Z18>=91,"अ-1", IF(Z18>=81,"अ-2", IF(Z18>=71,"ब-1", IF(Z18>=61,"ब-2", IF(Z18>=51,"क-1", IF(Z18>=41,"क-2", IF(Z18>=33,"ड", IF(Z18>=21,"ई-1", IF(Z18<=20, "ई-2" ))))))))) -> ई-2 | AD18: 0 | AE18: 0 | AF18: =SUM(AD18:AE18) -> 0 | AH18: =IF(AF18>=91,"अ-1", IF(AF18>=81,"अ-2", IF(AF18>=71,"ब-1", IF(AF18>=61,"ब-2", IF(AF18>=51,"क-1", IF(AF18>=41,"क-2", IF(AF18>=33,"ड", IF(AF18>=21,"ई-1", IF(AF18<=20, "ई-2" ))))))))) -> ई-2 | AJ18: 0 | AK18: 0 | AL18: =SUM(AJ18:AK18) -> 0 | AN18: =IF(AL18>=91,"अ-1", IF(AL18>=81,"अ-2", IF(AL18>=71,"ब-1", IF(AL18>=61,"ब-2", IF(AL18>=51,"क-1", IF(AL18>=41,"क-2", IF(AL18>=33,"ड", IF(AL18>=21,"ई-1", IF(AL18<=20, "ई-2" ))))))))) -> ई-2 | AP18: 0 | AQ18: 0 | AR18: =SUM(AP18:AQ18) -> 0 | AT18: =IF(AR18>=91,"अ-1", IF(AR18>=81,"अ-2", IF(AR18>=71,"ब-1", IF(AR18>=61,"ब-2", IF(AR18>=51,"क-1", IF(AR18>=41,"क-2", IF(AR18>=33,"ड", IF(AR18>=21,"ई-1", IF(AR18<=20, "ई-2" ))))))))) -> ई-2 | AV18: 0 | AW18: =IF(AV18>=91,"अ-1", IF(AV18>=81,"अ-2", IF(AV18>=71,"ब-1", IF(AV18>=61,"ब-2", IF(AV18>=51,"क-1", IF(AV18>=41,"क-2", IF(AV18>=33,"ड", IF(AV18>=21,"ई-1", IF(AV18<=20, "ई-2" ))))))))) -> ई-2 | AY18: 0 | AZ18: =IF(AY18>=91,"अ-1", IF(AY18>=81,"अ-2", IF(AY18>=71,"ब-1", IF(AY18>=61,"ब-2", IF(AY18>=51,"क-1", IF(AY18>=41,"क-2", IF(AY18>=33,"ड", IF(AY18>=21,"ई-1", IF(AY18<=20, "ई-2" ))))))))) -> ई-2 | BB18: 0 | BC18: =IF(BB18>=91,"अ-1", IF(BB18>=81,"अ-2", IF(BB18>=71,"ब-1", IF(BB18>=61,"ब-2", IF(BB18>=51,"क-1", IF(BB18>=41,"क-2", IF(BB18>=33,"ड", IF(BB18>=21,"ई-1", IF(BB18<=20, "ई-2" ))))))))) -> ई-2 | BE18: =SUM(H18,N18,T18,Z18,AF18,AL18,AR18,AV18,AY18,BB18) -> 0 | BF18: =SUM(BE18*100)/BE12 -> 0 | BG18: =IF(BF18>=91,"अ-1", IF(BF18>=81,"अ-2", IF(BF18>=71,"ब-1", IF(BF18>=61,"ब-2", IF(BF18>=51,"क-1", IF(BF18>=41,"क-2", IF(BF18>=33,"ड", IF(BF18>=21,"ई-1", IF(BF18>=0, "ई-2" ))))))))) -> ई-2
B19: =Info_1!M11 -> 0 | C19: =Info_1!J11 -> 0 | D19: =Info_1!K11 -> 0 | E19: =Info_1!L11 -> 0 | F19: 0 | G19: 0 | H19: =SUM(F19:G19) -> 0 | J19: =IF(H19>=91,"अ-1", IF(H19>=81,"अ-2", IF(H19>=71,"ब-1", IF(H19>=61,"ब-2", IF(H19>=51,"क-1", IF(H19>=41,"क-2", IF(H19>=33,"ड", IF(H19>=21,"ई-1", IF(H19<=20, "ई-2" ))))))))) -> ई-2 | L19: 0 | M19: 0 | N19: =SUM(L19:M19) -> 0 | P19: =IF(N19>=91,"अ-1", IF(N19>=81,"अ-2", IF(N19>=71,"ब-1", IF(N19>=61,"ब-2", IF(N19>=51,"क-1", IF(N19>=41,"क-2", IF(N19>=33,"ड", IF(N19>=21,"ई-1", IF(N19<=20, "ई-2" ))))))))) -> ई-2 | R19: 0 | S19: 0 | T19: =SUM(R19:S19) -> 0 | V19: =IF(T19>=91,"अ-1", IF(T19>=81,"अ-2", IF(T19>=71,"ब-1", IF(T19>=61,"ब-2", IF(T19>=51,"क-1", IF(T19>=41,"क-2", IF(T19>=33,"ड", IF(T19>=21,"ई-1", IF(T19<=20, "ई-2" ))))))))) -> ई-2 | X19: 0 | Y19: 0 | Z19: =SUM(X19:Y19) -> 0 | AB19: =IF(Z19>=91,"अ-1", IF(Z19>=81,"अ-2", IF(Z19>=71,"ब-1", IF(Z19>=61,"ब-2", IF(Z19>=51,"क-1", IF(Z19>=41,"क-2", IF(Z19>=33,"ड", IF(Z19>=21,"ई-1", IF(Z19<=20, "ई-2" ))))))))) -> ई-2 | AD19: 0 | AE19: 0 | AF19: =SUM(AD19:AE19) -> 0 | AH19: =IF(AF19>=91,"अ-1", IF(AF19>=81,"अ-2", IF(AF19>=71,"ब-1", IF(AF19>=61,"ब-2", IF(AF19>=51,"क-1", IF(AF19>=41,"क-2", IF(AF19>=33,"ड", IF(AF19>=21,"ई-1", IF(AF19<=20, "ई-2" ))))))))) -> ई-2 | AJ19: 0 | AK19: 0 | AL19: =SUM(AJ19:AK19) -> 0 | AN19: =IF(AL19>=91,"अ-1", IF(AL19>=81,"अ-2", IF(AL19>=71,"ब-1", IF(AL19>=61,"ब-2", IF(AL19>=51,"क-1", IF(AL19>=41,"क-2", IF(AL19>=33,"ड", IF(AL19>=21,"ई-1", IF(AL19<=20, "ई-2" ))))))))) -> ई-2 | AP19: 0 | AQ19: 0 | AR19: =SUM(AP19:AQ19) -> 0 | AT19: =IF(AR19>=91,"अ-1", IF(AR19>=81,"अ-2", IF(AR19>=71,"ब-1", IF(AR19>=61,"ब-2", IF(AR19>=51,"क-1", IF(AR19>=41,"क-2", IF(AR19>=33,"ड", IF(AR19>=21,"ई-1", IF(AR19<=20, "ई-2" ))))))))) -> ई-2 | AV19: 0 | AW19: =IF(AV19>=91,"अ-1", IF(AV19>=81,"अ-2", IF(AV19>=71,"ब-1", IF(AV19>=61,"ब-2", IF(AV19>=51,"क-1", IF(AV19>=41,"क-2", IF(AV19>=33,"ड", IF(AV19>=21,"ई-1", IF(AV19<=20, "ई-2" ))))))))) -> ई-2 | AY19: 0 | AZ19: =IF(AY19>=91,"अ-1", IF(AY19>=81,"अ-2", IF(AY19>=71,"ब-1", IF(AY19>=61,"ब-2", IF(AY19>=51,"क-1", IF(AY19>=41,"क-2", IF(AY19>=33,"ड", IF(AY19>=21,"ई-1", IF(AY19<=20, "ई-2" ))))))))) -> ई-2 | BB19: 0 | BC19: =IF(BB19>=91,"अ-1", IF(BB19>=81,"अ-2", IF(BB19>=71,"ब-1", IF(BB19>=61,"ब-2", IF(BB19>=51,"क-1", IF(BB19>=41,"क-2", IF(BB19>=33,"ड", IF(BB19>=21,"ई-1", IF(BB19<=20, "ई-2" ))))))))) -> ई-2 | BE19: =SUM(H19,N19,T19,Z19,AF19,AL19,AR19,AV19,AY19,BB19) -> 0 | BF19: =SUM(BE19*100)/BE12 -> 0 | BG19: =IF(BF19>=91,"अ-1", IF(BF19>=81,"अ-2", IF(BF19>=71,"ब-1", IF(BF19>=61,"ब-2", IF(BF19>=51,"क-1", IF(BF19>=41,"क-2", IF(BF19>=33,"ड", IF(BF19>=21,"ई-1", IF(BF19>=0, "ई-2" ))))))))) -> ई-2
B20: =Info_1!M12 -> 0 | C20: =Info_1!J12 -> 0 | D20: =Info_1!K12 -> 0 | E20: =Info_1!L12 -> 0 | F20: 0 | G20: 0 | H20: =SUM(F20:G20) -> 0 | J20: =IF(H20>=91,"अ-1", IF(H20>=81,"अ-2", IF(H20>=71,"ब-1", IF(H20>=61,"ब-2", IF(H20>=51,"क-1", IF(H20>=41,"क-2", IF(H20>=33,"ड", IF(H20>=21,"ई-1", IF(H20<=20, "ई-2" ))))))))) -> ई-2 | L20: 0 | M20: 0 | N20: =SUM(L20:M20) -> 0 | P20: =IF(N20>=91,"अ-1", IF(N20>=81,"अ-2", IF(N20>=71,"ब-1", IF(N20>=61,"ब-2", IF(N20>=51,"क-1", IF(N20>=41,"क-2", IF(N20>=33,"ड", IF(N20>=21,"ई-1", IF(N20<=20, "ई-2" ))))))))) -> ई-2 | R20: 0 | S20: 0 | T20: =SUM(R20:S20) -> 0 | V20: =IF(T20>=91,"अ-1", IF(T20>=81,"अ-2", IF(T20>=71,"ब-1", IF(T20>=61,"ब-2", IF(T20>=51,"क-1", IF(T20>=41,"क-2", IF(T20>=33,"ड", IF(T20>=21,"ई-1", IF(T20<=20, "ई-2" ))))))))) -> ई-2 | X20: 0 | Y20: 0 | Z20: =SUM(X20:Y20) -> 0 | AB20: =IF(Z20>=91,"अ-1", IF(Z20>=81,"अ-2", IF(Z20>=71,"ब-1", IF(Z20>=61,"ब-2", IF(Z20>=51,"क-1", IF(Z20>=41,"क-2", IF(Z20>=33,"ड", IF(Z20>=21,"ई-1", IF(Z20<=20, "ई-2" ))))))))) -> ई-2 | AD20: 0 | AE20: 0 | AF20: =SUM(AD20:AE20) -> 0 | AH20: =IF(AF20>=91,"अ-1", IF(AF20>=81,"अ-2", IF(AF20>=71,"ब-1", IF(AF20>=61,"ब-2", IF(AF20>=51,"क-1", IF(AF20>=41,"क-2", IF(AF20>=33,"ड", IF(AF20>=21,"ई-1", IF(AF20<=20, "ई-2" ))))))))) -> ई-2 | AJ20: 0 | AK20: 0 | AL20: =SUM(AJ20:AK20) -> 0 | AN20: =IF(AL20>=91,"अ-1", IF(AL20>=81,"अ-2", IF(AL20>=71,"ब-1", IF(AL20>=61,"ब-2", IF(AL20>=51,"क-1", IF(AL20>=41,"क-2", IF(AL20>=33,"ड", IF(AL20>=21,"ई-1", IF(AL20<=20, "ई-2" ))))))))) -> ई-2 | AP20: 0 | AQ20: 0 | AR20: =SUM(AP20:AQ20) -> 0 | AT20: =IF(AR20>=91,"अ-1", IF(AR20>=81,"अ-2", IF(AR20>=71,"ब-1", IF(AR20>=61,"ब-2", IF(AR20>=51,"क-1", IF(AR20>=41,"क-2", IF(AR20>=33,"ड", IF(AR20>=21,"ई-1", IF(AR20<=20, "ई-2" ))))))))) -> ई-2 | AV20: 0 | AW20: =IF(AV20>=91,"अ-1", IF(AV20>=81,"अ-2", IF(AV20>=71,"ब-1", IF(AV20>=61,"ब-2", IF(AV20>=51,"क-1", IF(AV20>=41,"क-2", IF(AV20>=33,"ड", IF(AV20>=21,"ई-1", IF(AV20<=20, "ई-2" ))))))))) -> ई-2 | AY20: 0 | AZ20: =IF(AY20>=91,"अ-1", IF(AY20>=81,"अ-2", IF(AY20>=71,"ब-1", IF(AY20>=61,"ब-2", IF(AY20>=51,"क-1", IF(AY20>=41,"क-2", IF(AY20>=33,"ड", IF(AY20>=21,"ई-1", IF(AY20<=20, "ई-2" ))))))))) -> ई-2 | BB20: 0 | BC20: =IF(BB20>=91,"अ-1", IF(BB20>=81,"अ-2", IF(BB20>=71,"ब-1", IF(BB20>=61,"ब-2", IF(BB20>=51,"क-1", IF(BB20>=41,"क-2", IF(BB20>=33,"ड", IF(BB20>=21,"ई-1", IF(BB20<=20, "ई-2" ))))))))) -> ई-2 | BE20: =SUM(H20,N20,T20,Z20,AF20,AL20,AR20,AV20,AY20,BB20) -> 0 | BF20: =SUM(BE20*100)/BE12 -> 0 | BG20: =IF(BF20>=91,"अ-1", IF(BF20>=81,"अ-2", IF(BF20>=71,"ब-1", IF(BF20>=61,"ब-2", IF(BF20>=51,"क-1", IF(BF20>=41,"क-2", IF(BF20>=33,"ड", IF(BF20>=21,"ई-1", IF(BF20>=0, "ई-2" ))))))))) -> ई-2
B21: =Info_1!M13 -> 0 | C21: =Info_1!J13 -> 0 | D21: =Info_1!K13 -> 0 | E21: =Info_1!L13 -> 0 | F21: 0 | G21: 0 | H21: =SUM(F21:G21) -> 0 | J21: =IF(H21>=91,"अ-1", IF(H21>=81,"अ-2", IF(H21>=71,"ब-1", IF(H21>=61,"ब-2", IF(H21>=51,"क-1", IF(H21>=41,"क-2", IF(H21>=33,"ड", IF(H21>=21,"ई-1", IF(H21<=20, "ई-2" ))))))))) -> ई-2 | L21: 0 | M21: 0 | N21: =SUM(L21:M21) -> 0 | P21: =IF(N21>=91,"अ-1", IF(N21>=81,"अ-2", IF(N21>=71,"ब-1", IF(N21>=61,"ब-2", IF(N21>=51,"क-1", IF(N21>=41,"क-2", IF(N21>=33,"ड", IF(N21>=21,"ई-1", IF(N21<=20, "ई-2" ))))))))) -> ई-2 | R21: 0 | S21: 0 | T21: =SUM(R21:S21) -> 0 | V21: =IF(T21>=91,"अ-1", IF(T21>=81,"अ-2", IF(T21>=71,"ब-1", IF(T21>=61,"ब-2", IF(T21>=51,"क-1", IF(T21>=41,"क-2", IF(T21>=33,"ड", IF(T21>=21,"ई-1", IF(T21<=20, "ई-2" ))))))))) -> ई-2 | X21: 0 | Y21: 0 | Z21: =SUM(X21:Y21) -> 0 | AB21: =IF(Z21>=91,"अ-1", IF(Z21>=81,"अ-2", IF(Z21>=71,"ब-1", IF(Z21>=61,"ब-2", IF(Z21>=51,"क-1", IF(Z21>=41,"क-2", IF(Z21>=33,"ड", IF(Z21>=21,"ई-1", IF(Z21<=20, "ई-2" ))))))))) -> ई-2 | AD21: 0 | AE21: 0 | AF21: =SUM(AD21:AE21) -> 0 | AH21: =IF(AF21>=91,"अ-1", IF(AF21>=81,"अ-2", IF(AF21>=71,"ब-1", IF(AF21>=61,"ब-2", IF(AF21>=51,"क-1", IF(AF21>=41,"क-2", IF(AF21>=33,"ड", IF(AF21>=21,"ई-1", IF(AF21<=20, "ई-2" ))))))))) -> ई-2 | AJ21: 0 | AK21: 0 | AL21: =SUM(AJ21:AK21) -> 0 | AN21: =IF(AL21>=91,"अ-1", IF(AL21>=81,"अ-2", IF(AL21>=71,"ब-1", IF(AL21>=61,"ब-2", IF(AL21>=51,"क-1", IF(AL21>=41,"क-2", IF(AL21>=33,"ड", IF(AL21>=21,"ई-1", IF(AL21<=20, "ई-2" ))))))))) -> ई-2 | AP21: 0 | AQ21: 0 | AR21: =SUM(AP21:AQ21) -> 0 | AT21: =IF(AR21>=91,"अ-1", IF(AR21>=81,"अ-2", IF(AR21>=71,"ब-1", IF(AR21>=61,"ब-2", IF(AR21>=51,"क-1", IF(AR21>=41,"क-2", IF(AR21>=33,"ड", IF(AR21>=21,"ई-1", IF(AR21<=20, "ई-2" ))))))))) -> ई-2 | AV21: 0 | AW21: =IF(AV21>=91,"अ-1", IF(AV21>=81,"अ-2", IF(AV21>=71,"ब-1", IF(AV21>=61,"ब-2", IF(AV21>=51,"क-1", IF(AV21>=41,"क-2", IF(AV21>=33,"ड", IF(AV21>=21,"ई-1", IF(AV21<=20, "ई-2" ))))))))) -> ई-2 | AY21: 0 | AZ21: =IF(AY21>=91,"अ-1", IF(AY21>=81,"अ-2", IF(AY21>=71,"ब-1", IF(AY21>=61,"ब-2", IF(AY21>=51,"क-1", IF(AY21>=41,"क-2", IF(AY21>=33,"ड", IF(AY21>=21,"ई-1", IF(AY21<=20, "ई-2" ))))))))) -> ई-2 | BB21: 0 | BC21: =IF(BB21>=91,"अ-1", IF(BB21>=81,"अ-2", IF(BB21>=71,"ब-1", IF(BB21>=61,"ब-2", IF(BB21>=51,"क-1", IF(BB21>=41,"क-2", IF(BB21>=33,"ड", IF(BB21>=21,"ई-1", IF(BB21<=20, "ई-2" ))))))))) -> ई-2 | BE21: =SUM(H21,N21,T21,Z21,AF21,AL21,AR21,AV21,AY21,BB21) -> 0 | BF21: =SUM(BE21*100)/BE12 -> 0 | BG21: =IF(BF21>=91,"अ-1", IF(BF21>=81,"अ-2", IF(BF21>=71,"ब-1", IF(BF21>=61,"ब-2", IF(BF21>=51,"क-1", IF(BF21>=41,"क-2", IF(BF21>=33,"ड", IF(BF21>=21,"ई-1", IF(BF21>=0, "ई-2" ))))))))) -> ई-2
B22: =Info_1!M14 -> 0 | C22: =Info_1!J14 -> 0 | D22: =Info_1!K14 -> 0 | E22: =Info_1!L14 -> 0 | F22: 0 | G22: 0 | H22: =SUM(F22:G22) -> 0 | J22: =IF(H22>=91,"अ-1", IF(H22>=81,"अ-2", IF(H22>=71,"ब-1", IF(H22>=61,"ब-2", IF(H22>=51,"क-1", IF(H22>=41,"क-2", IF(H22>=33,"ड", IF(H22>=21,"ई-1", IF(H22<=20, "ई-2" ))))))))) -> ई-2 | L22: 0 | M22: 0 | N22: =SUM(L22:M22) -> 0 | P22: =IF(N22>=91,"अ-1", IF(N22>=81,"अ-2", IF(N22>=71,"ब-1", IF(N22>=61,"ब-2", IF(N22>=51,"क-1", IF(N22>=41,"क-2", IF(N22>=33,"ड", IF(N22>=21,"ई-1", IF(N22<=20, "ई-2" ))))))))) -> ई-2 | R22: 0 | S22: 0 | T22: =SUM(R22:S22) -> 0 | V22: =IF(T22>=91,"अ-1", IF(T22>=81,"अ-2", IF(T22>=71,"ब-1", IF(T22>=61,"ब-2", IF(T22>=51,"क-1", IF(T22>=41,"क-2", IF(T22>=33,"ड", IF(T22>=21,"ई-1", IF(T22<=20, "ई-2" ))))))))) -> ई-2 | X22: 0 | Y22: 0 | Z22: =SUM(X22:Y22) -> 0 | AB22: =IF(Z22>=91,"अ-1", IF(Z22>=81,"अ-2", IF(Z22>=71,"ब-1", IF(Z22>=61,"ब-2", IF(Z22>=51,"क-1", IF(Z22>=41,"क-2", IF(Z22>=33,"ड", IF(Z22>=21,"ई-1", IF(Z22<=20, "ई-2" ))))))))) -> ई-2 | AD22: 0 | AE22: 0 | AF22: =SUM(AD22:AE22) -> 0 | AH22: =IF(AF22>=91,"अ-1", IF(AF22>=81,"अ-2", IF(AF22>=71,"ब-1", IF(AF22>=61,"ब-2", IF(AF22>=51,"क-1", IF(AF22>=41,"क-2", IF(AF22>=33,"ड", IF(AF22>=21,"ई-1", IF(AF22<=20, "ई-2" ))))))))) -> ई-2 | AJ22: 0 | AK22: 0 | AL22: =SUM(AJ22:AK22) -> 0 | AN22: =IF(AL22>=91,"अ-1", IF(AL22>=81,"अ-2", IF(AL22>=71,"ब-1", IF(AL22>=61,"ब-2", IF(AL22>=51,"क-1", IF(AL22>=41,"क-2", IF(AL22>=33,"ड", IF(AL22>=21,"ई-1", IF(AL22<=20, "ई-2" ))))))))) -> ई-2 | AP22: 0 | AQ22: 0 | AR22: =SUM(AP22:AQ22) -> 0 | AT22: =IF(AR22>=91,"अ-1", IF(AR22>=81,"अ-2", IF(AR22>=71,"ब-1", IF(AR22>=61,"ब-2", IF(AR22>=51,"क-1", IF(AR22>=41,"क-2", IF(AR22>=33,"ड", IF(AR22>=21,"ई-1", IF(AR22<=20, "ई-2" ))))))))) -> ई-2 | AV22: 0 | AW22: =IF(AV22>=91,"अ-1", IF(AV22>=81,"अ-2", IF(AV22>=71,"ब-1", IF(AV22>=61,"ब-2", IF(AV22>=51,"क-1", IF(AV22>=41,"क-2", IF(AV22>=33,"ड", IF(AV22>=21,"ई-1", IF(AV22<=20, "ई-2" ))))))))) -> ई-2 | AY22: 0 | AZ22: =IF(AY22>=91,"अ-1", IF(AY22>=81,"अ-2", IF(AY22>=71,"ब-1", IF(AY22>=61,"ब-2", IF(AY22>=51,"क-1", IF(AY22>=41,"क-2", IF(AY22>=33,"ड", IF(AY22>=21,"ई-1", IF(AY22<=20, "ई-2" ))))))))) -> ई-2 | BB22: 0 | BC22: =IF(BB22>=91,"अ-1", IF(BB22>=81,"अ-2", IF(BB22>=71,"ब-1", IF(BB22>=61,"ब-2", IF(BB22>=51,"क-1", IF(BB22>=41,"क-2", IF(BB22>=33,"ड", IF(BB22>=21,"ई-1", IF(BB22<=20, "ई-2" ))))))))) -> ई-2 | BE22: =SUM(H22,N22,T22,Z22,AF22,AL22,AR22,AV22,AY22,BB22) -> 0 | BF22: =SUM(BE22*100)/BE12 -> 0 | BG22: =IF(BF22>=91,"अ-1", IF(BF22>=81,"अ-2", IF(BF22>=71,"ब-1", IF(BF22>=61,"ब-2", IF(BF22>=51,"क-1", IF(BF22>=41,"क-2", IF(BF22>=33,"ड", IF(BF22>=21,"ई-1", IF(BF22>=0, "ई-2" ))))))))) -> ई-2
B23: =Info_1!M15 -> 0 | C23: =Info_1!J15 -> 0 | D23: =Info_1!K15 -> 0 | E23: =Info_1!L15 -> 0 | F23: 0 | G23: 0 | H23: =SUM(F23:G23) -> 0 | J23: =IF(H23>=91,"अ-1", IF(H23>=81,"अ-2", IF(H23>=71,"ब-1", IF(H23>=61,"ब-2", IF(H23>=51,"क-1", IF(H23>=41,"क-2", IF(H23>=33,"ड", IF(H23>=21,"ई-1", IF(H23<=20, "ई-2" ))))))))) -> ई-2 | L23: 0 | M23: 0 | N23: =SUM(L23:M23) -> 0 | P23: =IF(N23>=91,"अ-1", IF(N23>=81,"अ-2", IF(N23>=71,"ब-1", IF(N23>=61,"ब-2", IF(N23>=51,"क-1", IF(N23>=41,"क-2", IF(N23>=33,"ड", IF(N23>=21,"ई-1", IF(N23<=20, "ई-2" ))))))))) -> ई-2 | R23: 0 | S23: 0 | T23: =SUM(R23:S23) -> 0 | V23: =IF(T23>=91,"अ-1", IF(T23>=81,"अ-2", IF(T23>=71,"ब-1", IF(T23>=61,"ब-2", IF(T23>=51,"क-1", IF(T23>=41,"क-2", IF(T23>=33,"ड", IF(T23>=21,"ई-1", IF(T23<=20, "ई-2" ))))))))) -> ई-2 | X23: 0 | Y23: 0 | Z23: =SUM(X23:Y23) -> 0 | AB23: =IF(Z23>=91,"अ-1", IF(Z23>=81,"अ-2", IF(Z23>=71,"ब-1", IF(Z23>=61,"ब-2", IF(Z23>=51,"क-1", IF(Z23>=41,"क-2", IF(Z23>=33,"ड", IF(Z23>=21,"ई-1", IF(Z23<=20, "ई-2" ))))))))) -> ई-2 | AD23: 0 | AE23: 0 | AF23: =SUM(AD23:AE23) -> 0 | AH23: =IF(AF23>=91,"अ-1", IF(AF23>=81,"अ-2", IF(AF23>=71,"ब-1", IF(AF23>=61,"ब-2", IF(AF23>=51,"क-1", IF(AF23>=41,"क-2", IF(AF23>=33,"ड", IF(AF23>=21,"ई-1", IF(AF23<=20, "ई-2" ))))))))) -> ई-2 | AJ23: 0 | AK23: 0 | AL23: =SUM(AJ23:AK23) -> 0 | AN23: =IF(AL23>=91,"अ-1", IF(AL23>=81,"अ-2", IF(AL23>=71,"ब-1", IF(AL23>=61,"ब-2", IF(AL23>=51,"क-1", IF(AL23>=41,"क-2", IF(AL23>=33,"ड", IF(AL23>=21,"ई-1", IF(AL23<=20, "ई-2" ))))))))) -> ई-2 | AP23: 0 | AQ23: 0 | AR23: =SUM(AP23:AQ23) -> 0 | AT23: =IF(AR23>=91,"अ-1", IF(AR23>=81,"अ-2", IF(AR23>=71,"ब-1", IF(AR23>=61,"ब-2", IF(AR23>=51,"क-1", IF(AR23>=41,"क-2", IF(AR23>=33,"ड", IF(AR23>=21,"ई-1", IF(AR23<=20, "ई-2" ))))))))) -> ई-2 | AV23: 0 | AW23: =IF(AV23>=91,"अ-1", IF(AV23>=81,"अ-2", IF(AV23>=71,"ब-1", IF(AV23>=61,"ब-2", IF(AV23>=51,"क-1", IF(AV23>=41,"क-2", IF(AV23>=33,"ड", IF(AV23>=21,"ई-1", IF(AV23<=20, "ई-2" ))))))))) -> ई-2 | AY23: 0 | AZ23: =IF(AY23>=91,"अ-1", IF(AY23>=81,"अ-2", IF(AY23>=71,"ब-1", IF(AY23>=61,"ब-2", IF(AY23>=51,"क-1", IF(AY23>=41,"क-2", IF(AY23>=33,"ड", IF(AY23>=21,"ई-1", IF(AY23<=20, "ई-2" ))))))))) -> ई-2 | BB23: 0 | BC23: =IF(BB23>=91,"अ-1", IF(BB23>=81,"अ-2", IF(BB23>=71,"ब-1", IF(BB23>=61,"ब-2", IF(BB23>=51,"क-1", IF(BB23>=41,"क-2", IF(BB23>=33,"ड", IF(BB23>=21,"ई-1", IF(BB23<=20, "ई-2" ))))))))) -> ई-2 | BE23: =SUM(H23,N23,T23,Z23,AF23,AL23,AR23,AV23,AY23,BB23) -> 0 | BF23: =SUM(BE23*100)/BE12 -> 0 | BG23: =IF(BF23>=91,"अ-1", IF(BF23>=81,"अ-2", IF(BF23>=71,"ब-1", IF(BF23>=61,"ब-2", IF(BF23>=51,"क-1", IF(BF23>=41,"क-2", IF(BF23>=33,"ड", IF(BF23>=21,"ई-1", IF(BF23>=0, "ई-2" ))))))))) -> ई-2
B24: =Info_1!M16 -> 0 | C24: =Info_1!J16 -> 0 | D24: =Info_1!K16 -> 0 | E24: =Info_1!L16 -> 0 | F24: 0 | G24: 0 | H24: =SUM(F24:G24) -> 0 | J24: =IF(H24>=91,"अ-1", IF(H24>=81,"अ-2", IF(H24>=71,"ब-1", IF(H24>=61,"ब-2", IF(H24>=51,"क-1", IF(H24>=41,"क-2", IF(H24>=33,"ड", IF(H24>=21,"ई-1", IF(H24<=20, "ई-2" ))))))))) -> ई-2 | L24: 0 | M24: 0 | N24: =SUM(L24:M24) -> 0 | P24: =IF(N24>=91,"अ-1", IF(N24>=81,"अ-2", IF(N24>=71,"ब-1", IF(N24>=61,"ब-2", IF(N24>=51,"क-1", IF(N24>=41,"क-2", IF(N24>=33,"ड", IF(N24>=21,"ई-1", IF(N24<=20, "ई-2" ))))))))) -> ई-2 | R24: 0 | S24: 0 | T24: =SUM(R24:S24) -> 0 | V24: =IF(T24>=91,"अ-1", IF(T24>=81,"अ-2", IF(T24>=71,"ब-1", IF(T24>=61,"ब-2", IF(T24>=51,"क-1", IF(T24>=41,"क-2", IF(T24>=33,"ड", IF(T24>=21,"ई-1", IF(T24<=20, "ई-2" ))))))))) -> ई-2 | X24: 0 | Y24: 0 | Z24: =SUM(X24:Y24) -> 0 | AB24: =IF(Z24>=91,"अ-1", IF(Z24>=81,"अ-2", IF(Z24>=71,"ब-1", IF(Z24>=61,"ब-2", IF(Z24>=51,"क-1", IF(Z24>=41,"क-2", IF(Z24>=33,"ड", IF(Z24>=21,"ई-1", IF(Z24<=20, "ई-2" ))))))))) -> ई-2 | AD24: 0 | AE24: 0 | AF24: =SUM(AD24:AE24) -> 0 | AH24: =IF(AF24>=91,"अ-1", IF(AF24>=81,"अ-2", IF(AF24>=71,"ब-1", IF(AF24>=61,"ब-2", IF(AF24>=51,"क-1", IF(AF24>=41,"क-2", IF(AF24>=33,"ड", IF(AF24>=21,"ई-1", IF(AF24<=20, "ई-2" ))))))))) -> ई-2 | AJ24: 0 | AK24: 0 | AL24: =SUM(AJ24:AK24) -> 0 | AN24: =IF(AL24>=91,"अ-1", IF(AL24>=81,"अ-2", IF(AL24>=71,"ब-1", IF(AL24>=61,"ब-2", IF(AL24>=51,"क-1", IF(AL24>=41,"क-2", IF(AL24>=33,"ड", IF(AL24>=21,"ई-1", IF(AL24<=20, "ई-2" ))))))))) -> ई-2 | AP24: 0 | AQ24: 0 | AR24: =SUM(AP24:AQ24) -> 0 | AT24: =IF(AR24>=91,"अ-1", IF(AR24>=81,"अ-2", IF(AR24>=71,"ब-1", IF(AR24>=61,"ब-2", IF(AR24>=51,"क-1", IF(AR24>=41,"क-2", IF(AR24>=33,"ड", IF(AR24>=21,"ई-1", IF(AR24<=20, "ई-2" ))))))))) -> ई-2 | AV24: 0 | AW24: =IF(AV24>=91,"अ-1", IF(AV24>=81,"अ-2", IF(AV24>=71,"ब-1", IF(AV24>=61,"ब-2", IF(AV24>=51,"क-1", IF(AV24>=41,"क-2", IF(AV24>=33,"ड", IF(AV24>=21,"ई-1", IF(AV24<=20, "ई-2" ))))))))) -> ई-2 | AY24: 0 | AZ24: =IF(AY24>=91,"अ-1", IF(AY24>=81,"अ-2", IF(AY24>=71,"ब-1", IF(AY24>=61,"ब-2", IF(AY24>=51,"क-1", IF(AY24>=41,"क-2", IF(AY24>=33,"ड", IF(AY24>=21,"ई-1", IF(AY24<=20, "ई-2" ))))))))) -> ई-2 | BB24: 0 | BC24: =IF(BB24>=91,"अ-1", IF(BB24>=81,"अ-2", IF(BB24>=71,"ब-1", IF(BB24>=61,"ब-2", IF(BB24>=51,"क-1", IF(BB24>=41,"क-2", IF(BB24>=33,"ड", IF(BB24>=21,"ई-1", IF(BB24<=20, "ई-2" ))))))))) -> ई-2 | BE24: =SUM(H24,N24,T24,Z24,AF24,AL24,AR24,AV24,AY24,BB24) -> 0 | BF24: =SUM(BE24*100)/BE12 -> 0 | BG24: =IF(BF24>=91,"अ-1", IF(BF24>=81,"अ-2", IF(BF24>=71,"ब-1", IF(BF24>=61,"ब-2", IF(BF24>=51,"क-1", IF(BF24>=41,"क-2", IF(BF24>=33,"ड", IF(BF24>=21,"ई-1", IF(BF24>=0, "ई-2" ))))))))) -> ई-2
B25: =Info_1!M17 -> 0 | C25: =Info_1!J17 -> 0 | D25: =Info_1!K17 -> 0 | E25: =Info_1!L17 -> 0 | F25: 0 | G25: 0 | H25: =SUM(F25:G25) -> 0 | J25: =IF(H25>=91,"अ-1", IF(H25>=81,"अ-2", IF(H25>=71,"ब-1", IF(H25>=61,"ब-2", IF(H25>=51,"क-1", IF(H25>=41,"क-2", IF(H25>=33,"ड", IF(H25>=21,"ई-1", IF(H25<=20, "ई-2" ))))))))) -> ई-2 | L25: 0 | M25: 0 | N25: =SUM(L25:M25) -> 0 | P25: =IF(N25>=91,"अ-1", IF(N25>=81,"अ-2", IF(N25>=71,"ब-1", IF(N25>=61,"ब-2", IF(N25>=51,"क-1", IF(N25>=41,"क-2", IF(N25>=33,"ड", IF(N25>=21,"ई-1", IF(N25<=20, "ई-2" ))))))))) -> ई-2 | R25: 0 | S25: 0 | T25: =SUM(R25:S25) -> 0 | V25: =IF(T25>=91,"अ-1", IF(T25>=81,"अ-2", IF(T25>=71,"ब-1", IF(T25>=61,"ब-2", IF(T25>=51,"क-1", IF(T25>=41,"क-2", IF(T25>=33,"ड", IF(T25>=21,"ई-1", IF(T25<=20, "ई-2" ))))))))) -> ई-2 | X25: 0 | Y25: 0 | Z25: =SUM(X25:Y25) -> 0 | AB25: =IF(Z25>=91,"अ-1", IF(Z25>=81,"अ-2", IF(Z25>=71,"ब-1", IF(Z25>=61,"ब-2", IF(Z25>=51,"क-1", IF(Z25>=41,"क-2", IF(Z25>=33,"ड", IF(Z25>=21,"ई-1", IF(Z25<=20, "ई-2" ))))))))) -> ई-2 | AD25: 0 | AE25: 0 | AF25: =SUM(AD25:AE25) -> 0 | AH25: =IF(AF25>=91,"अ-1", IF(AF25>=81,"अ-2", IF(AF25>=71,"ब-1", IF(AF25>=61,"ब-2", IF(AF25>=51,"क-1", IF(AF25>=41,"क-2", IF(AF25>=33,"ड", IF(AF25>=21,"ई-1", IF(AF25<=20, "ई-2" ))))))))) -> ई-2 | AJ25: 0 | AK25: 0 | AL25: =SUM(AJ25:AK25) -> 0 | AN25: =IF(AL25>=91,"अ-1", IF(AL25>=81,"अ-2", IF(AL25>=71,"ब-1", IF(AL25>=61,"ब-2", IF(AL25>=51,"क-1", IF(AL25>=41,"क-2", IF(AL25>=33,"ड", IF(AL25>=21,"ई-1", IF(AL25<=20, "ई-2" ))))))))) -> ई-2 | AP25: 0 | AQ25: 0 | AR25: =SUM(AP25:AQ25) -> 0 | AT25: =IF(AR25>=91,"अ-1", IF(AR25>=81,"अ-2", IF(AR25>=71,"ब-1", IF(AR25>=61,"ब-2", IF(AR25>=51,"क-1", IF(AR25>=41,"क-2", IF(AR25>=33,"ड", IF(AR25>=21,"ई-1", IF(AR25<=20, "ई-2" ))))))))) -> ई-2 | AV25: 0 | AW25: =IF(AV25>=91,"अ-1", IF(AV25>=81,"अ-2", IF(AV25>=71,"ब-1", IF(AV25>=61,"ब-2", IF(AV25>=51,"क-1", IF(AV25>=41,"क-2", IF(AV25>=33,"ड", IF(AV25>=21,"ई-1", IF(AV25<=20, "ई-2" ))))))))) -> ई-2 | AY25: 0 | AZ25: =IF(AY25>=91,"अ-1", IF(AY25>=81,"अ-2", IF(AY25>=71,"ब-1", IF(AY25>=61,"ब-2", IF(AY25>=51,"क-1", IF(AY25>=41,"क-2", IF(AY25>=33,"ड", IF(AY25>=21,"ई-1", IF(AY25<=20, "ई-2" ))))))))) -> ई-2 | BB25: 0 | BC25: =IF(BB25>=91,"अ-1", IF(BB25>=81,"अ-2", IF(BB25>=71,"ब-1", IF(BB25>=61,"ब-2", IF(BB25>=51,"क-1", IF(BB25>=41,"क-2", IF(BB25>=33,"ड", IF(BB25>=21,"ई-1", IF(BB25<=20, "ई-2" ))))))))) -> ई-2 | BE25: =SUM(H25,N25,T25,Z25,AF25,AL25,AR25,AV25,AY25,BB25) -> 0 | BF25: =SUM(BE25*100)/BE12 -> 0 | BG25: =IF(BF25>=91,"अ-1", IF(BF25>=81,"अ-2", IF(BF25>=71,"ब-1", IF(BF25>=61,"ब-2", IF(BF25>=51,"क-1", IF(BF25>=41,"क-2", IF(BF25>=33,"ड", IF(BF25>=21,"ई-1", IF(BF25>=0, "ई-2" ))))))))) -> ई-2
B26: =Info_1!M18 -> 0 | C26: =Info_1!J18 -> 0 | D26: =Info_1!K18 -> 0 | E26: =Info_1!L18 -> 0 | F26: 0 | G26: 0 | H26: =SUM(F26:G26) -> 0 | J26: =IF(H26>=91,"अ-1", IF(H26>=81,"अ-2", IF(H26>=71,"ब-1", IF(H26>=61,"ब-2", IF(H26>=51,"क-1", IF(H26>=41,"क-2", IF(H26>=33,"ड", IF(H26>=21,"ई-1", IF(H26<=20, "ई-2" ))))))))) -> ई-2 | L26: 0 | M26: 0 | N26: =SUM(L26:M26) -> 0 | P26: =IF(N26>=91,"अ-1", IF(N26>=81,"अ-2", IF(N26>=71,"ब-1", IF(N26>=61,"ब-2", IF(N26>=51,"क-1", IF(N26>=41,"क-2", IF(N26>=33,"ड", IF(N26>=21,"ई-1", IF(N26<=20, "ई-2" ))))))))) -> ई-2 | R26: 0 | S26: 0 | T26: =SUM(R26:S26) -> 0 | V26: =IF(T26>=91,"अ-1", IF(T26>=81,"अ-2", IF(T26>=71,"ब-1", IF(T26>=61,"ब-2", IF(T26>=51,"क-1", IF(T26>=41,"क-2", IF(T26>=33,"ड", IF(T26>=21,"ई-1", IF(T26<=20, "ई-2" ))))))))) -> ई-2 | X26: 0 | Y26: 0 | Z26: =SUM(X26:Y26) -> 0 | AB26: =IF(Z26>=91,"अ-1", IF(Z26>=81,"अ-2", IF(Z26>=71,"ब-1", IF(Z26>=61,"ब-2", IF(Z26>=51,"क-1", IF(Z26>=41,"क-2", IF(Z26>=33,"ड", IF(Z26>=21,"ई-1", IF(Z26<=20, "ई-2" ))))))))) -> ई-2 | AD26: 0 | AE26: 0 | AF26: =SUM(AD26:AE26) -> 0 | AH26: =IF(AF26>=91,"अ-1", IF(AF26>=81,"अ-2", IF(AF26>=71,"ब-1", IF(AF26>=61,"ब-2", IF(AF26>=51,"क-1", IF(AF26>=41,"क-2", IF(AF26>=33,"ड", IF(AF26>=21,"ई-1", IF(AF26<=20, "ई-2" ))))))))) -> ई-2 | AJ26: 0 | AK26: 0 | AL26: =SUM(AJ26:AK26) -> 0 | AN26: =IF(AL26>=91,"अ-1", IF(AL26>=81,"अ-2", IF(AL26>=71,"ब-1", IF(AL26>=61,"ब-2", IF(AL26>=51,"क-1", IF(AL26>=41,"क-2", IF(AL26>=33,"ड", IF(AL26>=21,"ई-1", IF(AL26<=20, "ई-2" ))))))))) -> ई-2 | AP26: 0 | AQ26: 0 | AR26: =SUM(AP26:AQ26) -> 0 | AT26: =IF(AR26>=91,"अ-1", IF(AR26>=81,"अ-2", IF(AR26>=71,"ब-1", IF(AR26>=61,"ब-2", IF(AR26>=51,"क-1", IF(AR26>=41,"क-2", IF(AR26>=33,"ड", IF(AR26>=21,"ई-1", IF(AR26<=20, "ई-2" ))))))))) -> ई-2 | AV26: 0 | AW26: =IF(AV26>=91,"अ-1", IF(AV26>=81,"अ-2", IF(AV26>=71,"ब-1", IF(AV26>=61,"ब-2", IF(AV26>=51,"क-1", IF(AV26>=41,"क-2", IF(AV26>=33,"ड", IF(AV26>=21,"ई-1", IF(AV26<=20, "ई-2" ))))))))) -> ई-2 | AY26: 0 | AZ26: =IF(AY26>=91,"अ-1", IF(AY26>=81,"अ-2", IF(AY26>=71,"ब-1", IF(AY26>=61,"ब-2", IF(AY26>=51,"क-1", IF(AY26>=41,"क-2", IF(AY26>=33,"ड", IF(AY26>=21,"ई-1", IF(AY26<=20, "ई-2" ))))))))) -> ई-2 | BB26: 0 | BC26: =IF(BB26>=91,"अ-1", IF(BB26>=81,"अ-2", IF(BB26>=71,"ब-1", IF(BB26>=61,"ब-2", IF(BB26>=51,"क-1", IF(BB26>=41,"क-2", IF(BB26>=33,"ड", IF(BB26>=21,"ई-1", IF(BB26<=20, "ई-2" ))))))))) -> ई-2 | BE26: =SUM(H26,N26,T26,Z26,AF26,AL26,AR26,AV26,AY26,BB26) -> 0 | BF26: =SUM(BE26*100)/BE12 -> 0 | BG26: =IF(BF26>=91,"अ-1", IF(BF26>=81,"अ-2", IF(BF26>=71,"ब-1", IF(BF26>=61,"ब-2", IF(BF26>=51,"क-1", IF(BF26>=41,"क-2", IF(BF26>=33,"ड", IF(BF26>=21,"ई-1", IF(BF26>=0, "ई-2" ))))))))) -> ई-2
B27: =Info_1!M19 -> 0 | C27: =Info_1!J19 -> 0 | D27: =Info_1!K19 -> 0 | E27: =Info_1!L19 -> 0 | F27: 0 | G27: 0 | H27: =SUM(F27:G27) -> 0 | J27: =IF(H27>=91,"अ-1", IF(H27>=81,"अ-2", IF(H27>=71,"ब-1", IF(H27>=61,"ब-2", IF(H27>=51,"क-1", IF(H27>=41,"क-2", IF(H27>=33,"ड", IF(H27>=21,"ई-1", IF(H27<=20, "ई-2" ))))))))) -> ई-2 | L27: 0 | M27: 0 | N27: =SUM(L27:M27) -> 0 | P27: =IF(N27>=91,"अ-1", IF(N27>=81,"अ-2", IF(N27>=71,"ब-1", IF(N27>=61,"ब-2", IF(N27>=51,"क-1", IF(N27>=41,"क-2", IF(N27>=33,"ड", IF(N27>=21,"ई-1", IF(N27<=20, "ई-2" ))))))))) -> ई-2 | R27: 0 | S27: 0 | T27: =SUM(R27:S27) -> 0 | V27: =IF(T27>=91,"अ-1", IF(T27>=81,"अ-2", IF(T27>=71,"ब-1", IF(T27>=61,"ब-2", IF(T27>=51,"क-1", IF(T27>=41,"क-2", IF(T27>=33,"ड", IF(T27>=21,"ई-1", IF(T27<=20, "ई-2" ))))))))) -> ई-2 | X27: 0 | Y27: 0 | Z27: =SUM(X27:Y27) -> 0 | AB27: =IF(Z27>=91,"अ-1", IF(Z27>=81,"अ-2", IF(Z27>=71,"ब-1", IF(Z27>=61,"ब-2", IF(Z27>=51,"क-1", IF(Z27>=41,"क-2", IF(Z27>=33,"ड", IF(Z27>=21,"ई-1", IF(Z27<=20, "ई-2" ))))))))) -> ई-2 | AD27: 0 | AE27: 0 | AF27: =SUM(AD27:AE27) -> 0 | AH27: =IF(AF27>=91,"अ-1", IF(AF27>=81,"अ-2", IF(AF27>=71,"ब-1", IF(AF27>=61,"ब-2", IF(AF27>=51,"क-1", IF(AF27>=41,"क-2", IF(AF27>=33,"ड", IF(AF27>=21,"ई-1", IF(AF27<=20, "ई-2" ))))))))) -> ई-2 | AJ27: 0 | AK27: 0 | AL27: =SUM(AJ27:AK27) -> 0 | AN27: =IF(AL27>=91,"अ-1", IF(AL27>=81,"अ-2", IF(AL27>=71,"ब-1", IF(AL27>=61,"ब-2", IF(AL27>=51,"क-1", IF(AL27>=41,"क-2", IF(AL27>=33,"ड", IF(AL27>=21,"ई-1", IF(AL27<=20, "ई-2" ))))))))) -> ई-2 | AP27: 0 | AQ27: 0 | AR27: =SUM(AP27:AQ27) -> 0 | AT27: =IF(AR27>=91,"अ-1", IF(AR27>=81,"अ-2", IF(AR27>=71,"ब-1", IF(AR27>=61,"ब-2", IF(AR27>=51,"क-1", IF(AR27>=41,"क-2", IF(AR27>=33,"ड", IF(AR27>=21,"ई-1", IF(AR27<=20, "ई-2" ))))))))) -> ई-2 | AV27: 0 | AW27: =IF(AV27>=91,"अ-1", IF(AV27>=81,"अ-2", IF(AV27>=71,"ब-1", IF(AV27>=61,"ब-2", IF(AV27>=51,"क-1", IF(AV27>=41,"क-2", IF(AV27>=33,"ड", IF(AV27>=21,"ई-1", IF(AV27<=20, "ई-2" ))))))))) -> ई-2 | AY27: 0 | AZ27: =IF(AY27>=91,"अ-1", IF(AY27>=81,"अ-2", IF(AY27>=71,"ब-1", IF(AY27>=61,"ब-2", IF(AY27>=51,"क-1", IF(AY27>=41,"क-2", IF(AY27>=33,"ड", IF(AY27>=21,"ई-1", IF(AY27<=20, "ई-2" ))))))))) -> ई-2 | BB27: 0 | BC27: =IF(BB27>=91,"अ-1", IF(BB27>=81,"अ-2", IF(BB27>=71,"ब-1", IF(BB27>=61,"ब-2", IF(BB27>=51,"क-1", IF(BB27>=41,"क-2", IF(BB27>=33,"ड", IF(BB27>=21,"ई-1", IF(BB27<=20, "ई-2" ))))))))) -> ई-2 | BE27: =SUM(H27,N27,T27,Z27,AF27,AL27,AR27,AV27,AY27,BB27) -> 0 | BF27: =SUM(BE27*100)/BE12 -> 0 | BG27: =IF(BF27>=91,"अ-1", IF(BF27>=81,"अ-2", IF(BF27>=71,"ब-1", IF(BF27>=61,"ब-2", IF(BF27>=51,"क-1", IF(BF27>=41,"क-2", IF(BF27>=33,"ड", IF(BF27>=21,"ई-1", IF(BF27>=0, "ई-2" ))))))))) -> ई-2
B28: =Info_1!M20 -> 0 | C28: =Info_1!J20 -> 0 | D28: =Info_1!K20 -> 0 | E28: =Info_1!L20 -> 0 | F28: 0 | G28: 0 | H28: =SUM(F28:G28) -> 0 | J28: =IF(H28>=91,"अ-1", IF(H28>=81,"अ-2", IF(H28>=71,"ब-1", IF(H28>=61,"ब-2", IF(H28>=51,"क-1", IF(H28>=41,"क-2", IF(H28>=33,"ड", IF(H28>=21,"ई-1", IF(H28<=20, "ई-2" ))))))))) -> ई-2 | L28: 0 | M28: 0 | N28: =SUM(L28:M28) -> 0 | P28: =IF(N28>=91,"अ-1", IF(N28>=81,"अ-2", IF(N28>=71,"ब-1", IF(N28>=61,"ब-2", IF(N28>=51,"क-1", IF(N28>=41,"क-2", IF(N28>=33,"ड", IF(N28>=21,"ई-1", IF(N28<=20, "ई-2" ))))))))) -> ई-2 | R28: 0 | S28: 0 | T28: =SUM(R28:S28) -> 0 | V28: =IF(T28>=91,"अ-1", IF(T28>=81,"अ-2", IF(T28>=71,"ब-1", IF(T28>=61,"ब-2", IF(T28>=51,"क-1", IF(T28>=41,"क-2", IF(T28>=33,"ड", IF(T28>=21,"ई-1", IF(T28<=20, "ई-2" ))))))))) -> ई-2 | X28: 0 | Y28: 0 | Z28: =SUM(X28:Y28) -> 0 | AB28: =IF(Z28>=91,"अ-1", IF(Z28>=81,"अ-2", IF(Z28>=71,"ब-1", IF(Z28>=61,"ब-2", IF(Z28>=51,"क-1", IF(Z28>=41,"क-2", IF(Z28>=33,"ड", IF(Z28>=21,"ई-1", IF(Z28<=20, "ई-2" ))))))))) -> ई-2 | AD28: 0 | AE28: 0 | AF28: =SUM(AD28:AE28) -> 0 | AH28: =IF(AF28>=91,"अ-1", IF(AF28>=81,"अ-2", IF(AF28>=71,"ब-1", IF(AF28>=61,"ब-2", IF(AF28>=51,"क-1", IF(AF28>=41,"क-2", IF(AF28>=33,"ड", IF(AF28>=21,"ई-1", IF(AF28<=20, "ई-2" ))))))))) -> ई-2 | AJ28: 0 | AK28: 0 | AL28: =SUM(AJ28:AK28) -> 0 | AN28: =IF(AL28>=91,"अ-1", IF(AL28>=81,"अ-2", IF(AL28>=71,"ब-1", IF(AL28>=61,"ब-2", IF(AL28>=51,"क-1", IF(AL28>=41,"क-2", IF(AL28>=33,"ड", IF(AL28>=21,"ई-1", IF(AL28<=20, "ई-2" ))))))))) -> ई-2 | AP28: 0 | AQ28: 0 | AR28: =SUM(AP28:AQ28) -> 0 | AT28: =IF(AR28>=91,"अ-1", IF(AR28>=81,"अ-2", IF(AR28>=71,"ब-1", IF(AR28>=61,"ब-2", IF(AR28>=51,"क-1", IF(AR28>=41,"क-2", IF(AR28>=33,"ड", IF(AR28>=21,"ई-1", IF(AR28<=20, "ई-2" ))))))))) -> ई-2 | AV28: 0 | AW28: =IF(AV28>=91,"अ-1", IF(AV28>=81,"अ-2", IF(AV28>=71,"ब-1", IF(AV28>=61,"ब-2", IF(AV28>=51,"क-1", IF(AV28>=41,"क-2", IF(AV28>=33,"ड", IF(AV28>=21,"ई-1", IF(AV28<=20, "ई-2" ))))))))) -> ई-2 | AY28: 0 | AZ28: =IF(AY28>=91,"अ-1", IF(AY28>=81,"अ-2", IF(AY28>=71,"ब-1", IF(AY28>=61,"ब-2", IF(AY28>=51,"क-1", IF(AY28>=41,"क-2", IF(AY28>=33,"ड", IF(AY28>=21,"ई-1", IF(AY28<=20, "ई-2" ))))))))) -> ई-2 | BB28: 0 | BC28: =IF(BB28>=91,"अ-1", IF(BB28>=81,"अ-2", IF(BB28>=71,"ब-1", IF(BB28>=61,"ब-2", IF(BB28>=51,"क-1", IF(BB28>=41,"क-2", IF(BB28>=33,"ड", IF(BB28>=21,"ई-1", IF(BB28<=20, "ई-2" ))))))))) -> ई-2 | BE28: =SUM(H28,N28,T28,Z28,AF28,AL28,AR28,AV28,AY28,BB28) -> 0 | BF28: =SUM(BE28*100)/BE12 -> 0 | BG28: =IF(BF28>=91,"अ-1", IF(BF28>=81,"अ-2", IF(BF28>=71,"ब-1", IF(BF28>=61,"ब-2", IF(BF28>=51,"क-1", IF(BF28>=41,"क-2", IF(BF28>=33,"ड", IF(BF28>=21,"ई-1", IF(BF28>=0, "ई-2" ))))))))) -> ई-2
B29: =Info_1!M21 -> 0 | C29: =Info_1!J21 -> 0 | D29: =Info_1!K21 -> 0 | E29: =Info_1!L21 -> 0 | F29: 0 | G29: 0 | H29: =SUM(F29:G29) -> 0 | J29: =IF(H29>=91,"अ-1", IF(H29>=81,"अ-2", IF(H29>=71,"ब-1", IF(H29>=61,"ब-2", IF(H29>=51,"क-1", IF(H29>=41,"क-2", IF(H29>=33,"ड", IF(H29>=21,"ई-1", IF(H29<=20, "ई-2" ))))))))) -> ई-2 | L29: 0 | M29: 0 | N29: =SUM(L29:M29) -> 0 | P29: =IF(N29>=91,"अ-1", IF(N29>=81,"अ-2", IF(N29>=71,"ब-1", IF(N29>=61,"ब-2", IF(N29>=51,"क-1", IF(N29>=41,"क-2", IF(N29>=33,"ड", IF(N29>=21,"ई-1", IF(N29<=20, "ई-2" ))))))))) -> ई-2 | R29: 0 | S29: 0 | T29: =SUM(R29:S29) -> 0 | V29: =IF(T29>=91,"अ-1", IF(T29>=81,"अ-2", IF(T29>=71,"ब-1", IF(T29>=61,"ब-2", IF(T29>=51,"क-1", IF(T29>=41,"क-2", IF(T29>=33,"ड", IF(T29>=21,"ई-1", IF(T29<=20, "ई-2" ))))))))) -> ई-2 | X29: 0 | Y29: 0 | Z29: =SUM(X29:Y29) -> 0 | AB29: =IF(Z29>=91,"अ-1", IF(Z29>=81,"अ-2", IF(Z29>=71,"ब-1", IF(Z29>=61,"ब-2", IF(Z29>=51,"क-1", IF(Z29>=41,"क-2", IF(Z29>=33,"ड", IF(Z29>=21,"ई-1", IF(Z29<=20, "ई-2" ))))))))) -> ई-2 | AD29: 0 | AE29: 0 | AF29: =SUM(AD29:AE29) -> 0 | AH29: =IF(AF29>=91,"अ-1", IF(AF29>=81,"अ-2", IF(AF29>=71,"ब-1", IF(AF29>=61,"ब-2", IF(AF29>=51,"क-1", IF(AF29>=41,"क-2", IF(AF29>=33,"ड", IF(AF29>=21,"ई-1", IF(AF29<=20, "ई-2" ))))))))) -> ई-2 | AJ29: 0 | AK29: 0 | AL29: =SUM(AJ29:AK29) -> 0 | AN29: =IF(AL29>=91,"अ-1", IF(AL29>=81,"अ-2", IF(AL29>=71,"ब-1", IF(AL29>=61,"ब-2", IF(AL29>=51,"क-1", IF(AL29>=41,"क-2", IF(AL29>=33,"ड", IF(AL29>=21,"ई-1", IF(AL29<=20, "ई-2" ))))))))) -> ई-2 | AP29: 0 | AQ29: 0 | AR29: =SUM(AP29:AQ29) -> 0 | AT29: =IF(AR29>=91,"अ-1", IF(AR29>=81,"अ-2", IF(AR29>=71,"ब-1", IF(AR29>=61,"ब-2", IF(AR29>=51,"क-1", IF(AR29>=41,"क-2", IF(AR29>=33,"ड", IF(AR29>=21,"ई-1", IF(AR29<=20, "ई-2" ))))))))) -> ई-2 | AV29: 0 | AW29: =IF(AV29>=91,"अ-1", IF(AV29>=81,"अ-2", IF(AV29>=71,"ब-1", IF(AV29>=61,"ब-2", IF(AV29>=51,"क-1", IF(AV29>=41,"क-2", IF(AV29>=33,"ड", IF(AV29>=21,"ई-1", IF(AV29<=20, "ई-2" ))))))))) -> ई-2 | AY29: 0 | AZ29: =IF(AY29>=91,"अ-1", IF(AY29>=81,"अ-2", IF(AY29>=71,"ब-1", IF(AY29>=61,"ब-2", IF(AY29>=51,"क-1", IF(AY29>=41,"क-2", IF(AY29>=33,"ड", IF(AY29>=21,"ई-1", IF(AY29<=20, "ई-2" ))))))))) -> ई-2 | BB29: 0 | BC29: =IF(BB29>=91,"अ-1", IF(BB29>=81,"अ-2", IF(BB29>=71,"ब-1", IF(BB29>=61,"ब-2", IF(BB29>=51,"क-1", IF(BB29>=41,"क-2", IF(BB29>=33,"ड", IF(BB29>=21,"ई-1", IF(BB29<=20, "ई-2" ))))))))) -> ई-2 | BE29: =SUM(H29,N29,T29,Z29,AF29,AL29,AR29,AV29,AY29,BB29) -> 0 | BF29: =SUM(BE29*100)/BE12 -> 0 | BG29: =IF(BF29>=91,"अ-1", IF(BF29>=81,"अ-2", IF(BF29>=71,"ब-1", IF(BF29>=61,"ब-2", IF(BF29>=51,"क-1", IF(BF29>=41,"क-2", IF(BF29>=33,"ड", IF(BF29>=21,"ई-1", IF(BF29>=0, "ई-2" ))))))))) -> ई-2
B30: =Info_1!M22 -> 0 | C30: =Info_1!J22 -> 0 | D30: =Info_1!K22 -> 0 | E30: =Info_1!L22 -> 0 | F30: 0 | G30: 0 | H30: =SUM(F30:G30) -> 0 | J30: =IF(H30>=91,"अ-1", IF(H30>=81,"अ-2", IF(H30>=71,"ब-1", IF(H30>=61,"ब-2", IF(H30>=51,"क-1", IF(H30>=41,"क-2", IF(H30>=33,"ड", IF(H30>=21,"ई-1", IF(H30<=20, "ई-2" ))))))))) -> ई-2 | L30: 0 | M30: 0 | N30: =SUM(L30:M30) -> 0 | P30: =IF(N30>=91,"अ-1", IF(N30>=81,"अ-2", IF(N30>=71,"ब-1", IF(N30>=61,"ब-2", IF(N30>=51,"क-1", IF(N30>=41,"क-2", IF(N30>=33,"ड", IF(N30>=21,"ई-1", IF(N30<=20, "ई-2" ))))))))) -> ई-2 | R30: 0 | S30: 0 | T30: =SUM(R30:S30) -> 0 | V30: =IF(T30>=91,"अ-1", IF(T30>=81,"अ-2", IF(T30>=71,"ब-1", IF(T30>=61,"ब-2", IF(T30>=51,"क-1", IF(T30>=41,"क-2", IF(T30>=33,"ड", IF(T30>=21,"ई-1", IF(T30<=20, "ई-2" ))))))))) -> ई-2 | X30: 0 | Y30: 0 | Z30: =SUM(X30:Y30) -> 0 | AB30: =IF(Z30>=91,"अ-1", IF(Z30>=81,"अ-2", IF(Z30>=71,"ब-1", IF(Z30>=61,"ब-2", IF(Z30>=51,"क-1", IF(Z30>=41,"क-2", IF(Z30>=33,"ड", IF(Z30>=21,"ई-1", IF(Z30<=20, "ई-2" ))))))))) -> ई-2 | AD30: 0 | AE30: 0 | AF30: =SUM(AD30:AE30) -> 0 | AH30: =IF(AF30>=91,"अ-1", IF(AF30>=81,"अ-2", IF(AF30>=71,"ब-1", IF(AF30>=61,"ब-2", IF(AF30>=51,"क-1", IF(AF30>=41,"क-2", IF(AF30>=33,"ड", IF(AF30>=21,"ई-1", IF(AF30<=20, "ई-2" ))))))))) -> ई-2 | AJ30: 0 | AK30: 0 | AL30: =SUM(AJ30:AK30) -> 0 | AN30: =IF(AL30>=91,"अ-1", IF(AL30>=81,"अ-2", IF(AL30>=71,"ब-1", IF(AL30>=61,"ब-2", IF(AL30>=51,"क-1", IF(AL30>=41,"क-2", IF(AL30>=33,"ड", IF(AL30>=21,"ई-1", IF(AL30<=20, "ई-2" ))))))))) -> ई-2 | AP30: 0 | AQ30: 0 | AR30: =SUM(AP30:AQ30) -> 0 | AT30: =IF(AR30>=91,"अ-1", IF(AR30>=81,"अ-2", IF(AR30>=71,"ब-1", IF(AR30>=61,"ब-2", IF(AR30>=51,"क-1", IF(AR30>=41,"क-2", IF(AR30>=33,"ड", IF(AR30>=21,"ई-1", IF(AR30<=20, "ई-2" ))))))))) -> ई-2 | AV30: 0 | AW30: =IF(AV30>=91,"अ-1", IF(AV30>=81,"अ-2", IF(AV30>=71,"ब-1", IF(AV30>=61,"ब-2", IF(AV30>=51,"क-1", IF(AV30>=41,"क-2", IF(AV30>=33,"ड", IF(AV30>=21,"ई-1", IF(AV30<=20, "ई-2" ))))))))) -> ई-2 | AY30: 0 | AZ30: =IF(AY30>=91,"अ-1", IF(AY30>=81,"अ-2", IF(AY30>=71,"ब-1", IF(AY30>=61,"ब-2", IF(AY30>=51,"क-1", IF(AY30>=41,"क-2", IF(AY30>=33,"ड", IF(AY30>=21,"ई-1", IF(AY30<=20, "ई-2" ))))))))) -> ई-2 | BB30: 0 | BC30: =IF(BB30>=91,"अ-1", IF(BB30>=81,"अ-2", IF(BB30>=71,"ब-1", IF(BB30>=61,"ब-2", IF(BB30>=51,"क-1", IF(BB30>=41,"क-2", IF(BB30>=33,"ड", IF(BB30>=21,"ई-1", IF(BB30<=20, "ई-2" ))))))))) -> ई-2 | BE30: =SUM(H30,N30,T30,Z30,AF30,AL30,AR30,AV30,AY30,BB30) -> 0 | BF30: =SUM(BE30*100)/BE12 -> 0 | BG30: =IF(BF30>=91,"अ-1", IF(BF30>=81,"अ-2", IF(BF30>=71,"ब-1", IF(BF30>=61,"ब-2", IF(BF30>=51,"क-1", IF(BF30>=41,"क-2", IF(BF30>=33,"ड", IF(BF30>=21,"ई-1", IF(BF30>=0, "ई-2" ))))))))) -> ई-2
B31: =Info_1!M23 -> 0 | C31: =Info_1!J23 -> 0 | D31: =Info_1!K23 -> 0 | E31: =Info_1!L23 -> 0 | F31: 0 | G31: 0 | H31: =SUM(F31:G31) -> 0 | J31: =IF(H31>=91,"अ-1", IF(H31>=81,"अ-2", IF(H31>=71,"ब-1", IF(H31>=61,"ब-2", IF(H31>=51,"क-1", IF(H31>=41,"क-2", IF(H31>=33,"ड", IF(H31>=21,"ई-1", IF(H31<=20, "ई-2" ))))))))) -> ई-2 | L31: 0 | M31: 0 | N31: =SUM(L31:M31) -> 0 | P31: =IF(N31>=91,"अ-1", IF(N31>=81,"अ-2", IF(N31>=71,"ब-1", IF(N31>=61,"ब-2", IF(N31>=51,"क-1", IF(N31>=41,"क-2", IF(N31>=33,"ड", IF(N31>=21,"ई-1", IF(N31<=20, "ई-2" ))))))))) -> ई-2 | R31: 0 | S31: 0 | T31: =SUM(R31:S31) -> 0 | V31: =IF(T31>=91,"अ-1", IF(T31>=81,"अ-2", IF(T31>=71,"ब-1", IF(T31>=61,"ब-2", IF(T31>=51,"क-1", IF(T31>=41,"क-2", IF(T31>=33,"ड", IF(T31>=21,"ई-1", IF(T31<=20, "ई-2" ))))))))) -> ई-2 | X31: 0 | Y31: 0 | Z31: =SUM(X31:Y31) -> 0 | AB31: =IF(Z31>=91,"अ-1", IF(Z31>=81,"अ-2", IF(Z31>=71,"ब-1", IF(Z31>=61,"ब-2", IF(Z31>=51,"क-1", IF(Z31>=41,"क-2", IF(Z31>=33,"ड", IF(Z31>=21,"ई-1", IF(Z31<=20, "ई-2" ))))))))) -> ई-2 | AD31: 0 | AE31: 0 | AF31: =SUM(AD31:AE31) -> 0 | AH31: =IF(AF31>=91,"अ-1", IF(AF31>=81,"अ-2", IF(AF31>=71,"ब-1", IF(AF31>=61,"ब-2", IF(AF31>=51,"क-1", IF(AF31>=41,"क-2", IF(AF31>=33,"ड", IF(AF31>=21,"ई-1", IF(AF31<=20, "ई-2" ))))))))) -> ई-2 | AJ31: 0 | AK31: 0 | AL31: =SUM(AJ31:AK31) -> 0 | AN31: =IF(AL31>=91,"अ-1", IF(AL31>=81,"अ-2", IF(AL31>=71,"ब-1", IF(AL31>=61,"ब-2", IF(AL31>=51,"क-1", IF(AL31>=41,"क-2", IF(AL31>=33,"ड", IF(AL31>=21,"ई-1", IF(AL31<=20, "ई-2" ))))))))) -> ई-2 | AP31: 0 | AQ31: 0 | AR31: =SUM(AP31:AQ31) -> 0 | AT31: =IF(AR31>=91,"अ-1", IF(AR31>=81,"अ-2", IF(AR31>=71,"ब-1", IF(AR31>=61,"ब-2", IF(AR31>=51,"क-1", IF(AR31>=41,"क-2", IF(AR31>=33,"ड", IF(AR31>=21,"ई-1", IF(AR31<=20, "ई-2" ))))))))) -> ई-2 | AV31: 0 | AW31: =IF(AV31>=91,"अ-1", IF(AV31>=81,"अ-2", IF(AV31>=71,"ब-1", IF(AV31>=61,"ब-2", IF(AV31>=51,"क-1", IF(AV31>=41,"क-2", IF(AV31>=33,"ड", IF(AV31>=21,"ई-1", IF(AV31<=20, "ई-2" ))))))))) -> ई-2 | AY31: 0 | AZ31: =IF(AY31>=91,"अ-1", IF(AY31>=81,"अ-2", IF(AY31>=71,"ब-1", IF(AY31>=61,"ब-2", IF(AY31>=51,"क-1", IF(AY31>=41,"क-2", IF(AY31>=33,"ड", IF(AY31>=21,"ई-1", IF(AY31<=20, "ई-2" ))))))))) -> ई-2 | BB31: 0 | BC31: =IF(BB31>=91,"अ-1", IF(BB31>=81,"अ-2", IF(BB31>=71,"ब-1", IF(BB31>=61,"ब-2", IF(BB31>=51,"क-1", IF(BB31>=41,"क-2", IF(BB31>=33,"ड", IF(BB31>=21,"ई-1", IF(BB31<=20, "ई-2" ))))))))) -> ई-2 | BE31: =SUM(H31,N31,T31,Z31,AF31,AL31,AR31,AV31,AY31,BB31) -> 0 | BF31: =SUM(BE31*100)/BE12 -> 0 | BG31: =IF(BF31>=91,"अ-1", IF(BF31>=81,"अ-2", IF(BF31>=71,"ब-1", IF(BF31>=61,"ब-2", IF(BF31>=51,"क-1", IF(BF31>=41,"क-2", IF(BF31>=33,"ड", IF(BF31>=21,"ई-1", IF(BF31>=0, "ई-2" ))))))))) -> ई-2
B32: =Info_1!M24 -> 0 | C32: =Info_1!J24 -> 0 | D32: =Info_1!K24 -> 0 | E32: =Info_1!L24 -> 0 | F32: 0 | G32: 0 | H32: =SUM(F32:G32) -> 0 | J32: =IF(H32>=91,"अ-1", IF(H32>=81,"अ-2", IF(H32>=71,"ब-1", IF(H32>=61,"ब-2", IF(H32>=51,"क-1", IF(H32>=41,"क-2", IF(H32>=33,"ड", IF(H32>=21,"ई-1", IF(H32<=20, "ई-2" ))))))))) -> ई-2 | L32: 0 | M32: 0 | N32: =SUM(L32:M32) -> 0 | P32: =IF(N32>=91,"अ-1", IF(N32>=81,"अ-2", IF(N32>=71,"ब-1", IF(N32>=61,"ब-2", IF(N32>=51,"क-1", IF(N32>=41,"क-2", IF(N32>=33,"ड", IF(N32>=21,"ई-1", IF(N32<=20, "ई-2" ))))))))) -> ई-2 | R32: 0 | S32: 0 | T32: =SUM(R32:S32) -> 0 | V32: =IF(T32>=91,"अ-1", IF(T32>=81,"अ-2", IF(T32>=71,"ब-1", IF(T32>=61,"ब-2", IF(T32>=51,"क-1", IF(T32>=41,"क-2", IF(T32>=33,"ड", IF(T32>=21,"ई-1", IF(T32<=20, "ई-2" ))))))))) -> ई-2 | X32: 0 | Y32: 0 | Z32: =SUM(X32:Y32) -> 0 | AB32: =IF(Z32>=91,"अ-1", IF(Z32>=81,"अ-2", IF(Z32>=71,"ब-1", IF(Z32>=61,"ब-2", IF(Z32>=51,"क-1", IF(Z32>=41,"क-2", IF(Z32>=33,"ड", IF(Z32>=21,"ई-1", IF(Z32<=20, "ई-2" ))))))))) -> ई-2 | AD32: 0 | AE32: 0 | AF32: =SUM(AD32:AE32) -> 0 | AH32: =IF(AF32>=91,"अ-1", IF(AF32>=81,"अ-2", IF(AF32>=71,"ब-1", IF(AF32>=61,"ब-2", IF(AF32>=51,"क-1", IF(AF32>=41,"क-2", IF(AF32>=33,"ड", IF(AF32>=21,"ई-1", IF(AF32<=20, "ई-2" ))))))))) -> ई-2 | AJ32: 0 | AK32: 0 | AL32: =SUM(AJ32:AK32) -> 0 | AN32: =IF(AL32>=91,"अ-1", IF(AL32>=81,"अ-2", IF(AL32>=71,"ब-1", IF(AL32>=61,"ब-2", IF(AL32>=51,"क-1", IF(AL32>=41,"क-2", IF(AL32>=33,"ड", IF(AL32>=21,"ई-1", IF(AL32<=20, "ई-2" ))))))))) -> ई-2 | AP32: 0 | AQ32: 0 | AR32: =SUM(AP32:AQ32) -> 0 | AT32: =IF(AR32>=91,"अ-1", IF(AR32>=81,"अ-2", IF(AR32>=71,"ब-1", IF(AR32>=61,"ब-2", IF(AR32>=51,"क-1", IF(AR32>=41,"क-2", IF(AR32>=33,"ड", IF(AR32>=21,"ई-1", IF(AR32<=20, "ई-2" ))))))))) -> ई-2 | AV32: 0 | AW32: =IF(AV32>=91,"अ-1", IF(AV32>=81,"अ-2", IF(AV32>=71,"ब-1", IF(AV32>=61,"ब-2", IF(AV32>=51,"क-1", IF(AV32>=41,"क-2", IF(AV32>=33,"ड", IF(AV32>=21,"ई-1", IF(AV32<=20, "ई-2" ))))))))) -> ई-2 | AY32: 0 | AZ32: =IF(AY32>=91,"अ-1", IF(AY32>=81,"अ-2", IF(AY32>=71,"ब-1", IF(AY32>=61,"ब-2", IF(AY32>=51,"क-1", IF(AY32>=41,"क-2", IF(AY32>=33,"ड", IF(AY32>=21,"ई-1", IF(AY32<=20, "ई-2" ))))))))) -> ई-2 | BB32: 0 | BC32: =IF(BB32>=91,"अ-1", IF(BB32>=81,"अ-2", IF(BB32>=71,"ब-1", IF(BB32>=61,"ब-2", IF(BB32>=51,"क-1", IF(BB32>=41,"क-2", IF(BB32>=33,"ड", IF(BB32>=21,"ई-1", IF(BB32<=20, "ई-2" ))))))))) -> ई-2 | BE32: =SUM(H32,N32,T32,Z32,AF32,AL32,AR32,AV32,AY32,BB32) -> 0 | BF32: =SUM(BE32*100)/BE12 -> 0 | BG32: =IF(BF32>=91,"अ-1", IF(BF32>=81,"अ-2", IF(BF32>=71,"ब-1", IF(BF32>=61,"ब-2", IF(BF32>=51,"क-1", IF(BF32>=41,"क-2", IF(BF32>=33,"ड", IF(BF32>=21,"ई-1", IF(BF32>=0, "ई-2" ))))))))) -> ई-2
B33: =Info_1!M25 -> 0 | C33: =Info_1!J25 -> 0 | D33: =Info_1!K25 -> 0 | E33: =Info_1!L25 -> 0 | F33: 0 | G33: 0 | H33: =SUM(F33:G33) -> 0 | J33: =IF(H33>=91,"अ-1", IF(H33>=81,"अ-2", IF(H33>=71,"ब-1", IF(H33>=61,"ब-2", IF(H33>=51,"क-1", IF(H33>=41,"क-2", IF(H33>=33,"ड", IF(H33>=21,"ई-1", IF(H33<=20, "ई-2" ))))))))) -> ई-2 | L33: 0 | M33: 0 | N33: =SUM(L33:M33) -> 0 | P33: =IF(N33>=91,"अ-1", IF(N33>=81,"अ-2", IF(N33>=71,"ब-1", IF(N33>=61,"ब-2", IF(N33>=51,"क-1", IF(N33>=41,"क-2", IF(N33>=33,"ड", IF(N33>=21,"ई-1", IF(N33<=20, "ई-2" ))))))))) -> ई-2 | R33: 0 | S33: 0 | T33: =SUM(R33:S33) -> 0 | V33: =IF(T33>=91,"अ-1", IF(T33>=81,"अ-2", IF(T33>=71,"ब-1", IF(T33>=61,"ब-2", IF(T33>=51,"क-1", IF(T33>=41,"क-2", IF(T33>=33,"ड", IF(T33>=21,"ई-1", IF(T33<=20, "ई-2" ))))))))) -> ई-2 | X33: 0 | Y33: 0 | Z33: =SUM(X33:Y33) -> 0 | AB33: =IF(Z33>=91,"अ-1", IF(Z33>=81,"अ-2", IF(Z33>=71,"ब-1", IF(Z33>=61,"ब-2", IF(Z33>=51,"क-1", IF(Z33>=41,"क-2", IF(Z33>=33,"ड", IF(Z33>=21,"ई-1", IF(Z33<=20, "ई-2" ))))))))) -> ई-2 | AD33: 0 | AE33: 0 | AF33: =SUM(AD33:AE33) -> 0 | AH33: =IF(AF33>=91,"अ-1", IF(AF33>=81,"अ-2", IF(AF33>=71,"ब-1", IF(AF33>=61,"ब-2", IF(AF33>=51,"क-1", IF(AF33>=41,"क-2", IF(AF33>=33,"ड", IF(AF33>=21,"ई-1", IF(AF33<=20, "ई-2" ))))))))) -> ई-2 | AJ33: 0 | AK33: 0 | AL33: =SUM(AJ33:AK33) -> 0 | AN33: =IF(AL33>=91,"अ-1", IF(AL33>=81,"अ-2", IF(AL33>=71,"ब-1", IF(AL33>=61,"ब-2", IF(AL33>=51,"क-1", IF(AL33>=41,"क-2", IF(AL33>=33,"ड", IF(AL33>=21,"ई-1", IF(AL33<=20, "ई-2" ))))))))) -> ई-2 | AP33: 0 | AQ33: 0 | AR33: =SUM(AP33:AQ33) -> 0 | AT33: =IF(AR33>=91,"अ-1", IF(AR33>=81,"अ-2", IF(AR33>=71,"ब-1", IF(AR33>=61,"ब-2", IF(AR33>=51,"क-1", IF(AR33>=41,"क-2", IF(AR33>=33,"ड", IF(AR33>=21,"ई-1", IF(AR33<=20, "ई-2" ))))))))) -> ई-2 | AV33: 0 | AW33: =IF(AV33>=91,"अ-1", IF(AV33>=81,"अ-2", IF(AV33>=71,"ब-1", IF(AV33>=61,"ब-2", IF(AV33>=51,"क-1", IF(AV33>=41,"क-2", IF(AV33>=33,"ड", IF(AV33>=21,"ई-1", IF(AV33<=20, "ई-2" ))))))))) -> ई-2 | AY33: 0 | AZ33: =IF(AY33>=91,"अ-1", IF(AY33>=81,"अ-2", IF(AY33>=71,"ब-1", IF(AY33>=61,"ब-2", IF(AY33>=51,"क-1", IF(AY33>=41,"क-2", IF(AY33>=33,"ड", IF(AY33>=21,"ई-1", IF(AY33<=20, "ई-2" ))))))))) -> ई-2 | BB33: 0 | BC33: =IF(BB33>=91,"अ-1", IF(BB33>=81,"अ-2", IF(BB33>=71,"ब-1", IF(BB33>=61,"ब-2", IF(BB33>=51,"क-1", IF(BB33>=41,"क-2", IF(BB33>=33,"ड", IF(BB33>=21,"ई-1", IF(BB33<=20, "ई-2" ))))))))) -> ई-2 | BE33: =SUM(H33,N33,T33,Z33,AF33,AL33,AR33,AV33,AY33,BB33) -> 0 | BF33: =SUM(BE33*100)/BE12 -> 0 | BG33: =IF(BF33>=91,"अ-1", IF(BF33>=81,"अ-2", IF(BF33>=71,"ब-1", IF(BF33>=61,"ब-2", IF(BF33>=51,"क-1", IF(BF33>=41,"क-2", IF(BF33>=33,"ड", IF(BF33>=21,"ई-1", IF(BF33>=0, "ई-2" ))))))))) -> ई-2
B34: =Info_1!M26 -> 0 | C34: =Info_1!J26 -> 0 | D34: =Info_1!K26 -> 0 | E34: =Info_1!L26 -> 0 | F34: 0 | G34: 0 | H34: =SUM(F34:G34) -> 0 | J34: =IF(H34>=91,"अ-1", IF(H34>=81,"अ-2", IF(H34>=71,"ब-1", IF(H34>=61,"ब-2", IF(H34>=51,"क-1", IF(H34>=41,"क-2", IF(H34>=33,"ड", IF(H34>=21,"ई-1", IF(H34<=20, "ई-2" ))))))))) -> ई-2 | L34: 0 | M34: 0 | N34: =SUM(L34:M34) -> 0 | P34: =IF(N34>=91,"अ-1", IF(N34>=81,"अ-2", IF(N34>=71,"ब-1", IF(N34>=61,"ब-2", IF(N34>=51,"क-1", IF(N34>=41,"क-2", IF(N34>=33,"ड", IF(N34>=21,"ई-1", IF(N34<=20, "ई-2" ))))))))) -> ई-2 | R34: 0 | S34: 0 | T34: =SUM(R34:S34) -> 0 | V34: =IF(T34>=91,"अ-1", IF(T34>=81,"अ-2", IF(T34>=71,"ब-1", IF(T34>=61,"ब-2", IF(T34>=51,"क-1", IF(T34>=41,"क-2", IF(T34>=33,"ड", IF(T34>=21,"ई-1", IF(T34<=20, "ई-2" ))))))))) -> ई-2 | X34: 0 | Y34: 0 | Z34: =SUM(X34:Y34) -> 0 | AB34: =IF(Z34>=91,"अ-1", IF(Z34>=81,"अ-2", IF(Z34>=71,"ब-1", IF(Z34>=61,"ब-2", IF(Z34>=51,"क-1", IF(Z34>=41,"क-2", IF(Z34>=33,"ड", IF(Z34>=21,"ई-1", IF(Z34<=20, "ई-2" ))))))))) -> ई-2 | AD34: 0 | AE34: 0 | AF34: =SUM(AD34:AE34) -> 0 | AH34: =IF(AF34>=91,"अ-1", IF(AF34>=81,"अ-2", IF(AF34>=71,"ब-1", IF(AF34>=61,"ब-2", IF(AF34>=51,"क-1", IF(AF34>=41,"क-2", IF(AF34>=33,"ड", IF(AF34>=21,"ई-1", IF(AF34<=20, "ई-2" ))))))))) -> ई-2 | AJ34: 0 | AK34: 0 | AL34: =SUM(AJ34:AK34) -> 0 | AN34: =IF(AL34>=91,"अ-1", IF(AL34>=81,"अ-2", IF(AL34>=71,"ब-1", IF(AL34>=61,"ब-2", IF(AL34>=51,"क-1", IF(AL34>=41,"क-2", IF(AL34>=33,"ड", IF(AL34>=21,"ई-1", IF(AL34<=20, "ई-2" ))))))))) -> ई-2 | AP34: 0 | AQ34: 0 | AR34: =SUM(AP34:AQ34) -> 0 | AT34: =IF(AR34>=91,"अ-1", IF(AR34>=81,"अ-2", IF(AR34>=71,"ब-1", IF(AR34>=61,"ब-2", IF(AR34>=51,"क-1", IF(AR34>=41,"क-2", IF(AR34>=33,"ड", IF(AR34>=21,"ई-1", IF(AR34<=20, "ई-2" ))))))))) -> ई-2 | AV34: 0 | AW34: =IF(AV34>=91,"अ-1", IF(AV34>=81,"अ-2", IF(AV34>=71,"ब-1", IF(AV34>=61,"ब-2", IF(AV34>=51,"क-1", IF(AV34>=41,"क-2", IF(AV34>=33,"ड", IF(AV34>=21,"ई-1", IF(AV34<=20, "ई-2" ))))))))) -> ई-2 | AY34: 0 | AZ34: =IF(AY34>=91,"अ-1", IF(AY34>=81,"अ-2", IF(AY34>=71,"ब-1", IF(AY34>=61,"ब-2", IF(AY34>=51,"क-1", IF(AY34>=41,"क-2", IF(AY34>=33,"ड", IF(AY34>=21,"ई-1", IF(AY34<=20, "ई-2" ))))))))) -> ई-2 | BB34: 0 | BC34: =IF(BB34>=91,"अ-1", IF(BB34>=81,"अ-2", IF(BB34>=71,"ब-1", IF(BB34>=61,"ब-2", IF(BB34>=51,"क-1", IF(BB34>=41,"क-2", IF(BB34>=33,"ड", IF(BB34>=21,"ई-1", IF(BB34<=20, "ई-2" ))))))))) -> ई-2 | BE34: =SUM(H34,N34,T34,Z34,AF34,AL34,AR34,AV34,AY34,BB34) -> 0 | BF34: =SUM(BE34*100)/BE12 -> 0 | BG34: =IF(BF34>=91,"अ-1", IF(BF34>=81,"अ-2", IF(BF34>=71,"ब-1", IF(BF34>=61,"ब-2", IF(BF34>=51,"क-1", IF(BF34>=41,"क-2", IF(BF34>=33,"ड", IF(BF34>=21,"ई-1", IF(BF34>=0, "ई-2" ))))))))) -> ई-2
B35: =Info_1!M27 -> 0 | C35: =Info_1!J27 -> 0 | D35: =Info_1!K27 -> 0 | E35: =Info_1!L27 -> 0 | F35: 0 | G35: 0 | H35: =SUM(F35:G35) -> 0 | J35: =IF(H35>=91,"अ-1", IF(H35>=81,"अ-2", IF(H35>=71,"ब-1", IF(H35>=61,"ब-2", IF(H35>=51,"क-1", IF(H35>=41,"क-2", IF(H35>=33,"ड", IF(H35>=21,"ई-1", IF(H35<=20, "ई-2" ))))))))) -> ई-2 | L35: 0 | M35: 0 | N35: =SUM(L35:M35) -> 0 | P35: =IF(N35>=91,"अ-1", IF(N35>=81,"अ-2", IF(N35>=71,"ब-1", IF(N35>=61,"ब-2", IF(N35>=51,"क-1", IF(N35>=41,"क-2", IF(N35>=33,"ड", IF(N35>=21,"ई-1", IF(N35<=20, "ई-2" ))))))))) -> ई-2 | R35: 0 | S35: 0 | T35: =SUM(R35:S35) -> 0 | V35: =IF(T35>=91,"अ-1", IF(T35>=81,"अ-2", IF(T35>=71,"ब-1", IF(T35>=61,"ब-2", IF(T35>=51,"क-1", IF(T35>=41,"क-2", IF(T35>=33,"ड", IF(T35>=21,"ई-1", IF(T35<=20, "ई-2" ))))))))) -> ई-2 | X35: 0 | Y35: 0 | Z35: =SUM(X35:Y35) -> 0 | AB35: =IF(Z35>=91,"अ-1", IF(Z35>=81,"अ-2", IF(Z35>=71,"ब-1", IF(Z35>=61,"ब-2", IF(Z35>=51,"क-1", IF(Z35>=41,"क-2", IF(Z35>=33,"ड", IF(Z35>=21,"ई-1", IF(Z35<=20, "ई-2" ))))))))) -> ई-2 | AD35: 0 | AE35: 0 | AF35: =SUM(AD35:AE35) -> 0 | AH35: =IF(AF35>=91,"अ-1", IF(AF35>=81,"अ-2", IF(AF35>=71,"ब-1", IF(AF35>=61,"ब-2", IF(AF35>=51,"क-1", IF(AF35>=41,"क-2", IF(AF35>=33,"ड", IF(AF35>=21,"ई-1", IF(AF35<=20, "ई-2" ))))))))) -> ई-2 | AJ35: 0 | AK35: 0 | AL35: =SUM(AJ35:AK35) -> 0 | AN35: =IF(AL35>=91,"अ-1", IF(AL35>=81,"अ-2", IF(AL35>=71,"ब-1", IF(AL35>=61,"ब-2", IF(AL35>=51,"क-1", IF(AL35>=41,"क-2", IF(AL35>=33,"ड", IF(AL35>=21,"ई-1", IF(AL35<=20, "ई-2" ))))))))) -> ई-2 | AP35: 0 | AQ35: 0 | AR35: =SUM(AP35:AQ35) -> 0 | AT35: =IF(AR35>=91,"अ-1", IF(AR35>=81,"अ-2", IF(AR35>=71,"ब-1", IF(AR35>=61,"ब-2", IF(AR35>=51,"क-1", IF(AR35>=41,"क-2", IF(AR35>=33,"ड", IF(AR35>=21,"ई-1", IF(AR35<=20, "ई-2" ))))))))) -> ई-2 | AV35: 0 | AW35: =IF(AV35>=91,"अ-1", IF(AV35>=81,"अ-2", IF(AV35>=71,"ब-1", IF(AV35>=61,"ब-2", IF(AV35>=51,"क-1", IF(AV35>=41,"क-2", IF(AV35>=33,"ड", IF(AV35>=21,"ई-1", IF(AV35<=20, "ई-2" ))))))))) -> ई-2 | AY35: 0 | AZ35: =IF(AY35>=91,"अ-1", IF(AY35>=81,"अ-2", IF(AY35>=71,"ब-1", IF(AY35>=61,"ब-2", IF(AY35>=51,"क-1", IF(AY35>=41,"क-2", IF(AY35>=33,"ड", IF(AY35>=21,"ई-1", IF(AY35<=20, "ई-2" ))))))))) -> ई-2 | BB35: 0 | BC35: =IF(BB35>=91,"अ-1", IF(BB35>=81,"अ-2", IF(BB35>=71,"ब-1", IF(BB35>=61,"ब-2", IF(BB35>=51,"क-1", IF(BB35>=41,"क-2", IF(BB35>=33,"ड", IF(BB35>=21,"ई-1", IF(BB35<=20, "ई-2" ))))))))) -> ई-2 | BE35: =SUM(H35,N35,T35,Z35,AF35,AL35,AR35,AV35,AY35,BB35) -> 0 | BF35: =SUM(BE35*100)/BE12 -> 0 | BG35: =IF(BF35>=91,"अ-1", IF(BF35>=81,"अ-2", IF(BF35>=71,"ब-1", IF(BF35>=61,"ब-2", IF(BF35>=51,"क-1", IF(BF35>=41,"क-2", IF(BF35>=33,"ड", IF(BF35>=21,"ई-1", IF(BF35>=0, "ई-2" ))))))))) -> ई-2
B36: =Info_1!M28 -> 0 | C36: =Info_1!J28 -> 0 | D36: =Info_1!K28 -> 0 | E36: =Info_1!L28 -> 0 | F36: 0 | G36: 0 | H36: =SUM(F36:G36) -> 0 | J36: =IF(H36>=91,"अ-1", IF(H36>=81,"अ-2", IF(H36>=71,"ब-1", IF(H36>=61,"ब-2", IF(H36>=51,"क-1", IF(H36>=41,"क-2", IF(H36>=33,"ड", IF(H36>=21,"ई-1", IF(H36<=20, "ई-2" ))))))))) -> ई-2 | L36: 0 | M36: 0 | N36: =SUM(L36:M36) -> 0 | P36: =IF(N36>=91,"अ-1", IF(N36>=81,"अ-2", IF(N36>=71,"ब-1", IF(N36>=61,"ब-2", IF(N36>=51,"क-1", IF(N36>=41,"क-2", IF(N36>=33,"ड", IF(N36>=21,"ई-1", IF(N36<=20, "ई-2" ))))))))) -> ई-2 | R36: 0 | S36: 0 | T36: =SUM(R36:S36) -> 0 | V36: =IF(T36>=91,"अ-1", IF(T36>=81,"अ-2", IF(T36>=71,"ब-1", IF(T36>=61,"ब-2", IF(T36>=51,"क-1", IF(T36>=41,"क-2", IF(T36>=33,"ड", IF(T36>=21,"ई-1", IF(T36<=20, "ई-2" ))))))))) -> ई-2 | X36: 0 | Y36: 0 | Z36: =SUM(X36:Y36) -> 0 | AB36: =IF(Z36>=91,"अ-1", IF(Z36>=81,"अ-2", IF(Z36>=71,"ब-1", IF(Z36>=61,"ब-2", IF(Z36>=51,"क-1", IF(Z36>=41,"क-2", IF(Z36>=33,"ड", IF(Z36>=21,"ई-1", IF(Z36<=20, "ई-2" ))))))))) -> ई-2 | AD36: 0 | AE36: 0 | AF36: =SUM(AD36:AE36) -> 0 | AH36: =IF(AF36>=91,"अ-1", IF(AF36>=81,"अ-2", IF(AF36>=71,"ब-1", IF(AF36>=61,"ब-2", IF(AF36>=51,"क-1", IF(AF36>=41,"क-2", IF(AF36>=33,"ड", IF(AF36>=21,"ई-1", IF(AF36<=20, "ई-2" ))))))))) -> ई-2 | AJ36: 0 | AK36: 0 | AL36: =SUM(AJ36:AK36) -> 0 | AN36: =IF(AL36>=91,"अ-1", IF(AL36>=81,"अ-2", IF(AL36>=71,"ब-1", IF(AL36>=61,"ब-2", IF(AL36>=51,"क-1", IF(AL36>=41,"क-2", IF(AL36>=33,"ड", IF(AL36>=21,"ई-1", IF(AL36<=20, "ई-2" ))))))))) -> ई-2 | AP36: 0 | AQ36: 0 | AR36: =SUM(AP36:AQ36) -> 0 | AT36: =IF(AR36>=91,"अ-1", IF(AR36>=81,"अ-2", IF(AR36>=71,"ब-1", IF(AR36>=61,"ब-2", IF(AR36>=51,"क-1", IF(AR36>=41,"क-2", IF(AR36>=33,"ड", IF(AR36>=21,"ई-1", IF(AR36<=20, "ई-2" ))))))))) -> ई-2 | AV36: 0 | AW36: =IF(AV36>=91,"अ-1", IF(AV36>=81,"अ-2", IF(AV36>=71,"ब-1", IF(AV36>=61,"ब-2", IF(AV36>=51,"क-1", IF(AV36>=41,"क-2", IF(AV36>=33,"ड", IF(AV36>=21,"ई-1", IF(AV36<=20, "ई-2" ))))))))) -> ई-2 | AY36: 0 | AZ36: =IF(AY36>=91,"अ-1", IF(AY36>=81,"अ-2", IF(AY36>=71,"ब-1", IF(AY36>=61,"ब-2", IF(AY36>=51,"क-1", IF(AY36>=41,"क-2", IF(AY36>=33,"ड", IF(AY36>=21,"ई-1", IF(AY36<=20, "ई-2" ))))))))) -> ई-2 | BB36: 0 | BC36: =IF(BB36>=91,"अ-1", IF(BB36>=81,"अ-2", IF(BB36>=71,"ब-1", IF(BB36>=61,"ब-2", IF(BB36>=51,"क-1", IF(BB36>=41,"क-2", IF(BB36>=33,"ड", IF(BB36>=21,"ई-1", IF(BB36<=20, "ई-2" ))))))))) -> ई-2 | BE36: =SUM(H36,N36,T36,Z36,AF36,AL36,AR36,AV36,AY36,BB36) -> 0 | BF36: =SUM(BE36*100)/BE12 -> 0 | BG36: =IF(BF36>=91,"अ-1", IF(BF36>=81,"अ-2", IF(BF36>=71,"ब-1", IF(BF36>=61,"ब-2", IF(BF36>=51,"क-1", IF(BF36>=41,"क-2", IF(BF36>=33,"ड", IF(BF36>=21,"ई-1", IF(BF36>=0, "ई-2" ))))))))) -> ई-2
B37: =Info_1!M29 -> 0 | C37: =Info_1!J29 -> 0 | D37: =Info_1!K29 -> 0 | E37: =Info_1!L29 -> 0 | F37: 0 | G37: 0 | H37: =SUM(F37:G37) -> 0 | J37: =IF(H37>=91,"अ-1", IF(H37>=81,"अ-2", IF(H37>=71,"ब-1", IF(H37>=61,"ब-2", IF(H37>=51,"क-1", IF(H37>=41,"क-2", IF(H37>=33,"ड", IF(H37>=21,"ई-1", IF(H37<=20, "ई-2" ))))))))) -> ई-2 | L37: 0 | M37: 0 | N37: =SUM(L37:M37) -> 0 | P37: =IF(N37>=91,"अ-1", IF(N37>=81,"अ-2", IF(N37>=71,"ब-1", IF(N37>=61,"ब-2", IF(N37>=51,"क-1", IF(N37>=41,"क-2", IF(N37>=33,"ड", IF(N37>=21,"ई-1", IF(N37<=20, "ई-2" ))))))))) -> ई-2 | R37: 0 | S37: 0 | T37: =SUM(R37:S37) -> 0 | V37: =IF(T37>=91,"अ-1", IF(T37>=81,"अ-2", IF(T37>=71,"ब-1", IF(T37>=61,"ब-2", IF(T37>=51,"क-1", IF(T37>=41,"क-2", IF(T37>=33,"ड", IF(T37>=21,"ई-1", IF(T37<=20, "ई-2" ))))))))) -> ई-2 | X37: 0 | Y37: 0 | Z37: =SUM(X37:Y37) -> 0 | AB37: =IF(Z37>=91,"अ-1", IF(Z37>=81,"अ-2", IF(Z37>=71,"ब-1", IF(Z37>=61,"ब-2", IF(Z37>=51,"क-1", IF(Z37>=41,"क-2", IF(Z37>=33,"ड", IF(Z37>=21,"ई-1", IF(Z37<=20, "ई-2" ))))))))) -> ई-2 | AD37: 0 | AE37: 0 | AF37: =SUM(AD37:AE37) -> 0 | AH37: =IF(AF37>=91,"अ-1", IF(AF37>=81,"अ-2", IF(AF37>=71,"ब-1", IF(AF37>=61,"ब-2", IF(AF37>=51,"क-1", IF(AF37>=41,"क-2", IF(AF37>=33,"ड", IF(AF37>=21,"ई-1", IF(AF37<=20, "ई-2" ))))))))) -> ई-2 | AJ37: 0 | AK37: 0 | AL37: =SUM(AJ37:AK37) -> 0 | AN37: =IF(AL37>=91,"अ-1", IF(AL37>=81,"अ-2", IF(AL37>=71,"ब-1", IF(AL37>=61,"ब-2", IF(AL37>=51,"क-1", IF(AL37>=41,"क-2", IF(AL37>=33,"ड", IF(AL37>=21,"ई-1", IF(AL37<=20, "ई-2" ))))))))) -> ई-2 | AP37: 0 | AQ37: 0 | AR37: =SUM(AP37:AQ37) -> 0 | AT37: =IF(AR37>=91,"अ-1", IF(AR37>=81,"अ-2", IF(AR37>=71,"ब-1", IF(AR37>=61,"ब-2", IF(AR37>=51,"क-1", IF(AR37>=41,"क-2", IF(AR37>=33,"ड", IF(AR37>=21,"ई-1", IF(AR37<=20, "ई-2" ))))))))) -> ई-2 | AV37: 0 | AW37: =IF(AV37>=91,"अ-1", IF(AV37>=81,"अ-2", IF(AV37>=71,"ब-1", IF(AV37>=61,"ब-2", IF(AV37>=51,"क-1", IF(AV37>=41,"क-2", IF(AV37>=33,"ड", IF(AV37>=21,"ई-1", IF(AV37<=20, "ई-2" ))))))))) -> ई-2 | AY37: 0 | AZ37: =IF(AY37>=91,"अ-1", IF(AY37>=81,"अ-2", IF(AY37>=71,"ब-1", IF(AY37>=61,"ब-2", IF(AY37>=51,"क-1", IF(AY37>=41,"क-2", IF(AY37>=33,"ड", IF(AY37>=21,"ई-1", IF(AY37<=20, "ई-2" ))))))))) -> ई-2 | BB37: 0 | BC37: =IF(BB37>=91,"अ-1", IF(BB37>=81,"अ-2", IF(BB37>=71,"ब-1", IF(BB37>=61,"ब-2", IF(BB37>=51,"क-1", IF(BB37>=41,"क-2", IF(BB37>=33,"ड", IF(BB37>=21,"ई-1", IF(BB37<=20, "ई-2" ))))))))) -> ई-2 | BE37: =SUM(H37,N37,T37,Z37,AF37,AL37,AR37,AV37,AY37,BB37) -> 0 | BF37: =SUM(BE37*100)/BE12 -> 0 | BG37: =IF(BF37>=91,"अ-1", IF(BF37>=81,"अ-2", IF(BF37>=71,"ब-1", IF(BF37>=61,"ब-2", IF(BF37>=51,"क-1", IF(BF37>=41,"क-2", IF(BF37>=33,"ड", IF(BF37>=21,"ई-1", IF(BF37>=0, "ई-2" ))))))))) -> ई-2
B38: =Info_1!M30 -> 0 | C38: =Info_1!J30 -> 0 | D38: =Info_1!K30 -> 0 | E38: =Info_1!L30 -> 0 | F38: 0 | G38: 0 | H38: =SUM(F38:G38) -> 0 | J38: =IF(H38>=91,"अ-1", IF(H38>=81,"अ-2", IF(H38>=71,"ब-1", IF(H38>=61,"ब-2", IF(H38>=51,"क-1", IF(H38>=41,"क-2", IF(H38>=33,"ड", IF(H38>=21,"ई-1", IF(H38<=20, "ई-2" ))))))))) -> ई-2 | L38: 0 | M38: 0 | N38: =SUM(L38:M38) -> 0 | P38: =IF(N38>=91,"अ-1", IF(N38>=81,"अ-2", IF(N38>=71,"ब-1", IF(N38>=61,"ब-2", IF(N38>=51,"क-1", IF(N38>=41,"क-2", IF(N38>=33,"ड", IF(N38>=21,"ई-1", IF(N38<=20, "ई-2" ))))))))) -> ई-2 | R38: 0 | S38: 0 | T38: =SUM(R38:S38) -> 0 | V38: =IF(T38>=91,"अ-1", IF(T38>=81,"अ-2", IF(T38>=71,"ब-1", IF(T38>=61,"ब-2", IF(T38>=51,"क-1", IF(T38>=41,"क-2", IF(T38>=33,"ड", IF(T38>=21,"ई-1", IF(T38<=20, "ई-2" ))))))))) -> ई-2 | X38: 0 | Y38: 0 | Z38: =SUM(X38:Y38) -> 0 | AB38: =IF(Z38>=91,"अ-1", IF(Z38>=81,"अ-2", IF(Z38>=71,"ब-1", IF(Z38>=61,"ब-2", IF(Z38>=51,"क-1", IF(Z38>=41,"क-2", IF(Z38>=33,"ड", IF(Z38>=21,"ई-1", IF(Z38<=20, "ई-2" ))))))))) -> ई-2 | AD38: 0 | AE38: 0 | AF38: =SUM(AD38:AE38) -> 0 | AH38: =IF(AF38>=91,"अ-1", IF(AF38>=81,"अ-2", IF(AF38>=71,"ब-1", IF(AF38>=61,"ब-2", IF(AF38>=51,"क-1", IF(AF38>=41,"क-2", IF(AF38>=33,"ड", IF(AF38>=21,"ई-1", IF(AF38<=20, "ई-2" ))))))))) -> ई-2 | AJ38: 0 | AK38: 0 | AL38: =SUM(AJ38:AK38) -> 0 | AN38: =IF(AL38>=91,"अ-1", IF(AL38>=81,"अ-2", IF(AL38>=71,"ब-1", IF(AL38>=61,"ब-2", IF(AL38>=51,"क-1", IF(AL38>=41,"क-2", IF(AL38>=33,"ड", IF(AL38>=21,"ई-1", IF(AL38<=20, "ई-2" ))))))))) -> ई-2 | AP38: 0 | AQ38: 0 | AR38: =SUM(AP38:AQ38) -> 0 | AT38: =IF(AR38>=91,"अ-1", IF(AR38>=81,"अ-2", IF(AR38>=71,"ब-1", IF(AR38>=61,"ब-2", IF(AR38>=51,"क-1", IF(AR38>=41,"क-2", IF(AR38>=33,"ड", IF(AR38>=21,"ई-1", IF(AR38<=20, "ई-2" ))))))))) -> ई-2 | AV38: 0 | AW38: =IF(AV38>=91,"अ-1", IF(AV38>=81,"अ-2", IF(AV38>=71,"ब-1", IF(AV38>=61,"ब-2", IF(AV38>=51,"क-1", IF(AV38>=41,"क-2", IF(AV38>=33,"ड", IF(AV38>=21,"ई-1", IF(AV38<=20, "ई-2" ))))))))) -> ई-2 | AY38: 0 | AZ38: =IF(AY38>=91,"अ-1", IF(AY38>=81,"अ-2", IF(AY38>=71,"ब-1", IF(AY38>=61,"ब-2", IF(AY38>=51,"क-1", IF(AY38>=41,"क-2", IF(AY38>=33,"ड", IF(AY38>=21,"ई-1", IF(AY38<=20, "ई-2" ))))))))) -> ई-2 | BB38: 0 | BC38: =IF(BB38>=91,"अ-1", IF(BB38>=81,"अ-2", IF(BB38>=71,"ब-1", IF(BB38>=61,"ब-2", IF(BB38>=51,"क-1", IF(BB38>=41,"क-2", IF(BB38>=33,"ड", IF(BB38>=21,"ई-1", IF(BB38<=20, "ई-2" ))))))))) -> ई-2 | BE38: =SUM(H38,N38,T38,Z38,AF38,AL38,AR38,AV38,AY38,BB38) -> 0 | BF38: =SUM(BE38*100)/BE12 -> 0 | BG38: =IF(BF38>=91,"अ-1", IF(BF38>=81,"अ-2", IF(BF38>=71,"ब-1", IF(BF38>=61,"ब-2", IF(BF38>=51,"क-1", IF(BF38>=41,"क-2", IF(BF38>=33,"ड", IF(BF38>=21,"ई-1", IF(BF38>=0, "ई-2" ))))))))) -> ई-2
B39: =Info_1!M31 -> 0 | C39: =Info_1!J31 -> 0 | D39: =Info_1!K31 -> 0 | E39: =Info_1!L31 -> 0 | F39: 0 | G39: 0 | H39: =SUM(F39:G39) -> 0 | J39: =IF(H39>=91,"अ-1", IF(H39>=81,"अ-2", IF(H39>=71,"ब-1", IF(H39>=61,"ब-2", IF(H39>=51,"क-1", IF(H39>=41,"क-2", IF(H39>=33,"ड", IF(H39>=21,"ई-1", IF(H39<=20, "ई-2" ))))))))) -> ई-2 | L39: 0 | M39: 0 | N39: =SUM(L39:M39) -> 0 | P39: =IF(N39>=91,"अ-1", IF(N39>=81,"अ-2", IF(N39>=71,"ब-1", IF(N39>=61,"ब-2", IF(N39>=51,"क-1", IF(N39>=41,"क-2", IF(N39>=33,"ड", IF(N39>=21,"ई-1", IF(N39<=20, "ई-2" ))))))))) -> ई-2 | R39: 0 | S39: 0 | T39: =SUM(R39:S39) -> 0 | V39: =IF(T39>=91,"अ-1", IF(T39>=81,"अ-2", IF(T39>=71,"ब-1", IF(T39>=61,"ब-2", IF(T39>=51,"क-1", IF(T39>=41,"क-2", IF(T39>=33,"ड", IF(T39>=21,"ई-1", IF(T39<=20, "ई-2" ))))))))) -> ई-2 | X39: 0 | Y39: 0 | Z39: =SUM(X39:Y39) -> 0 | AB39: =IF(Z39>=91,"अ-1", IF(Z39>=81,"अ-2", IF(Z39>=71,"ब-1", IF(Z39>=61,"ब-2", IF(Z39>=51,"क-1", IF(Z39>=41,"क-2", IF(Z39>=33,"ड", IF(Z39>=21,"ई-1", IF(Z39<=20, "ई-2" ))))))))) -> ई-2 | AD39: 0 | AE39: 0 | AF39: =SUM(AD39:AE39) -> 0 | AH39: =IF(AF39>=91,"अ-1", IF(AF39>=81,"अ-2", IF(AF39>=71,"ब-1", IF(AF39>=61,"ब-2", IF(AF39>=51,"क-1", IF(AF39>=41,"क-2", IF(AF39>=33,"ड", IF(AF39>=21,"ई-1", IF(AF39<=20, "ई-2" ))))))))) -> ई-2 | AJ39: 0 | AK39: 0 | AL39: =SUM(AJ39:AK39) -> 0 | AN39: =IF(AL39>=91,"अ-1", IF(AL39>=81,"अ-2", IF(AL39>=71,"ब-1", IF(AL39>=61,"ब-2", IF(AL39>=51,"क-1", IF(AL39>=41,"क-2", IF(AL39>=33,"ड", IF(AL39>=21,"ई-1", IF(AL39<=20, "ई-2" ))))))))) -> ई-2 | AP39: 0 | AQ39: 0 | AR39: =SUM(AP39:AQ39) -> 0 | AT39: =IF(AR39>=91,"अ-1", IF(AR39>=81,"अ-2", IF(AR39>=71,"ब-1", IF(AR39>=61,"ब-2", IF(AR39>=51,"क-1", IF(AR39>=41,"क-2", IF(AR39>=33,"ड", IF(AR39>=21,"ई-1", IF(AR39<=20, "ई-2" ))))))))) -> ई-2 | AV39: 0 | AW39: =IF(AV39>=91,"अ-1", IF(AV39>=81,"अ-2", IF(AV39>=71,"ब-1", IF(AV39>=61,"ब-2", IF(AV39>=51,"क-1", IF(AV39>=41,"क-2", IF(AV39>=33,"ड", IF(AV39>=21,"ई-1", IF(AV39<=20, "ई-2" ))))))))) -> ई-2 | AY39: 0 | AZ39: =IF(AY39>=91,"अ-1", IF(AY39>=81,"अ-2", IF(AY39>=71,"ब-1", IF(AY39>=61,"ब-2", IF(AY39>=51,"क-1", IF(AY39>=41,"क-2", IF(AY39>=33,"ड", IF(AY39>=21,"ई-1", IF(AY39<=20, "ई-2" ))))))))) -> ई-2 | BB39: 0 | BC39: =IF(BB39>=91,"अ-1", IF(BB39>=81,"अ-2", IF(BB39>=71,"ब-1", IF(BB39>=61,"ब-2", IF(BB39>=51,"क-1", IF(BB39>=41,"क-2", IF(BB39>=33,"ड", IF(BB39>=21,"ई-1", IF(BB39<=20, "ई-2" ))))))))) -> ई-2 | BE39: =SUM(H39,N39,T39,Z39,AF39,AL39,AR39,AV39,AY39,BB39) -> 0 | BF39: =SUM(BE39*100)/BE12 -> 0 | BG39: =IF(BF39>=91,"अ-1", IF(BF39>=81,"अ-2", IF(BF39>=71,"ब-1", IF(BF39>=61,"ब-2", IF(BF39>=51,"क-1", IF(BF39>=41,"क-2", IF(BF39>=33,"ड", IF(BF39>=21,"ई-1", IF(BF39>=0, "ई-2" ))))))))) -> ई-2
B40: =Info_1!M32 -> 0 | C40: =Info_1!J32 -> 0 | D40: =Info_1!K32 -> 0 | E40: =Info_1!L32 -> 0 | F40: 0 | G40: 0 | H40: =SUM(F40:G40) -> 0 | J40: =IF(H40>=91,"अ-1", IF(H40>=81,"अ-2", IF(H40>=71,"ब-1", IF(H40>=61,"ब-2", IF(H40>=51,"क-1", IF(H40>=41,"क-2", IF(H40>=33,"ड", IF(H40>=21,"ई-1", IF(H40<=20, "ई-2" ))))))))) -> ई-2 | L40: 0 | M40: 0 | N40: =SUM(L40:M40) -> 0 | P40: =IF(N40>=91,"अ-1", IF(N40>=81,"अ-2", IF(N40>=71,"ब-1", IF(N40>=61,"ब-2", IF(N40>=51,"क-1", IF(N40>=41,"क-2", IF(N40>=33,"ड", IF(N40>=21,"ई-1", IF(N40<=20, "ई-2" ))))))))) -> ई-2 | R40: 0 | S40: 0 | T40: =SUM(R40:S40) -> 0 | V40: =IF(T40>=91,"अ-1", IF(T40>=81,"अ-2", IF(T40>=71,"ब-1", IF(T40>=61,"ब-2", IF(T40>=51,"क-1", IF(T40>=41,"क-2", IF(T40>=33,"ड", IF(T40>=21,"ई-1", IF(T40<=20, "ई-2" ))))))))) -> ई-2 | X40: 0 | Y40: 0 | Z40: =SUM(X40:Y40) -> 0 | AB40: =IF(Z40>=91,"अ-1", IF(Z40>=81,"अ-2", IF(Z40>=71,"ब-1", IF(Z40>=61,"ब-2", IF(Z40>=51,"क-1", IF(Z40>=41,"क-2", IF(Z40>=33,"ड", IF(Z40>=21,"ई-1", IF(Z40<=20, "ई-2" ))))))))) -> ई-2 | AD40: 0 | AE40: 0 | AF40: =SUM(AD40:AE40) -> 0 | AH40: =IF(AF40>=91,"अ-1", IF(AF40>=81,"अ-2", IF(AF40>=71,"ब-1", IF(AF40>=61,"ब-2", IF(AF40>=51,"क-1", IF(AF40>=41,"क-2", IF(AF40>=33,"ड", IF(AF40>=21,"ई-1", IF(AF40<=20, "ई-2" ))))))))) -> ई-2 | AJ40: 0 | AK40: 0 | AL40: =SUM(AJ40:AK40) -> 0 | AN40: =IF(AL40>=91,"अ-1", IF(AL40>=81,"अ-2", IF(AL40>=71,"ब-1", IF(AL40>=61,"ब-2", IF(AL40>=51,"क-1", IF(AL40>=41,"क-2", IF(AL40>=33,"ड", IF(AL40>=21,"ई-1", IF(AL40<=20, "ई-2" ))))))))) -> ई-2 | AP40: 0 | AQ40: 0 | AR40: =SUM(AP40:AQ40) -> 0 | AT40: =IF(AR40>=91,"अ-1", IF(AR40>=81,"अ-2", IF(AR40>=71,"ब-1", IF(AR40>=61,"ब-2", IF(AR40>=51,"क-1", IF(AR40>=41,"क-2", IF(AR40>=33,"ड", IF(AR40>=21,"ई-1", IF(AR40<=20, "ई-2" ))))))))) -> ई-2 | AV40: 0 | AW40: =IF(AV40>=91,"अ-1", IF(AV40>=81,"अ-2", IF(AV40>=71,"ब-1", IF(AV40>=61,"ब-2", IF(AV40>=51,"क-1", IF(AV40>=41,"क-2", IF(AV40>=33,"ड", IF(AV40>=21,"ई-1", IF(AV40<=20, "ई-2" ))))))))) -> ई-2 | AY40: 0 | AZ40: =IF(AY40>=91,"अ-1", IF(AY40>=81,"अ-2", IF(AY40>=71,"ब-1", IF(AY40>=61,"ब-2", IF(AY40>=51,"क-1", IF(AY40>=41,"क-2", IF(AY40>=33,"ड", IF(AY40>=21,"ई-1", IF(AY40<=20, "ई-2" ))))))))) -> ई-2 | BB40: 0 | BC40: =IF(BB40>=91,"अ-1", IF(BB40>=81,"अ-2", IF(BB40>=71,"ब-1", IF(BB40>=61,"ब-2", IF(BB40>=51,"क-1", IF(BB40>=41,"क-2", IF(BB40>=33,"ड", IF(BB40>=21,"ई-1", IF(BB40<=20, "ई-2" ))))))))) -> ई-2 | BE40: =SUM(H40,N40,T40,Z40,AF40,AL40,AR40,AV40,AY40,BB40) -> 0 | BF40: =SUM(BE40*100)/BE12 -> 0 | BG40: =IF(BF40>=91,"अ-1", IF(BF40>=81,"अ-2", IF(BF40>=71,"ब-1", IF(BF40>=61,"ब-2", IF(BF40>=51,"क-1", IF(BF40>=41,"क-2", IF(BF40>=33,"ड", IF(BF40>=21,"ई-1", IF(BF40>=0, "ई-2" ))))))))) -> ई-2
B41: =Info_1!M33 -> 0 | C41: =Info_1!J33 -> 0 | D41: =Info_1!K33 -> 0 | E41: =Info_1!L33 -> 0 | F41: 0 | G41: 0 | H41: =SUM(F41:G41) -> 0 | J41: =IF(H41>=91,"अ-1", IF(H41>=81,"अ-2", IF(H41>=71,"ब-1", IF(H41>=61,"ब-2", IF(H41>=51,"क-1", IF(H41>=41,"क-2", IF(H41>=33,"ड", IF(H41>=21,"ई-1", IF(H41<=20, "ई-2" ))))))))) -> ई-2 | L41: 0 | M41: 0 | N41: =SUM(L41:M41) -> 0 | P41: =IF(N41>=91,"अ-1", IF(N41>=81,"अ-2", IF(N41>=71,"ब-1", IF(N41>=61,"ब-2", IF(N41>=51,"क-1", IF(N41>=41,"क-2", IF(N41>=33,"ड", IF(N41>=21,"ई-1", IF(N41<=20, "ई-2" ))))))))) -> ई-2 | R41: 0 | S41: 0 | T41: =SUM(R41:S41) -> 0 | V41: =IF(T41>=91,"अ-1", IF(T41>=81,"अ-2", IF(T41>=71,"ब-1", IF(T41>=61,"ब-2", IF(T41>=51,"क-1", IF(T41>=41,"क-2", IF(T41>=33,"ड", IF(T41>=21,"ई-1", IF(T41<=20, "ई-2" ))))))))) -> ई-2 | X41: 0 | Y41: 0 | Z41: =SUM(X41:Y41) -> 0 | AB41: =IF(Z41>=91,"अ-1", IF(Z41>=81,"अ-2", IF(Z41>=71,"ब-1", IF(Z41>=61,"ब-2", IF(Z41>=51,"क-1", IF(Z41>=41,"क-2", IF(Z41>=33,"ड", IF(Z41>=21,"ई-1", IF(Z41<=20, "ई-2" ))))))))) -> ई-2 | AD41: 0 | AE41: 0 | AF41: =SUM(AD41:AE41) -> 0 | AH41: =IF(AF41>=91,"अ-1", IF(AF41>=81,"अ-2", IF(AF41>=71,"ब-1", IF(AF41>=61,"ब-2", IF(AF41>=51,"क-1", IF(AF41>=41,"क-2", IF(AF41>=33,"ड", IF(AF41>=21,"ई-1", IF(AF41<=20, "ई-2" ))))))))) -> ई-2 | AJ41: 0 | AK41: 0 | AL41: =SUM(AJ41:AK41) -> 0 | AN41: =IF(AL41>=91,"अ-1", IF(AL41>=81,"अ-2", IF(AL41>=71,"ब-1", IF(AL41>=61,"ब-2", IF(AL41>=51,"क-1", IF(AL41>=41,"क-2", IF(AL41>=33,"ड", IF(AL41>=21,"ई-1", IF(AL41<=20, "ई-2" ))))))))) -> ई-2 | AP41: 0 | AQ41: 0 | AR41: =SUM(AP41:AQ41) -> 0 | AT41: =IF(AR41>=91,"अ-1", IF(AR41>=81,"अ-2", IF(AR41>=71,"ब-1", IF(AR41>=61,"ब-2", IF(AR41>=51,"क-1", IF(AR41>=41,"क-2", IF(AR41>=33,"ड", IF(AR41>=21,"ई-1", IF(AR41<=20, "ई-2" ))))))))) -> ई-2 | AV41: 0 | AW41: =IF(AV41>=91,"अ-1", IF(AV41>=81,"अ-2", IF(AV41>=71,"ब-1", IF(AV41>=61,"ब-2", IF(AV41>=51,"क-1", IF(AV41>=41,"क-2", IF(AV41>=33,"ड", IF(AV41>=21,"ई-1", IF(AV41<=20, "ई-2" ))))))))) -> ई-2 | AY41: 0 | AZ41: =IF(AY41>=91,"अ-1", IF(AY41>=81,"अ-2", IF(AY41>=71,"ब-1", IF(AY41>=61,"ब-2", IF(AY41>=51,"क-1", IF(AY41>=41,"क-2", IF(AY41>=33,"ड", IF(AY41>=21,"ई-1", IF(AY41<=20, "ई-2" ))))))))) -> ई-2 | BB41: 0 | BC41: =IF(BB41>=91,"अ-1", IF(BB41>=81,"अ-2", IF(BB41>=71,"ब-1", IF(BB41>=61,"ब-2", IF(BB41>=51,"क-1", IF(BB41>=41,"क-2", IF(BB41>=33,"ड", IF(BB41>=21,"ई-1", IF(BB41<=20, "ई-2" ))))))))) -> ई-2 | BE41: =SUM(H41,N41,T41,Z41,AF41,AL41,AR41,AV41,AY41,BB41) -> 0 | BF41: =SUM(BE41*100)/BE12 -> 0 | BG41: =IF(BF41>=91,"अ-1", IF(BF41>=81,"अ-2", IF(BF41>=71,"ब-1", IF(BF41>=61,"ब-2", IF(BF41>=51,"क-1", IF(BF41>=41,"क-2", IF(BF41>=33,"ड", IF(BF41>=21,"ई-1", IF(BF41>=0, "ई-2" ))))))))) -> ई-2
B42: =Info_1!M34 -> 0 | C42: =Info_1!J34 -> 0 | D42: =Info_1!K34 -> 0 | E42: =Info_1!L34 -> 0 | F42: 0 | G42: 0 | H42: =SUM(F42:G42) -> 0 | J42: =IF(H42>=91,"अ-1", IF(H42>=81,"अ-2", IF(H42>=71,"ब-1", IF(H42>=61,"ब-2", IF(H42>=51,"क-1", IF(H42>=41,"क-2", IF(H42>=33,"ड", IF(H42>=21,"ई-1", IF(H42<=20, "ई-2" ))))))))) -> ई-2 | L42: 0 | M42: 0 | N42: =SUM(L42:M42) -> 0 | P42: =IF(N42>=91,"अ-1", IF(N42>=81,"अ-2", IF(N42>=71,"ब-1", IF(N42>=61,"ब-2", IF(N42>=51,"क-1", IF(N42>=41,"क-2", IF(N42>=33,"ड", IF(N42>=21,"ई-1", IF(N42<=20, "ई-2" ))))))))) -> ई-2 | R42: 0 | S42: 0 | T42: =SUM(R42:S42) -> 0 | V42: =IF(T42>=91,"अ-1", IF(T42>=81,"अ-2", IF(T42>=71,"ब-1", IF(T42>=61,"ब-2", IF(T42>=51,"क-1", IF(T42>=41,"क-2", IF(T42>=33,"ड", IF(T42>=21,"ई-1", IF(T42<=20, "ई-2" ))))))))) -> ई-2 | X42: 0 | Y42: 0 | Z42: =SUM(X42:Y42) -> 0 | AB42: =IF(Z42>=91,"अ-1", IF(Z42>=81,"अ-2", IF(Z42>=71,"ब-1", IF(Z42>=61,"ब-2", IF(Z42>=51,"क-1", IF(Z42>=41,"क-2", IF(Z42>=33,"ड", IF(Z42>=21,"ई-1", IF(Z42<=20, "ई-2" ))))))))) -> ई-2 | AD42: 0 | AE42: 0 | AF42: =SUM(AD42:AE42) -> 0 | AH42: =IF(AF42>=91,"अ-1", IF(AF42>=81,"अ-2", IF(AF42>=71,"ब-1", IF(AF42>=61,"ब-2", IF(AF42>=51,"क-1", IF(AF42>=41,"क-2", IF(AF42>=33,"ड", IF(AF42>=21,"ई-1", IF(AF42<=20, "ई-2" ))))))))) -> ई-2 | AJ42: 0 | AK42: 0 | AL42: =SUM(AJ42:AK42) -> 0 | AN42: =IF(AL42>=91,"अ-1", IF(AL42>=81,"अ-2", IF(AL42>=71,"ब-1", IF(AL42>=61,"ब-2", IF(AL42>=51,"क-1", IF(AL42>=41,"क-2", IF(AL42>=33,"ड", IF(AL42>=21,"ई-1", IF(AL42<=20, "ई-2" ))))))))) -> ई-2 | AP42: 0 | AQ42: 0 | AR42: =SUM(AP42:AQ42) -> 0 | AT42: =IF(AR42>=91,"अ-1", IF(AR42>=81,"अ-2", IF(AR42>=71,"ब-1", IF(AR42>=61,"ब-2", IF(AR42>=51,"क-1", IF(AR42>=41,"क-2", IF(AR42>=33,"ड", IF(AR42>=21,"ई-1", IF(AR42<=20, "ई-2" ))))))))) -> ई-2 | AV42: 0 | AW42: =IF(AV42>=91,"अ-1", IF(AV42>=81,"अ-2", IF(AV42>=71,"ब-1", IF(AV42>=61,"ब-2", IF(AV42>=51,"क-1", IF(AV42>=41,"क-2", IF(AV42>=33,"ड", IF(AV42>=21,"ई-1", IF(AV42<=20, "ई-2" ))))))))) -> ई-2 | AY42: 0 | AZ42: =IF(AY42>=91,"अ-1", IF(AY42>=81,"अ-2", IF(AY42>=71,"ब-1", IF(AY42>=61,"ब-2", IF(AY42>=51,"क-1", IF(AY42>=41,"क-2", IF(AY42>=33,"ड", IF(AY42>=21,"ई-1", IF(AY42<=20, "ई-2" ))))))))) -> ई-2 | BB42: 0 | BC42: =IF(BB42>=91,"अ-1", IF(BB42>=81,"अ-2", IF(BB42>=71,"ब-1", IF(BB42>=61,"ब-2", IF(BB42>=51,"क-1", IF(BB42>=41,"क-2", IF(BB42>=33,"ड", IF(BB42>=21,"ई-1", IF(BB42<=20, "ई-2" ))))))))) -> ई-2 | BE42: =SUM(H42,N42,T42,Z42,AF42,AL42,AR42,AV42,AY42,BB42) -> 0 | BF42: =SUM(BE42*100)/BE12 -> 0 | BG42: =IF(BF42>=91,"अ-1", IF(BF42>=81,"अ-2", IF(BF42>=71,"ब-1", IF(BF42>=61,"ब-2", IF(BF42>=51,"क-1", IF(BF42>=41,"क-2", IF(BF42>=33,"ड", IF(BF42>=21,"ई-1", IF(BF42>=0, "ई-2" ))))))))) -> ई-2
B43: =Info_1!M35 -> 0 | C43: =Info_1!J35 -> 0 | D43: =Info_1!K35 -> 0 | E43: =Info_1!L35 -> 0 | F43: 0 | G43: 0 | H43: =SUM(F43:G43) -> 0 | J43: =IF(H43>=91,"अ-1", IF(H43>=81,"अ-2", IF(H43>=71,"ब-1", IF(H43>=61,"ब-2", IF(H43>=51,"क-1", IF(H43>=41,"क-2", IF(H43>=33,"ड", IF(H43>=21,"ई-1", IF(H43<=20, "ई-2" ))))))))) -> ई-2 | L43: 0 | M43: 0 | N43: =SUM(L43:M43) -> 0 | P43: =IF(N43>=91,"अ-1", IF(N43>=81,"अ-2", IF(N43>=71,"ब-1", IF(N43>=61,"ब-2", IF(N43>=51,"क-1", IF(N43>=41,"क-2", IF(N43>=33,"ड", IF(N43>=21,"ई-1", IF(N43<=20, "ई-2" ))))))))) -> ई-2 | R43: 0 | S43: 0 | T43: =SUM(R43:S43) -> 0 | V43: =IF(T43>=91,"अ-1", IF(T43>=81,"अ-2", IF(T43>=71,"ब-1", IF(T43>=61,"ब-2", IF(T43>=51,"क-1", IF(T43>=41,"क-2", IF(T43>=33,"ड", IF(T43>=21,"ई-1", IF(T43<=20, "ई-2" ))))))))) -> ई-2 | X43: 0 | Y43: 0 | Z43: =SUM(X43:Y43) -> 0 | AB43: =IF(Z43>=91,"अ-1", IF(Z43>=81,"अ-2", IF(Z43>=71,"ब-1", IF(Z43>=61,"ब-2", IF(Z43>=51,"क-1", IF(Z43>=41,"क-2", IF(Z43>=33,"ड", IF(Z43>=21,"ई-1", IF(Z43<=20, "ई-2" ))))))))) -> ई-2 | AD43: 0 | AE43: 0 | AF43: =SUM(AD43:AE43) -> 0 | AH43: =IF(AF43>=91,"अ-1", IF(AF43>=81,"अ-2", IF(AF43>=71,"ब-1", IF(AF43>=61,"ब-2", IF(AF43>=51,"क-1", IF(AF43>=41,"क-2", IF(AF43>=33,"ड", IF(AF43>=21,"ई-1", IF(AF43<=20, "ई-2" ))))))))) -> ई-2 | AJ43: 0 | AK43: 0 | AL43: =SUM(AJ43:AK43) -> 0 | AN43: =IF(AL43>=91,"अ-1", IF(AL43>=81,"अ-2", IF(AL43>=71,"ब-1", IF(AL43>=61,"ब-2", IF(AL43>=51,"क-1", IF(AL43>=41,"क-2", IF(AL43>=33,"ड", IF(AL43>=21,"ई-1", IF(AL43<=20, "ई-2" ))))))))) -> ई-2 | AP43: 0 | AQ43: 0 | AR43: =SUM(AP43:AQ43) -> 0 | AT43: =IF(AR43>=91,"अ-1", IF(AR43>=81,"अ-2", IF(AR43>=71,"ब-1", IF(AR43>=61,"ब-2", IF(AR43>=51,"क-1", IF(AR43>=41,"क-2", IF(AR43>=33,"ड", IF(AR43>=21,"ई-1", IF(AR43<=20, "ई-2" ))))))))) -> ई-2 | AV43: 0 | AW43: =IF(AV43>=91,"अ-1", IF(AV43>=81,"अ-2", IF(AV43>=71,"ब-1", IF(AV43>=61,"ब-2", IF(AV43>=51,"क-1", IF(AV43>=41,"क-2", IF(AV43>=33,"ड", IF(AV43>=21,"ई-1", IF(AV43<=20, "ई-2" ))))))))) -> ई-2 | AY43: 0 | AZ43: =IF(AY43>=91,"अ-1", IF(AY43>=81,"अ-2", IF(AY43>=71,"ब-1", IF(AY43>=61,"ब-2", IF(AY43>=51,"क-1", IF(AY43>=41,"क-2", IF(AY43>=33,"ड", IF(AY43>=21,"ई-1", IF(AY43<=20, "ई-2" ))))))))) -> ई-2 | BB43: 0 | BC43: =IF(BB43>=91,"अ-1", IF(BB43>=81,"अ-2", IF(BB43>=71,"ब-1", IF(BB43>=61,"ब-2", IF(BB43>=51,"क-1", IF(BB43>=41,"क-2", IF(BB43>=33,"ड", IF(BB43>=21,"ई-1", IF(BB43<=20, "ई-2" ))))))))) -> ई-2 | BE43: =SUM(H43,N43,T43,Z43,AF43,AL43,AR43,AV43,AY43,BB43) -> 0 | BF43: =SUM(BE43*100)/BE12 -> 0 | BG43: =IF(BF43>=91,"अ-1", IF(BF43>=81,"अ-2", IF(BF43>=71,"ब-1", IF(BF43>=61,"ब-2", IF(BF43>=51,"क-1", IF(BF43>=41,"क-2", IF(BF43>=33,"ड", IF(BF43>=21,"ई-1", IF(BF43>=0, "ई-2" ))))))))) -> ई-2
B44: =Info_1!M36 -> 0 | C44: =Info_1!J36 -> 0 | D44: =Info_1!K36 -> 0 | E44: =Info_1!L36 -> 0 | F44: 0 | G44: 0 | H44: =SUM(F44:G44) -> 0 | J44: =IF(H44>=91,"अ-1", IF(H44>=81,"अ-2", IF(H44>=71,"ब-1", IF(H44>=61,"ब-2", IF(H44>=51,"क-1", IF(H44>=41,"क-2", IF(H44>=33,"ड", IF(H44>=21,"ई-1", IF(H44<=20, "ई-2" ))))))))) -> ई-2 | L44: 0 | M44: 0 | N44: =SUM(L44:M44) -> 0 | P44: =IF(N44>=91,"अ-1", IF(N44>=81,"अ-2", IF(N44>=71,"ब-1", IF(N44>=61,"ब-2", IF(N44>=51,"क-1", IF(N44>=41,"क-2", IF(N44>=33,"ड", IF(N44>=21,"ई-1", IF(N44<=20, "ई-2" ))))))))) -> ई-2 | R44: 0 | S44: 0 | T44: =SUM(R44:S44) -> 0 | V44: =IF(T44>=91,"अ-1", IF(T44>=81,"अ-2", IF(T44>=71,"ब-1", IF(T44>=61,"ब-2", IF(T44>=51,"क-1", IF(T44>=41,"क-2", IF(T44>=33,"ड", IF(T44>=21,"ई-1", IF(T44<=20, "ई-2" ))))))))) -> ई-2 | X44: 0 | Y44: 0 | Z44: =SUM(X44:Y44) -> 0 | AB44: =IF(Z44>=91,"अ-1", IF(Z44>=81,"अ-2", IF(Z44>=71,"ब-1", IF(Z44>=61,"ब-2", IF(Z44>=51,"क-1", IF(Z44>=41,"क-2", IF(Z44>=33,"ड", IF(Z44>=21,"ई-1", IF(Z44<=20, "ई-2" ))))))))) -> ई-2 | AD44: 0 | AE44: 0 | AF44: =SUM(AD44:AE44) -> 0 | AH44: =IF(AF44>=91,"अ-1", IF(AF44>=81,"अ-2", IF(AF44>=71,"ब-1", IF(AF44>=61,"ब-2", IF(AF44>=51,"क-1", IF(AF44>=41,"क-2", IF(AF44>=33,"ड", IF(AF44>=21,"ई-1", IF(AF44<=20, "ई-2" ))))))))) -> ई-2 | AJ44: 0 | AK44: 0 | AL44: =SUM(AJ44:AK44) -> 0 | AN44: =IF(AL44>=91,"अ-1", IF(AL44>=81,"अ-2", IF(AL44>=71,"ब-1", IF(AL44>=61,"ब-2", IF(AL44>=51,"क-1", IF(AL44>=41,"क-2", IF(AL44>=33,"ड", IF(AL44>=21,"ई-1", IF(AL44<=20, "ई-2" ))))))))) -> ई-2 | AP44: 0 | AQ44: 0 | AR44: =SUM(AP44:AQ44) -> 0 | AT44: =IF(AR44>=91,"अ-1", IF(AR44>=81,"अ-2", IF(AR44>=71,"ब-1", IF(AR44>=61,"ब-2", IF(AR44>=51,"क-1", IF(AR44>=41,"क-2", IF(AR44>=33,"ड", IF(AR44>=21,"ई-1", IF(AR44<=20, "ई-2" ))))))))) -> ई-2 | AV44: 0 | AW44: =IF(AV44>=91,"अ-1", IF(AV44>=81,"अ-2", IF(AV44>=71,"ब-1", IF(AV44>=61,"ब-2", IF(AV44>=51,"क-1", IF(AV44>=41,"क-2", IF(AV44>=33,"ड", IF(AV44>=21,"ई-1", IF(AV44<=20, "ई-2" ))))))))) -> ई-2 | AY44: 0 | AZ44: =IF(AY44>=91,"अ-1", IF(AY44>=81,"अ-2", IF(AY44>=71,"ब-1", IF(AY44>=61,"ब-2", IF(AY44>=51,"क-1", IF(AY44>=41,"क-2", IF(AY44>=33,"ड", IF(AY44>=21,"ई-1", IF(AY44<=20, "ई-2" ))))))))) -> ई-2 | BB44: 0 | BC44: =IF(BB44>=91,"अ-1", IF(BB44>=81,"अ-2", IF(BB44>=71,"ब-1", IF(BB44>=61,"ब-2", IF(BB44>=51,"क-1", IF(BB44>=41,"क-2", IF(BB44>=33,"ड", IF(BB44>=21,"ई-1", IF(BB44<=20, "ई-2" ))))))))) -> ई-2 | BE44: =SUM(H44,N44,T44,Z44,AF44,AL44,AR44,AV44,AY44,BB44) -> 0 | BF44: =SUM(BE44*100)/BE12 -> 0 | BG44: =IF(BF44>=91,"अ-1", IF(BF44>=81,"अ-2", IF(BF44>=71,"ब-1", IF(BF44>=61,"ब-2", IF(BF44>=51,"क-1", IF(BF44>=41,"क-2", IF(BF44>=33,"ड", IF(BF44>=21,"ई-1", IF(BF44>=0, "ई-2" ))))))))) -> ई-2
B45: =Info_1!M37 -> 0 | C45: =Info_1!J37 -> 0 | D45: =Info_1!K37 -> 0 | E45: =Info_1!L37 -> 0 | F45: 0 | G45: 0 | H45: =SUM(F45:G45) -> 0 | J45: =IF(H45>=91,"अ-1", IF(H45>=81,"अ-2", IF(H45>=71,"ब-1", IF(H45>=61,"ब-2", IF(H45>=51,"क-1", IF(H45>=41,"क-2", IF(H45>=33,"ड", IF(H45>=21,"ई-1", IF(H45<=20, "ई-2" ))))))))) -> ई-2 | L45: 0 | M45: 0 | N45: =SUM(L45:M45) -> 0 | P45: =IF(N45>=91,"अ-1", IF(N45>=81,"अ-2", IF(N45>=71,"ब-1", IF(N45>=61,"ब-2", IF(N45>=51,"क-1", IF(N45>=41,"क-2", IF(N45>=33,"ड", IF(N45>=21,"ई-1", IF(N45<=20, "ई-2" ))))))))) -> ई-2 | R45: 0 | S45: 0 | T45: =SUM(R45:S45) -> 0 | V45: =IF(T45>=91,"अ-1", IF(T45>=81,"अ-2", IF(T45>=71,"ब-1", IF(T45>=61,"ब-2", IF(T45>=51,"क-1", IF(T45>=41,"क-2", IF(T45>=33,"ड", IF(T45>=21,"ई-1", IF(T45<=20, "ई-2" ))))))))) -> ई-2 | X45: 0 | Y45: 0 | Z45: =SUM(X45:Y45) -> 0 | AB45: =IF(Z45>=91,"अ-1", IF(Z45>=81,"अ-2", IF(Z45>=71,"ब-1", IF(Z45>=61,"ब-2", IF(Z45>=51,"क-1", IF(Z45>=41,"क-2", IF(Z45>=33,"ड", IF(Z45>=21,"ई-1", IF(Z45<=20, "ई-2" ))))))))) -> ई-2 | AD45: 0 | AE45: 0 | AF45: =SUM(AD45:AE45) -> 0 | AH45: =IF(AF45>=91,"अ-1", IF(AF45>=81,"अ-2", IF(AF45>=71,"ब-1", IF(AF45>=61,"ब-2", IF(AF45>=51,"क-1", IF(AF45>=41,"क-2", IF(AF45>=33,"ड", IF(AF45>=21,"ई-1", IF(AF45<=20, "ई-2" ))))))))) -> ई-2 | AJ45: 0 | AK45: 0 | AL45: =SUM(AJ45:AK45) -> 0 | AN45: =IF(AL45>=91,"अ-1", IF(AL45>=81,"अ-2", IF(AL45>=71,"ब-1", IF(AL45>=61,"ब-2", IF(AL45>=51,"क-1", IF(AL45>=41,"क-2", IF(AL45>=33,"ड", IF(AL45>=21,"ई-1", IF(AL45<=20, "ई-2" ))))))))) -> ई-2 | AP45: 0 | AQ45: 0 | AR45: =SUM(AP45:AQ45) -> 0 | AT45: =IF(AR45>=91,"अ-1", IF(AR45>=81,"अ-2", IF(AR45>=71,"ब-1", IF(AR45>=61,"ब-2", IF(AR45>=51,"क-1", IF(AR45>=41,"क-2", IF(AR45>=33,"ड", IF(AR45>=21,"ई-1", IF(AR45<=20, "ई-2" ))))))))) -> ई-2 | AV45: 0 | AW45: =IF(AV45>=91,"अ-1", IF(AV45>=81,"अ-2", IF(AV45>=71,"ब-1", IF(AV45>=61,"ब-2", IF(AV45>=51,"क-1", IF(AV45>=41,"क-2", IF(AV45>=33,"ड", IF(AV45>=21,"ई-1", IF(AV45<=20, "ई-2" ))))))))) -> ई-2 | AY45: 0 | AZ45: =IF(AY45>=91,"अ-1", IF(AY45>=81,"अ-2", IF(AY45>=71,"ब-1", IF(AY45>=61,"ब-2", IF(AY45>=51,"क-1", IF(AY45>=41,"क-2", IF(AY45>=33,"ड", IF(AY45>=21,"ई-1", IF(AY45<=20, "ई-2" ))))))))) -> ई-2 | BB45: 0 | BC45: =IF(BB45>=91,"अ-1", IF(BB45>=81,"अ-2", IF(BB45>=71,"ब-1", IF(BB45>=61,"ब-2", IF(BB45>=51,"क-1", IF(BB45>=41,"क-2", IF(BB45>=33,"ड", IF(BB45>=21,"ई-1", IF(BB45<=20, "ई-2" ))))))))) -> ई-2 | BE45: =SUM(H45,N45,T45,Z45,AF45,AL45,AR45,AV45,AY45,BB45) -> 0 | BF45: =SUM(BE45*100)/BE12 -> 0 | BG45: =IF(BF45>=91,"अ-1", IF(BF45>=81,"अ-2", IF(BF45>=71,"ब-1", IF(BF45>=61,"ब-2", IF(BF45>=51,"क-1", IF(BF45>=41,"क-2", IF(BF45>=33,"ड", IF(BF45>=21,"ई-1", IF(BF45>=0, "ई-2" ))))))))) -> ई-2
B46: =Info_1!M38 -> 0 | C46: =Info_1!J38 -> 0 | D46: =Info_1!K38 -> 0 | E46: =Info_1!L38 -> 0 | F46: 0 | G46: 0 | H46: =SUM(F46:G46) -> 0 | J46: =IF(H46>=91,"अ-1", IF(H46>=81,"अ-2", IF(H46>=71,"ब-1", IF(H46>=61,"ब-2", IF(H46>=51,"क-1", IF(H46>=41,"क-2", IF(H46>=33,"ड", IF(H46>=21,"ई-1", IF(H46<=20, "ई-2" ))))))))) -> ई-2 | L46: 0 | M46: 0 | N46: =SUM(L46:M46) -> 0 | P46: =IF(N46>=91,"अ-1", IF(N46>=81,"अ-2", IF(N46>=71,"ब-1", IF(N46>=61,"ब-2", IF(N46>=51,"क-1", IF(N46>=41,"क-2", IF(N46>=33,"ड", IF(N46>=21,"ई-1", IF(N46<=20, "ई-2" ))))))))) -> ई-2 | R46: 0 | S46: 0 | T46: =SUM(R46:S46) -> 0 | V46: =IF(T46>=91,"अ-1", IF(T46>=81,"अ-2", IF(T46>=71,"ब-1", IF(T46>=61,"ब-2", IF(T46>=51,"क-1", IF(T46>=41,"क-2", IF(T46>=33,"ड", IF(T46>=21,"ई-1", IF(T46<=20, "ई-2" ))))))))) -> ई-2 | X46: 0 | Y46: 0 | Z46: =SUM(X46:Y46) -> 0 | AB46: =IF(Z46>=91,"अ-1", IF(Z46>=81,"अ-2", IF(Z46>=71,"ब-1", IF(Z46>=61,"ब-2", IF(Z46>=51,"क-1", IF(Z46>=41,"क-2", IF(Z46>=33,"ड", IF(Z46>=21,"ई-1", IF(Z46<=20, "ई-2" ))))))))) -> ई-2 | AD46: 0 | AE46: 0 | AF46: =SUM(AD46:AE46) -> 0 | AH46: =IF(AF46>=91,"अ-1", IF(AF46>=81,"अ-2", IF(AF46>=71,"ब-1", IF(AF46>=61,"ब-2", IF(AF46>=51,"क-1", IF(AF46>=41,"क-2", IF(AF46>=33,"ड", IF(AF46>=21,"ई-1", IF(AF46<=20, "ई-2" ))))))))) -> ई-2 | AJ46: 0 | AK46: 0 | AL46: =SUM(AJ46:AK46) -> 0 | AN46: =IF(AL46>=91,"अ-1", IF(AL46>=81,"अ-2", IF(AL46>=71,"ब-1", IF(AL46>=61,"ब-2", IF(AL46>=51,"क-1", IF(AL46>=41,"क-2", IF(AL46>=33,"ड", IF(AL46>=21,"ई-1", IF(AL46<=20, "ई-2" ))))))))) -> ई-2 | AP46: 0 | AQ46: 0 | AR46: =SUM(AP46:AQ46) -> 0 | AT46: =IF(AR46>=91,"अ-1", IF(AR46>=81,"अ-2", IF(AR46>=71,"ब-1", IF(AR46>=61,"ब-2", IF(AR46>=51,"क-1", IF(AR46>=41,"क-2", IF(AR46>=33,"ड", IF(AR46>=21,"ई-1", IF(AR46<=20, "ई-2" ))))))))) -> ई-2 | AV46: 0 | AW46: =IF(AV46>=91,"अ-1", IF(AV46>=81,"अ-2", IF(AV46>=71,"ब-1", IF(AV46>=61,"ब-2", IF(AV46>=51,"क-1", IF(AV46>=41,"क-2", IF(AV46>=33,"ड", IF(AV46>=21,"ई-1", IF(AV46<=20, "ई-2" ))))))))) -> ई-2 | AY46: 0 | AZ46: =IF(AY46>=91,"अ-1", IF(AY46>=81,"अ-2", IF(AY46>=71,"ब-1", IF(AY46>=61,"ब-2", IF(AY46>=51,"क-1", IF(AY46>=41,"क-2", IF(AY46>=33,"ड", IF(AY46>=21,"ई-1", IF(AY46<=20, "ई-2" ))))))))) -> ई-2 | BB46: 0 | BC46: =IF(BB46>=91,"अ-1", IF(BB46>=81,"अ-2", IF(BB46>=71,"ब-1", IF(BB46>=61,"ब-2", IF(BB46>=51,"क-1", IF(BB46>=41,"क-2", IF(BB46>=33,"ड", IF(BB46>=21,"ई-1", IF(BB46<=20, "ई-2" ))))))))) -> ई-2 | BE46: =SUM(H46,N46,T46,Z46,AF46,AL46,AR46,AV46,AY46,BB46) -> 0 | BF46: =SUM(BE46*100)/BE12 -> 0 | BG46: =IF(BF46>=91,"अ-1", IF(BF46>=81,"अ-2", IF(BF46>=71,"ब-1", IF(BF46>=61,"ब-2", IF(BF46>=51,"क-1", IF(BF46>=41,"क-2", IF(BF46>=33,"ड", IF(BF46>=21,"ई-1", IF(BF46>=0, "ई-2" ))))))))) -> ई-2
B47: =Info_1!M39 -> 0 | C47: =Info_1!J39 -> 0 | D47: =Info_1!K39 -> 0 | E47: =Info_1!L39 -> 0 | F47: 0 | G47: 0 | H47: =SUM(F47:G47) -> 0 | J47: =IF(H47>=91,"अ-1", IF(H47>=81,"अ-2", IF(H47>=71,"ब-1", IF(H47>=61,"ब-2", IF(H47>=51,"क-1", IF(H47>=41,"क-2", IF(H47>=33,"ड", IF(H47>=21,"ई-1", IF(H47<=20, "ई-2" ))))))))) -> ई-2 | L47: 0 | M47: 0 | N47: =SUM(L47:M47) -> 0 | P47: =IF(N47>=91,"अ-1", IF(N47>=81,"अ-2", IF(N47>=71,"ब-1", IF(N47>=61,"ब-2", IF(N47>=51,"क-1", IF(N47>=41,"क-2", IF(N47>=33,"ड", IF(N47>=21,"ई-1", IF(N47<=20, "ई-2" ))))))))) -> ई-2 | R47: 0 | S47: 0 | T47: =SUM(R47:S47) -> 0 | V47: =IF(T47>=91,"अ-1", IF(T47>=81,"अ-2", IF(T47>=71,"ब-1", IF(T47>=61,"ब-2", IF(T47>=51,"क-1", IF(T47>=41,"क-2", IF(T47>=33,"ड", IF(T47>=21,"ई-1", IF(T47<=20, "ई-2" ))))))))) -> ई-2 | X47: 0 | Y47: 0 | Z47: =SUM(X47:Y47) -> 0 | AB47: =IF(Z47>=91,"अ-1", IF(Z47>=81,"अ-2", IF(Z47>=71,"ब-1", IF(Z47>=61,"ब-2", IF(Z47>=51,"क-1", IF(Z47>=41,"क-2", IF(Z47>=33,"ड", IF(Z47>=21,"ई-1", IF(Z47<=20, "ई-2" ))))))))) -> ई-2 | AD47: 0 | AE47: 0 | AF47: =SUM(AD47:AE47) -> 0 | AH47: =IF(AF47>=91,"अ-1", IF(AF47>=81,"अ-2", IF(AF47>=71,"ब-1", IF(AF47>=61,"ब-2", IF(AF47>=51,"क-1", IF(AF47>=41,"क-2", IF(AF47>=33,"ड", IF(AF47>=21,"ई-1", IF(AF47<=20, "ई-2" ))))))))) -> ई-2 | AJ47: 0 | AK47: 0 | AL47: =SUM(AJ47:AK47) -> 0 | AN47: =IF(AL47>=91,"अ-1", IF(AL47>=81,"अ-2", IF(AL47>=71,"ब-1", IF(AL47>=61,"ब-2", IF(AL47>=51,"क-1", IF(AL47>=41,"क-2", IF(AL47>=33,"ड", IF(AL47>=21,"ई-1", IF(AL47<=20, "ई-2" ))))))))) -> ई-2 | AP47: 0 | AQ47: 0 | AR47: =SUM(AP47:AQ47) -> 0 | AT47: =IF(AR47>=91,"अ-1", IF(AR47>=81,"अ-2", IF(AR47>=71,"ब-1", IF(AR47>=61,"ब-2", IF(AR47>=51,"क-1", IF(AR47>=41,"क-2", IF(AR47>=33,"ड", IF(AR47>=21,"ई-1", IF(AR47<=20, "ई-2" ))))))))) -> ई-2 | AV47: 0 | AW47: =IF(AV47>=91,"अ-1", IF(AV47>=81,"अ-2", IF(AV47>=71,"ब-1", IF(AV47>=61,"ब-2", IF(AV47>=51,"क-1", IF(AV47>=41,"क-2", IF(AV47>=33,"ड", IF(AV47>=21,"ई-1", IF(AV47<=20, "ई-2" ))))))))) -> ई-2 | AY47: 0 | AZ47: =IF(AY47>=91,"अ-1", IF(AY47>=81,"अ-2", IF(AY47>=71,"ब-1", IF(AY47>=61,"ब-2", IF(AY47>=51,"क-1", IF(AY47>=41,"क-2", IF(AY47>=33,"ड", IF(AY47>=21,"ई-1", IF(AY47<=20, "ई-2" ))))))))) -> ई-2 | BB47: 0 | BC47: =IF(BB47>=91,"अ-1", IF(BB47>=81,"अ-2", IF(BB47>=71,"ब-1", IF(BB47>=61,"ब-2", IF(BB47>=51,"क-1", IF(BB47>=41,"क-2", IF(BB47>=33,"ड", IF(BB47>=21,"ई-1", IF(BB47<=20, "ई-2" ))))))))) -> ई-2 | BE47: =SUM(H47,N47,T47,Z47,AF47,AL47,AR47,AV47,AY47,BB47) -> 0 | BF47: =SUM(BE47*100)/BE12 -> 0 | BG47: =IF(BF47>=91,"अ-1", IF(BF47>=81,"अ-2", IF(BF47>=71,"ब-1", IF(BF47>=61,"ब-2", IF(BF47>=51,"क-1", IF(BF47>=41,"क-2", IF(BF47>=33,"ड", IF(BF47>=21,"ई-1", IF(BF47>=0, "ई-2" ))))))))) -> ई-2
B48: =Info_1!M40 -> 0 | C48: =Info_1!J40 -> 0 | D48: =Info_1!K40 -> 0 | E48: =Info_1!L40 -> 0 | F48: 0 | G48: 0 | H48: =SUM(F48:G48) -> 0 | J48: =IF(H48>=91,"अ-1", IF(H48>=81,"अ-2", IF(H48>=71,"ब-1", IF(H48>=61,"ब-2", IF(H48>=51,"क-1", IF(H48>=41,"क-2", IF(H48>=33,"ड", IF(H48>=21,"ई-1", IF(H48<=20, "ई-2" ))))))))) -> ई-2 | L48: 0 | M48: 0 | N48: =SUM(L48:M48) -> 0 | P48: =IF(N48>=91,"अ-1", IF(N48>=81,"अ-2", IF(N48>=71,"ब-1", IF(N48>=61,"ब-2", IF(N48>=51,"क-1", IF(N48>=41,"क-2", IF(N48>=33,"ड", IF(N48>=21,"ई-1", IF(N48<=20, "ई-2" ))))))))) -> ई-2 | R48: 0 | S48: 0 | T48: =SUM(R48:S48) -> 0 | V48: =IF(T48>=91,"अ-1", IF(T48>=81,"अ-2", IF(T48>=71,"ब-1", IF(T48>=61,"ब-2", IF(T48>=51,"क-1", IF(T48>=41,"क-2", IF(T48>=33,"ड", IF(T48>=21,"ई-1", IF(T48<=20, "ई-2" ))))))))) -> ई-2 | X48: 0 | Y48: 0 | Z48: =SUM(X48:Y48) -> 0 | AB48: =IF(Z48>=91,"अ-1", IF(Z48>=81,"अ-2", IF(Z48>=71,"ब-1", IF(Z48>=61,"ब-2", IF(Z48>=51,"क-1", IF(Z48>=41,"क-2", IF(Z48>=33,"ड", IF(Z48>=21,"ई-1", IF(Z48<=20, "ई-2" ))))))))) -> ई-2 | AD48: 0 | AE48: 0 | AF48: =SUM(AD48:AE48) -> 0 | AH48: =IF(AF48>=91,"अ-1", IF(AF48>=81,"अ-2", IF(AF48>=71,"ब-1", IF(AF48>=61,"ब-2", IF(AF48>=51,"क-1", IF(AF48>=41,"क-2", IF(AF48>=33,"ड", IF(AF48>=21,"ई-1", IF(AF48<=20, "ई-2" ))))))))) -> ई-2 | AJ48: 0 | AK48: 0 | AL48: =SUM(AJ48:AK48) -> 0 | AN48: =IF(AL48>=91,"अ-1", IF(AL48>=81,"अ-2", IF(AL48>=71,"ब-1", IF(AL48>=61,"ब-2", IF(AL48>=51,"क-1", IF(AL48>=41,"क-2", IF(AL48>=33,"ड", IF(AL48>=21,"ई-1", IF(AL48<=20, "ई-2" ))))))))) -> ई-2 | AP48: 0 | AQ48: 0 | AR48: =SUM(AP48:AQ48) -> 0 | AT48: =IF(AR48>=91,"अ-1", IF(AR48>=81,"अ-2", IF(AR48>=71,"ब-1", IF(AR48>=61,"ब-2", IF(AR48>=51,"क-1", IF(AR48>=41,"क-2", IF(AR48>=33,"ड", IF(AR48>=21,"ई-1", IF(AR48<=20, "ई-2" ))))))))) -> ई-2 | AV48: 0 | AW48: =IF(AV48>=91,"अ-1", IF(AV48>=81,"अ-2", IF(AV48>=71,"ब-1", IF(AV48>=61,"ब-2", IF(AV48>=51,"क-1", IF(AV48>=41,"क-2", IF(AV48>=33,"ड", IF(AV48>=21,"ई-1", IF(AV48<=20, "ई-2" ))))))))) -> ई-2 | AY48: 0 | AZ48: =IF(AY48>=91,"अ-1", IF(AY48>=81,"अ-2", IF(AY48>=71,"ब-1", IF(AY48>=61,"ब-2", IF(AY48>=51,"क-1", IF(AY48>=41,"क-2", IF(AY48>=33,"ड", IF(AY48>=21,"ई-1", IF(AY48<=20, "ई-2" ))))))))) -> ई-2 | BB48: 0 | BC48: =IF(BB48>=91,"अ-1", IF(BB48>=81,"अ-2", IF(BB48>=71,"ब-1", IF(BB48>=61,"ब-2", IF(BB48>=51,"क-1", IF(BB48>=41,"क-2", IF(BB48>=33,"ड", IF(BB48>=21,"ई-1", IF(BB48<=20, "ई-2" ))))))))) -> ई-2 | BE48: =SUM(H48,N48,T48,Z48,AF48,AL48,AR48,AV48,AY48,BB48) -> 0 | BF48: =SUM(BE48*100)/BE12 -> 0 | BG48: =IF(BF48>=91,"अ-1", IF(BF48>=81,"अ-2", IF(BF48>=71,"ब-1", IF(BF48>=61,"ब-2", IF(BF48>=51,"क-1", IF(BF48>=41,"क-2", IF(BF48>=33,"ड", IF(BF48>=21,"ई-1", IF(BF48>=0, "ई-2" ))))))))) -> ई-2
B49: =Info_1!M41 -> 0 | C49: =Info_1!J41 -> 0 | D49: =Info_1!K41 -> 0 | E49: =Info_1!L41 -> 0 | F49: 0 | G49: 0 | H49: =SUM(F49:G49) -> 0 | J49: =IF(H49>=91,"अ-1", IF(H49>=81,"अ-2", IF(H49>=71,"ब-1", IF(H49>=61,"ब-2", IF(H49>=51,"क-1", IF(H49>=41,"क-2", IF(H49>=33,"ड", IF(H49>=21,"ई-1", IF(H49<=20, "ई-2" ))))))))) -> ई-2 | L49: 0 | M49: 0 | N49: =SUM(L49:M49) -> 0 | P49: =IF(N49>=91,"अ-1", IF(N49>=81,"अ-2", IF(N49>=71,"ब-1", IF(N49>=61,"ब-2", IF(N49>=51,"क-1", IF(N49>=41,"क-2", IF(N49>=33,"ड", IF(N49>=21,"ई-1", IF(N49<=20, "ई-2" ))))))))) -> ई-2 | R49: 0 | S49: 0 | T49: =SUM(R49:S49) -> 0 | V49: =IF(T49>=91,"अ-1", IF(T49>=81,"अ-2", IF(T49>=71,"ब-1", IF(T49>=61,"ब-2", IF(T49>=51,"क-1", IF(T49>=41,"क-2", IF(T49>=33,"ड", IF(T49>=21,"ई-1", IF(T49<=20, "ई-2" ))))))))) -> ई-2 | X49: 0 | Y49: 0 | Z49: =SUM(X49:Y49) -> 0 | AB49: =IF(Z49>=91,"अ-1", IF(Z49>=81,"अ-2", IF(Z49>=71,"ब-1", IF(Z49>=61,"ब-2", IF(Z49>=51,"क-1", IF(Z49>=41,"क-2", IF(Z49>=33,"ड", IF(Z49>=21,"ई-1", IF(Z49<=20, "ई-2" ))))))))) -> ई-2 | AD49: 0 | AE49: 0 | AF49: =SUM(AD49:AE49) -> 0 | AH49: =IF(AF49>=91,"अ-1", IF(AF49>=81,"अ-2", IF(AF49>=71,"ब-1", IF(AF49>=61,"ब-2", IF(AF49>=51,"क-1", IF(AF49>=41,"क-2", IF(AF49>=33,"ड", IF(AF49>=21,"ई-1", IF(AF49<=20, "ई-2" ))))))))) -> ई-2 | AJ49: 0 | AK49: 0 | AL49: =SUM(AJ49:AK49) -> 0 | AN49: =IF(AL49>=91,"अ-1", IF(AL49>=81,"अ-2", IF(AL49>=71,"ब-1", IF(AL49>=61,"ब-2", IF(AL49>=51,"क-1", IF(AL49>=41,"क-2", IF(AL49>=33,"ड", IF(AL49>=21,"ई-1", IF(AL49<=20, "ई-2" ))))))))) -> ई-2 | AP49: 0 | AQ49: 0 | AR49: =SUM(AP49:AQ49) -> 0 | AT49: =IF(AR49>=91,"अ-1", IF(AR49>=81,"अ-2", IF(AR49>=71,"ब-1", IF(AR49>=61,"ब-2", IF(AR49>=51,"क-1", IF(AR49>=41,"क-2", IF(AR49>=33,"ड", IF(AR49>=21,"ई-1", IF(AR49<=20, "ई-2" ))))))))) -> ई-2 | AV49: 0 | AW49: =IF(AV49>=91,"अ-1", IF(AV49>=81,"अ-2", IF(AV49>=71,"ब-1", IF(AV49>=61,"ब-2", IF(AV49>=51,"क-1", IF(AV49>=41,"क-2", IF(AV49>=33,"ड", IF(AV49>=21,"ई-1", IF(AV49<=20, "ई-2" ))))))))) -> ई-2 | AY49: 0 | AZ49: =IF(AY49>=91,"अ-1", IF(AY49>=81,"अ-2", IF(AY49>=71,"ब-1", IF(AY49>=61,"ब-2", IF(AY49>=51,"क-1", IF(AY49>=41,"क-2", IF(AY49>=33,"ड", IF(AY49>=21,"ई-1", IF(AY49<=20, "ई-2" ))))))))) -> ई-2 | BB49: 0 | BC49: =IF(BB49>=91,"अ-1", IF(BB49>=81,"अ-2", IF(BB49>=71,"ब-1", IF(BB49>=61,"ब-2", IF(BB49>=51,"क-1", IF(BB49>=41,"क-2", IF(BB49>=33,"ड", IF(BB49>=21,"ई-1", IF(BB49<=20, "ई-2" ))))))))) -> ई-2 | BE49: =SUM(H49,N49,T49,Z49,AF49,AL49,AR49,AV49,AY49,BB49) -> 0 | BF49: =SUM(BE49*100)/BE12 -> 0 | BG49: =IF(BF49>=91,"अ-1", IF(BF49>=81,"अ-2", IF(BF49>=71,"ब-1", IF(BF49>=61,"ब-2", IF(BF49>=51,"क-1", IF(BF49>=41,"क-2", IF(BF49>=33,"ड", IF(BF49>=21,"ई-1", IF(BF49>=0, "ई-2" ))))))))) -> ई-2
B50: =Info_1!M42 -> 0 | C50: =Info_1!J42 -> 0 | D50: =Info_1!K42 -> 0 | E50: =Info_1!L42 -> 0 | F50: 0 | G50: 0 | H50: =SUM(F50:G50) -> 0 | J50: =IF(H50>=91,"अ-1", IF(H50>=81,"अ-2", IF(H50>=71,"ब-1", IF(H50>=61,"ब-2", IF(H50>=51,"क-1", IF(H50>=41,"क-2", IF(H50>=33,"ड", IF(H50>=21,"ई-1", IF(H50<=20, "ई-2" ))))))))) -> ई-2 | L50: 0 | M50: 0 | N50: =SUM(L50:M50) -> 0 | P50: =IF(N50>=91,"अ-1", IF(N50>=81,"अ-2", IF(N50>=71,"ब-1", IF(N50>=61,"ब-2", IF(N50>=51,"क-1", IF(N50>=41,"क-2", IF(N50>=33,"ड", IF(N50>=21,"ई-1", IF(N50<=20, "ई-2" ))))))))) -> ई-2 | R50: 0 | S50: 0 | T50: =SUM(R50:S50) -> 0 | V50: =IF(T50>=91,"अ-1", IF(T50>=81,"अ-2", IF(T50>=71,"ब-1", IF(T50>=61,"ब-2", IF(T50>=51,"क-1", IF(T50>=41,"क-2", IF(T50>=33,"ड", IF(T50>=21,"ई-1", IF(T50<=20, "ई-2" ))))))))) -> ई-2 | X50: 0 | Y50: 0 | Z50: =SUM(X50:Y50) -> 0 | AB50: =IF(Z50>=91,"अ-1", IF(Z50>=81,"अ-2", IF(Z50>=71,"ब-1", IF(Z50>=61,"ब-2", IF(Z50>=51,"क-1", IF(Z50>=41,"क-2", IF(Z50>=33,"ड", IF(Z50>=21,"ई-1", IF(Z50<=20, "ई-2" ))))))))) -> ई-2 | AD50: 0 | AE50: 0 | AF50: =SUM(AD50:AE50) -> 0 | AH50: =IF(AF50>=91,"अ-1", IF(AF50>=81,"अ-2", IF(AF50>=71,"ब-1", IF(AF50>=61,"ब-2", IF(AF50>=51,"क-1", IF(AF50>=41,"क-2", IF(AF50>=33,"ड", IF(AF50>=21,"ई-1", IF(AF50<=20, "ई-2" ))))))))) -> ई-2 | AJ50: 0 | AK50: 0 | AL50: =SUM(AJ50:AK50) -> 0 | AN50: =IF(AL50>=91,"अ-1", IF(AL50>=81,"अ-2", IF(AL50>=71,"ब-1", IF(AL50>=61,"ब-2", IF(AL50>=51,"क-1", IF(AL50>=41,"क-2", IF(AL50>=33,"ड", IF(AL50>=21,"ई-1", IF(AL50<=20, "ई-2" ))))))))) -> ई-2 | AP50: 0 | AQ50: 0 | AR50: =SUM(AP50:AQ50) -> 0 | AT50: =IF(AR50>=91,"अ-1", IF(AR50>=81,"अ-2", IF(AR50>=71,"ब-1", IF(AR50>=61,"ब-2", IF(AR50>=51,"क-1", IF(AR50>=41,"क-2", IF(AR50>=33,"ड", IF(AR50>=21,"ई-1", IF(AR50<=20, "ई-2" ))))))))) -> ई-2 | AV50: 0 | AW50: =IF(AV50>=91,"अ-1", IF(AV50>=81,"अ-2", IF(AV50>=71,"ब-1", IF(AV50>=61,"ब-2", IF(AV50>=51,"क-1", IF(AV50>=41,"क-2", IF(AV50>=33,"ड", IF(AV50>=21,"ई-1", IF(AV50<=20, "ई-2" ))))))))) -> ई-2 | AY50: 0 | AZ50: =IF(AY50>=91,"अ-1", IF(AY50>=81,"अ-2", IF(AY50>=71,"ब-1", IF(AY50>=61,"ब-2", IF(AY50>=51,"क-1", IF(AY50>=41,"क-2", IF(AY50>=33,"ड", IF(AY50>=21,"ई-1", IF(AY50<=20, "ई-2" ))))))))) -> ई-2 | BB50: 0 | BC50: =IF(BB50>=91,"अ-1", IF(BB50>=81,"अ-2", IF(BB50>=71,"ब-1", IF(BB50>=61,"ब-2", IF(BB50>=51,"क-1", IF(BB50>=41,"क-2", IF(BB50>=33,"ड", IF(BB50>=21,"ई-1", IF(BB50<=20, "ई-2" ))))))))) -> ई-2 | BE50: =SUM(H50,N50,T50,Z50,AF50,AL50,AR50,AV50,AY50,BB50) -> 0 | BF50: =SUM(BE50*100)/BE12 -> 0 | BG50: =IF(BF50>=91,"अ-1", IF(BF50>=81,"अ-2", IF(BF50>=71,"ब-1", IF(BF50>=61,"ब-2", IF(BF50>=51,"क-1", IF(BF50>=41,"क-2", IF(BF50>=33,"ड", IF(BF50>=21,"ई-1", IF(BF50>=0, "ई-2" ))))))))) -> ई-2
B51: =Info_1!M43 -> 0 | C51: =Info_1!J43 -> 0 | D51: =Info_1!K43 -> 0 | E51: =Info_1!L43 -> 0 | F51: 0 | G51: 0 | H51: =SUM(F51:G51) -> 0 | J51: =IF(H51>=91,"अ-1", IF(H51>=81,"अ-2", IF(H51>=71,"ब-1", IF(H51>=61,"ब-2", IF(H51>=51,"क-1", IF(H51>=41,"क-2", IF(H51>=33,"ड", IF(H51>=21,"ई-1", IF(H51<=20, "ई-2" ))))))))) -> ई-2 | L51: 0 | M51: 0 | N51: =SUM(L51:M51) -> 0 | P51: =IF(N51>=91,"अ-1", IF(N51>=81,"अ-2", IF(N51>=71,"ब-1", IF(N51>=61,"ब-2", IF(N51>=51,"क-1", IF(N51>=41,"क-2", IF(N51>=33,"ड", IF(N51>=21,"ई-1", IF(N51<=20, "ई-2" ))))))))) -> ई-2 | R51: 0 | S51: 0 | T51: =SUM(R51:S51) -> 0 | V51: =IF(T51>=91,"अ-1", IF(T51>=81,"अ-2", IF(T51>=71,"ब-1", IF(T51>=61,"ब-2", IF(T51>=51,"क-1", IF(T51>=41,"क-2", IF(T51>=33,"ड", IF(T51>=21,"ई-1", IF(T51<=20, "ई-2" ))))))))) -> ई-2 | X51: 0 | Y51: 0 | Z51: =SUM(X51:Y51) -> 0 | AB51: =IF(Z51>=91,"अ-1", IF(Z51>=81,"अ-2", IF(Z51>=71,"ब-1", IF(Z51>=61,"ब-2", IF(Z51>=51,"क-1", IF(Z51>=41,"क-2", IF(Z51>=33,"ड", IF(Z51>=21,"ई-1", IF(Z51<=20, "ई-2" ))))))))) -> ई-2 | AD51: 0 | AE51: 0 | AF51: =SUM(AD51:AE51) -> 0 | AH51: =IF(AF51>=91,"अ-1", IF(AF51>=81,"अ-2", IF(AF51>=71,"ब-1", IF(AF51>=61,"ब-2", IF(AF51>=51,"क-1", IF(AF51>=41,"क-2", IF(AF51>=33,"ड", IF(AF51>=21,"ई-1", IF(AF51<=20, "ई-2" ))))))))) -> ई-2 | AJ51: 0 | AK51: 0 | AL51: =SUM(AJ51:AK51) -> 0 | AN51: =IF(AL51>=91,"अ-1", IF(AL51>=81,"अ-2", IF(AL51>=71,"ब-1", IF(AL51>=61,"ब-2", IF(AL51>=51,"क-1", IF(AL51>=41,"क-2", IF(AL51>=33,"ड", IF(AL51>=21,"ई-1", IF(AL51<=20, "ई-2" ))))))))) -> ई-2 | AP51: 0 | AQ51: 0 | AR51: =SUM(AP51:AQ51) -> 0 | AT51: =IF(AR51>=91,"अ-1", IF(AR51>=81,"अ-2", IF(AR51>=71,"ब-1", IF(AR51>=61,"ब-2", IF(AR51>=51,"क-1", IF(AR51>=41,"क-2", IF(AR51>=33,"ड", IF(AR51>=21,"ई-1", IF(AR51<=20, "ई-2" ))))))))) -> ई-2 | AV51: 0 | AW51: =IF(AV51>=91,"अ-1", IF(AV51>=81,"अ-2", IF(AV51>=71,"ब-1", IF(AV51>=61,"ब-2", IF(AV51>=51,"क-1", IF(AV51>=41,"क-2", IF(AV51>=33,"ड", IF(AV51>=21,"ई-1", IF(AV51<=20, "ई-2" ))))))))) -> ई-2 | AY51: 0 | AZ51: =IF(AY51>=91,"अ-1", IF(AY51>=81,"अ-2", IF(AY51>=71,"ब-1", IF(AY51>=61,"ब-2", IF(AY51>=51,"क-1", IF(AY51>=41,"क-2", IF(AY51>=33,"ड", IF(AY51>=21,"ई-1", IF(AY51<=20, "ई-2" ))))))))) -> ई-2 | BB51: 0 | BC51: =IF(BB51>=91,"अ-1", IF(BB51>=81,"अ-2", IF(BB51>=71,"ब-1", IF(BB51>=61,"ब-2", IF(BB51>=51,"क-1", IF(BB51>=41,"क-2", IF(BB51>=33,"ड", IF(BB51>=21,"ई-1", IF(BB51<=20, "ई-2" ))))))))) -> ई-2 | BE51: =SUM(H51,N51,T51,Z51,AF51,AL51,AR51,AV51,AY51,BB51) -> 0 | BF51: =SUM(BE51*100)/BE12 -> 0 | BG51: =IF(BF51>=91,"अ-1", IF(BF51>=81,"अ-2", IF(BF51>=71,"ब-1", IF(BF51>=61,"ब-2", IF(BF51>=51,"क-1", IF(BF51>=41,"क-2", IF(BF51>=33,"ड", IF(BF51>=21,"ई-1", IF(BF51>=0, "ई-2" ))))))))) -> ई-2
B52: =Info_1!M44 -> 0 | C52: =Info_1!J44 -> 0 | D52: =Info_1!K44 -> 0 | E52: =Info_1!L44 -> 0 | F52: 0 | G52: 0 | H52: =SUM(F52:G52) -> 0 | J52: =IF(H52>=91,"अ-1", IF(H52>=81,"अ-2", IF(H52>=71,"ब-1", IF(H52>=61,"ब-2", IF(H52>=51,"क-1", IF(H52>=41,"क-2", IF(H52>=33,"ड", IF(H52>=21,"ई-1", IF(H52<=20, "ई-2" ))))))))) -> ई-2 | L52: 0 | M52: 0 | N52: =SUM(L52:M52) -> 0 | P52: =IF(N52>=91,"अ-1", IF(N52>=81,"अ-2", IF(N52>=71,"ब-1", IF(N52>=61,"ब-2", IF(N52>=51,"क-1", IF(N52>=41,"क-2", IF(N52>=33,"ड", IF(N52>=21,"ई-1", IF(N52<=20, "ई-2" ))))))))) -> ई-2 | R52: 0 | S52: 0 | T52: =SUM(R52:S52) -> 0 | V52: =IF(T52>=91,"अ-1", IF(T52>=81,"अ-2", IF(T52>=71,"ब-1", IF(T52>=61,"ब-2", IF(T52>=51,"क-1", IF(T52>=41,"क-2", IF(T52>=33,"ड", IF(T52>=21,"ई-1", IF(T52<=20, "ई-2" ))))))))) -> ई-2 | X52: 0 | Y52: 0 | Z52: =SUM(X52:Y52) -> 0 | AB52: =IF(Z52>=91,"अ-1", IF(Z52>=81,"अ-2", IF(Z52>=71,"ब-1", IF(Z52>=61,"ब-2", IF(Z52>=51,"क-1", IF(Z52>=41,"क-2", IF(Z52>=33,"ड", IF(Z52>=21,"ई-1", IF(Z52<=20, "ई-2" ))))))))) -> ई-2 | AD52: 0 | AE52: 0 | AF52: =SUM(AD52:AE52) -> 0 | AH52: =IF(AF52>=91,"अ-1", IF(AF52>=81,"अ-2", IF(AF52>=71,"ब-1", IF(AF52>=61,"ब-2", IF(AF52>=51,"क-1", IF(AF52>=41,"क-2", IF(AF52>=33,"ड", IF(AF52>=21,"ई-1", IF(AF52<=20, "ई-2" ))))))))) -> ई-2 | AJ52: 0 | AK52: 0 | AL52: =SUM(AJ52:AK52) -> 0 | AN52: =IF(AL52>=91,"अ-1", IF(AL52>=81,"अ-2", IF(AL52>=71,"ब-1", IF(AL52>=61,"ब-2", IF(AL52>=51,"क-1", IF(AL52>=41,"क-2", IF(AL52>=33,"ड", IF(AL52>=21,"ई-1", IF(AL52<=20, "ई-2" ))))))))) -> ई-2 | AP52: 0 | AQ52: 0 | AR52: =SUM(AP52:AQ52) -> 0 | AT52: =IF(AR52>=91,"अ-1", IF(AR52>=81,"अ-2", IF(AR52>=71,"ब-1", IF(AR52>=61,"ब-2", IF(AR52>=51,"क-1", IF(AR52>=41,"क-2", IF(AR52>=33,"ड", IF(AR52>=21,"ई-1", IF(AR52<=20, "ई-2" ))))))))) -> ई-2 | AV52: 0 | AW52: =IF(AV52>=91,"अ-1", IF(AV52>=81,"अ-2", IF(AV52>=71,"ब-1", IF(AV52>=61,"ब-2", IF(AV52>=51,"क-1", IF(AV52>=41,"क-2", IF(AV52>=33,"ड", IF(AV52>=21,"ई-1", IF(AV52<=20, "ई-2" ))))))))) -> ई-2 | AY52: 0 | AZ52: =IF(AY52>=91,"अ-1", IF(AY52>=81,"अ-2", IF(AY52>=71,"ब-1", IF(AY52>=61,"ब-2", IF(AY52>=51,"क-1", IF(AY52>=41,"क-2", IF(AY52>=33,"ड", IF(AY52>=21,"ई-1", IF(AY52<=20, "ई-2" ))))))))) -> ई-2 | BB52: 0 | BC52: =IF(BB52>=91,"अ-1", IF(BB52>=81,"अ-2", IF(BB52>=71,"ब-1", IF(BB52>=61,"ब-2", IF(BB52>=51,"क-1", IF(BB52>=41,"क-2", IF(BB52>=33,"ड", IF(BB52>=21,"ई-1", IF(BB52<=20, "ई-2" ))))))))) -> ई-2 | BE52: =SUM(H52,N52,T52,Z52,AF52,AL52,AR52,AV52,AY52,BB52) -> 0 | BF52: =SUM(BE52*100)/BE12 -> 0 | BG52: =IF(BF52>=91,"अ-1", IF(BF52>=81,"अ-2", IF(BF52>=71,"ब-1", IF(BF52>=61,"ब-2", IF(BF52>=51,"क-1", IF(BF52>=41,"क-2", IF(BF52>=33,"ड", IF(BF52>=21,"ई-1", IF(BF52>=0, "ई-2" ))))))))) -> ई-2
B53: =Info_1!M45 -> 0 | C53: =Info_1!J45 -> 0 | D53: =Info_1!K45 -> 0 | E53: =Info_1!L45 -> 0 | F53: 0 | G53: 0 | H53: =SUM(F53:G53) -> 0 | J53: =IF(H53>=91,"अ-1", IF(H53>=81,"अ-2", IF(H53>=71,"ब-1", IF(H53>=61,"ब-2", IF(H53>=51,"क-1", IF(H53>=41,"क-2", IF(H53>=33,"ड", IF(H53>=21,"ई-1", IF(H53<=20, "ई-2" ))))))))) -> ई-2 | L53: 0 | M53: 0 | N53: =SUM(L53:M53) -> 0 | P53: =IF(N53>=91,"अ-1", IF(N53>=81,"अ-2", IF(N53>=71,"ब-1", IF(N53>=61,"ब-2", IF(N53>=51,"क-1", IF(N53>=41,"क-2", IF(N53>=33,"ड", IF(N53>=21,"ई-1", IF(N53<=20, "ई-2" ))))))))) -> ई-2 | R53: 0 | S53: 0 | T53: =SUM(R53:S53) -> 0 | V53: =IF(T53>=91,"अ-1", IF(T53>=81,"अ-2", IF(T53>=71,"ब-1", IF(T53>=61,"ब-2", IF(T53>=51,"क-1", IF(T53>=41,"क-2", IF(T53>=33,"ड", IF(T53>=21,"ई-1", IF(T53<=20, "ई-2" ))))))))) -> ई-2 | X53: 0 | Y53: 0 | Z53: =SUM(X53:Y53) -> 0 | AB53: =IF(Z53>=91,"अ-1", IF(Z53>=81,"अ-2", IF(Z53>=71,"ब-1", IF(Z53>=61,"ब-2", IF(Z53>=51,"क-1", IF(Z53>=41,"क-2", IF(Z53>=33,"ड", IF(Z53>=21,"ई-1", IF(Z53<=20, "ई-2" ))))))))) -> ई-2 | AD53: 0 | AE53: 0 | AF53: =SUM(AD53:AE53) -> 0 | AH53: =IF(AF53>=91,"अ-1", IF(AF53>=81,"अ-2", IF(AF53>=71,"ब-1", IF(AF53>=61,"ब-2", IF(AF53>=51,"क-1", IF(AF53>=41,"क-2", IF(AF53>=33,"ड", IF(AF53>=21,"ई-1", IF(AF53<=20, "ई-2" ))))))))) -> ई-2 | AJ53: 0 | AK53: 0 | AL53: =SUM(AJ53:AK53) -> 0 | AN53: =IF(AL53>=91,"अ-1", IF(AL53>=81,"अ-2", IF(AL53>=71,"ब-1", IF(AL53>=61,"ब-2", IF(AL53>=51,"क-1", IF(AL53>=41,"क-2", IF(AL53>=33,"ड", IF(AL53>=21,"ई-1", IF(AL53<=20, "ई-2" ))))))))) -> ई-2 | AP53: 0 | AQ53: 0 | AR53: =SUM(AP53:AQ53) -> 0 | AT53: =IF(AR53>=91,"अ-1", IF(AR53>=81,"अ-2", IF(AR53>=71,"ब-1", IF(AR53>=61,"ब-2", IF(AR53>=51,"क-1", IF(AR53>=41,"क-2", IF(AR53>=33,"ड", IF(AR53>=21,"ई-1", IF(AR53<=20, "ई-2" ))))))))) -> ई-2 | AV53: 0 | AW53: =IF(AV53>=91,"अ-1", IF(AV53>=81,"अ-2", IF(AV53>=71,"ब-1", IF(AV53>=61,"ब-2", IF(AV53>=51,"क-1", IF(AV53>=41,"क-2", IF(AV53>=33,"ड", IF(AV53>=21,"ई-1", IF(AV53<=20, "ई-2" ))))))))) -> ई-2 | AY53: 0 | AZ53: =IF(AY53>=91,"अ-1", IF(AY53>=81,"अ-2", IF(AY53>=71,"ब-1", IF(AY53>=61,"ब-2", IF(AY53>=51,"क-1", IF(AY53>=41,"क-2", IF(AY53>=33,"ड", IF(AY53>=21,"ई-1", IF(AY53<=20, "ई-2" ))))))))) -> ई-2 | BB53: 0 | BC53: =IF(BB53>=91,"अ-1", IF(BB53>=81,"अ-2", IF(BB53>=71,"ब-1", IF(BB53>=61,"ब-2", IF(BB53>=51,"क-1", IF(BB53>=41,"क-2", IF(BB53>=33,"ड", IF(BB53>=21,"ई-1", IF(BB53<=20, "ई-2" ))))))))) -> ई-2 | BE53: =SUM(H53,N53,T53,Z53,AF53,AL53,AR53,AV53,AY53,BB53) -> 0 | BF53: =SUM(BE53*100)/BE12 -> 0 | BG53: =IF(BF53>=91,"अ-1", IF(BF53>=81,"अ-2", IF(BF53>=71,"ब-1", IF(BF53>=61,"ब-2", IF(BF53>=51,"क-1", IF(BF53>=41,"क-2", IF(BF53>=33,"ड", IF(BF53>=21,"ई-1", IF(BF53>=0, "ई-2" ))))))))) -> ई-2
B54: =Info_1!M46 -> 0 | C54: =Info_1!J46 -> 0 | D54: =Info_1!K46 -> 0 | E54: =Info_1!L46 -> 0 | F54: 0 | G54: 0 | H54: =SUM(F54:G54) -> 0 | J54: =IF(H54>=91,"अ-1", IF(H54>=81,"अ-2", IF(H54>=71,"ब-1", IF(H54>=61,"ब-2", IF(H54>=51,"क-1", IF(H54>=41,"क-2", IF(H54>=33,"ड", IF(H54>=21,"ई-1", IF(H54<=20, "ई-2" ))))))))) -> ई-2 | L54: 0 | M54: 0 | N54: =SUM(L54:M54) -> 0 | P54: =IF(N54>=91,"अ-1", IF(N54>=81,"अ-2", IF(N54>=71,"ब-1", IF(N54>=61,"ब-2", IF(N54>=51,"क-1", IF(N54>=41,"क-2", IF(N54>=33,"ड", IF(N54>=21,"ई-1", IF(N54<=20, "ई-2" ))))))))) -> ई-2 | R54: 0 | S54: 0 | T54: =SUM(R54:S54) -> 0 | V54: =IF(T54>=91,"अ-1", IF(T54>=81,"अ-2", IF(T54>=71,"ब-1", IF(T54>=61,"ब-2", IF(T54>=51,"क-1", IF(T54>=41,"क-2", IF(T54>=33,"ड", IF(T54>=21,"ई-1", IF(T54<=20, "ई-2" ))))))))) -> ई-2 | X54: 0 | Y54: 0 | Z54: =SUM(X54:Y54) -> 0 | AB54: =IF(Z54>=91,"अ-1", IF(Z54>=81,"अ-2", IF(Z54>=71,"ब-1", IF(Z54>=61,"ब-2", IF(Z54>=51,"क-1", IF(Z54>=41,"क-2", IF(Z54>=33,"ड", IF(Z54>=21,"ई-1", IF(Z54<=20, "ई-2" ))))))))) -> ई-2 | AD54: 0 | AE54: 0 | AF54: =SUM(AD54:AE54) -> 0 | AH54: =IF(AF54>=91,"अ-1", IF(AF54>=81,"अ-2", IF(AF54>=71,"ब-1", IF(AF54>=61,"ब-2", IF(AF54>=51,"क-1", IF(AF54>=41,"क-2", IF(AF54>=33,"ड", IF(AF54>=21,"ई-1", IF(AF54<=20, "ई-2" ))))))))) -> ई-2 | AJ54: 0 | AK54: 0 | AL54: =SUM(AJ54:AK54) -> 0 | AN54: =IF(AL54>=91,"अ-1", IF(AL54>=81,"अ-2", IF(AL54>=71,"ब-1", IF(AL54>=61,"ब-2", IF(AL54>=51,"क-1", IF(AL54>=41,"क-2", IF(AL54>=33,"ड", IF(AL54>=21,"ई-1", IF(AL54<=20, "ई-2" ))))))))) -> ई-2 | AP54: 0 | AQ54: 0 | AR54: =SUM(AP54:AQ54) -> 0 | AT54: =IF(AR54>=91,"अ-1", IF(AR54>=81,"अ-2", IF(AR54>=71,"ब-1", IF(AR54>=61,"ब-2", IF(AR54>=51,"क-1", IF(AR54>=41,"क-2", IF(AR54>=33,"ड", IF(AR54>=21,"ई-1", IF(AR54<=20, "ई-2" ))))))))) -> ई-2 | AV54: 0 | AW54: =IF(AV54>=91,"अ-1", IF(AV54>=81,"अ-2", IF(AV54>=71,"ब-1", IF(AV54>=61,"ब-2", IF(AV54>=51,"क-1", IF(AV54>=41,"क-2", IF(AV54>=33,"ड", IF(AV54>=21,"ई-1", IF(AV54<=20, "ई-2" ))))))))) -> ई-2 | AY54: 0 | AZ54: =IF(AY54>=91,"अ-1", IF(AY54>=81,"अ-2", IF(AY54>=71,"ब-1", IF(AY54>=61,"ब-2", IF(AY54>=51,"क-1", IF(AY54>=41,"क-2", IF(AY54>=33,"ड", IF(AY54>=21,"ई-1", IF(AY54<=20, "ई-2" ))))))))) -> ई-2 | BB54: 0 | BC54: =IF(BB54>=91,"अ-1", IF(BB54>=81,"अ-2", IF(BB54>=71,"ब-1", IF(BB54>=61,"ब-2", IF(BB54>=51,"क-1", IF(BB54>=41,"क-2", IF(BB54>=33,"ड", IF(BB54>=21,"ई-1", IF(BB54<=20, "ई-2" ))))))))) -> ई-2 | BE54: =SUM(H54,N54,T54,Z54,AF54,AL54,AR54,AV54,AY54,BB54) -> 0 | BF54: =SUM(BE54*100)/BE12 -> 0 | BG54: =IF(BF54>=91,"अ-1", IF(BF54>=81,"अ-2", IF(BF54>=71,"ब-1", IF(BF54>=61,"ब-2", IF(BF54>=51,"क-1", IF(BF54>=41,"क-2", IF(BF54>=33,"ड", IF(BF54>=21,"ई-1", IF(BF54>=0, "ई-2" ))))))))) -> ई-2
B55: =Info_1!M47 -> 0 | C55: =Info_1!J47 -> 0 | D55: =Info_1!K47 -> 0 | E55: =Info_1!L47 -> 0 | F55: 0 | G55: 0 | H55: =SUM(F55:G55) -> 0 | J55: =IF(H55>=91,"अ-1", IF(H55>=81,"अ-2", IF(H55>=71,"ब-1", IF(H55>=61,"ब-2", IF(H55>=51,"क-1", IF(H55>=41,"क-2", IF(H55>=33,"ड", IF(H55>=21,"ई-1", IF(H55<=20, "ई-2" ))))))))) -> ई-2 | L55: 0 | M55: 0 | N55: =SUM(L55:M55) -> 0 | P55: =IF(N55>=91,"अ-1", IF(N55>=81,"अ-2", IF(N55>=71,"ब-1", IF(N55>=61,"ब-2", IF(N55>=51,"क-1", IF(N55>=41,"क-2", IF(N55>=33,"ड", IF(N55>=21,"ई-1", IF(N55<=20, "ई-2" ))))))))) -> ई-2 | R55: 0 | S55: 0 | T55: =SUM(R55:S55) -> 0 | V55: =IF(T55>=91,"अ-1", IF(T55>=81,"अ-2", IF(T55>=71,"ब-1", IF(T55>=61,"ब-2", IF(T55>=51,"क-1", IF(T55>=41,"क-2", IF(T55>=33,"ड", IF(T55>=21,"ई-1", IF(T55<=20, "ई-2" ))))))))) -> ई-2 | X55: 0 | Y55: 0 | Z55: =SUM(X55:Y55) -> 0 | AB55: =IF(Z55>=91,"अ-1", IF(Z55>=81,"अ-2", IF(Z55>=71,"ब-1", IF(Z55>=61,"ब-2", IF(Z55>=51,"क-1", IF(Z55>=41,"क-2", IF(Z55>=33,"ड", IF(Z55>=21,"ई-1", IF(Z55<=20, "ई-2" ))))))))) -> ई-2 | AD55: 0 | AE55: 0 | AF55: =SUM(AD55:AE55) -> 0 | AH55: =IF(AF55>=91,"अ-1", IF(AF55>=81,"अ-2", IF(AF55>=71,"ब-1", IF(AF55>=61,"ब-2", IF(AF55>=51,"क-1", IF(AF55>=41,"क-2", IF(AF55>=33,"ड", IF(AF55>=21,"ई-1", IF(AF55<=20, "ई-2" ))))))))) -> ई-2 | AJ55: 0 | AK55: 0 | AL55: =SUM(AJ55:AK55) -> 0 | AN55: =IF(AL55>=91,"अ-1", IF(AL55>=81,"अ-2", IF(AL55>=71,"ब-1", IF(AL55>=61,"ब-2", IF(AL55>=51,"क-1", IF(AL55>=41,"क-2", IF(AL55>=33,"ड", IF(AL55>=21,"ई-1", IF(AL55<=20, "ई-2" ))))))))) -> ई-2 | AP55: 0 | AQ55: 0 | AR55: =SUM(AP55:AQ55) -> 0 | AT55: =IF(AR55>=91,"अ-1", IF(AR55>=81,"अ-2", IF(AR55>=71,"ब-1", IF(AR55>=61,"ब-2", IF(AR55>=51,"क-1", IF(AR55>=41,"क-2", IF(AR55>=33,"ड", IF(AR55>=21,"ई-1", IF(AR55<=20, "ई-2" ))))))))) -> ई-2 | AV55: 0 | AW55: =IF(AV55>=91,"अ-1", IF(AV55>=81,"अ-2", IF(AV55>=71,"ब-1", IF(AV55>=61,"ब-2", IF(AV55>=51,"क-1", IF(AV55>=41,"क-2", IF(AV55>=33,"ड", IF(AV55>=21,"ई-1", IF(AV55<=20, "ई-2" ))))))))) -> ई-2 | AY55: 0 | AZ55: =IF(AY55>=91,"अ-1", IF(AY55>=81,"अ-2", IF(AY55>=71,"ब-1", IF(AY55>=61,"ब-2", IF(AY55>=51,"क-1", IF(AY55>=41,"क-2", IF(AY55>=33,"ड", IF(AY55>=21,"ई-1", IF(AY55<=20, "ई-2" ))))))))) -> ई-2 | BB55: 0 | BC55: =IF(BB55>=91,"अ-1", IF(BB55>=81,"अ-2", IF(BB55>=71,"ब-1", IF(BB55>=61,"ब-2", IF(BB55>=51,"क-1", IF(BB55>=41,"क-2", IF(BB55>=33,"ड", IF(BB55>=21,"ई-1", IF(BB55<=20, "ई-2" ))))))))) -> ई-2 | BE55: =SUM(H55,N55,T55,Z55,AF55,AL55,AR55,AV55,AY55,BB55) -> 0 | BF55: =SUM(BE55*100)/BE12 -> 0 | BG55: =IF(BF55>=91,"अ-1", IF(BF55>=81,"अ-2", IF(BF55>=71,"ब-1", IF(BF55>=61,"ब-2", IF(BF55>=51,"क-1", IF(BF55>=41,"क-2", IF(BF55>=33,"ड", IF(BF55>=21,"ई-1", IF(BF55>=0, "ई-2" ))))))))) -> ई-2
B56: =Info_1!M48 -> 0 | C56: =Info_1!J48 -> 0 | D56: =Info_1!K48 -> 0 | E56: =Info_1!L48 -> 0 | F56: 0 | G56: 0 | H56: =SUM(F56:G56) -> 0 | J56: =IF(H56>=91,"अ-1", IF(H56>=81,"अ-2", IF(H56>=71,"ब-1", IF(H56>=61,"ब-2", IF(H56>=51,"क-1", IF(H56>=41,"क-2", IF(H56>=33,"ड", IF(H56>=21,"ई-1", IF(H56<=20, "ई-2" ))))))))) -> ई-2 | L56: 0 | M56: 0 | N56: =SUM(L56:M56) -> 0 | P56: =IF(N56>=91,"अ-1", IF(N56>=81,"अ-2", IF(N56>=71,"ब-1", IF(N56>=61,"ब-2", IF(N56>=51,"क-1", IF(N56>=41,"क-2", IF(N56>=33,"ड", IF(N56>=21,"ई-1", IF(N56<=20, "ई-2" ))))))))) -> ई-2 | R56: 0 | S56: 0 | T56: =SUM(R56:S56) -> 0 | V56: =IF(T56>=91,"अ-1", IF(T56>=81,"अ-2", IF(T56>=71,"ब-1", IF(T56>=61,"ब-2", IF(T56>=51,"क-1", IF(T56>=41,"क-2", IF(T56>=33,"ड", IF(T56>=21,"ई-1", IF(T56<=20, "ई-2" ))))))))) -> ई-2 | X56: 0 | Y56: 0 | Z56: =SUM(X56:Y56) -> 0 | AB56: =IF(Z56>=91,"अ-1", IF(Z56>=81,"अ-2", IF(Z56>=71,"ब-1", IF(Z56>=61,"ब-2", IF(Z56>=51,"क-1", IF(Z56>=41,"क-2", IF(Z56>=33,"ड", IF(Z56>=21,"ई-1", IF(Z56<=20, "ई-2" ))))))))) -> ई-2 | AD56: 0 | AE56: 0 | AF56: =SUM(AD56:AE56) -> 0 | AH56: =IF(AF56>=91,"अ-1", IF(AF56>=81,"अ-2", IF(AF56>=71,"ब-1", IF(AF56>=61,"ब-2", IF(AF56>=51,"क-1", IF(AF56>=41,"क-2", IF(AF56>=33,"ड", IF(AF56>=21,"ई-1", IF(AF56<=20, "ई-2" ))))))))) -> ई-2 | AJ56: 0 | AK56: 0 | AL56: =SUM(AJ56:AK56) -> 0 | AN56: =IF(AL56>=91,"अ-1", IF(AL56>=81,"अ-2", IF(AL56>=71,"ब-1", IF(AL56>=61,"ब-2", IF(AL56>=51,"क-1", IF(AL56>=41,"क-2", IF(AL56>=33,"ड", IF(AL56>=21,"ई-1", IF(AL56<=20, "ई-2" ))))))))) -> ई-2 | AP56: 0 | AQ56: 0 | AR56: =SUM(AP56:AQ56) -> 0 | AT56: =IF(AR56>=91,"अ-1", IF(AR56>=81,"अ-2", IF(AR56>=71,"ब-1", IF(AR56>=61,"ब-2", IF(AR56>=51,"क-1", IF(AR56>=41,"क-2", IF(AR56>=33,"ड", IF(AR56>=21,"ई-1", IF(AR56<=20, "ई-2" ))))))))) -> ई-2 | AV56: 0 | AW56: =IF(AV56>=91,"अ-1", IF(AV56>=81,"अ-2", IF(AV56>=71,"ब-1", IF(AV56>=61,"ब-2", IF(AV56>=51,"क-1", IF(AV56>=41,"क-2", IF(AV56>=33,"ड", IF(AV56>=21,"ई-1", IF(AV56<=20, "ई-2" ))))))))) -> ई-2 | AY56: 0 | AZ56: =IF(AY56>=91,"अ-1", IF(AY56>=81,"अ-2", IF(AY56>=71,"ब-1", IF(AY56>=61,"ब-2", IF(AY56>=51,"क-1", IF(AY56>=41,"क-2", IF(AY56>=33,"ड", IF(AY56>=21,"ई-1", IF(AY56<=20, "ई-2" ))))))))) -> ई-2 | BB56: 0 | BC56: =IF(BB56>=91,"अ-1", IF(BB56>=81,"अ-2", IF(BB56>=71,"ब-1", IF(BB56>=61,"ब-2", IF(BB56>=51,"क-1", IF(BB56>=41,"क-2", IF(BB56>=33,"ड", IF(BB56>=21,"ई-1", IF(BB56<=20, "ई-2" ))))))))) -> ई-2 | BE56: =SUM(H56,N56,T56,Z56,AF56,AL56,AR56,AV56,AY56,BB56) -> 0 | BF56: =SUM(BE56*100)/BE12 -> 0 | BG56: =IF(BF56>=91,"अ-1", IF(BF56>=81,"अ-2", IF(BF56>=71,"ब-1", IF(BF56>=61,"ब-2", IF(BF56>=51,"क-1", IF(BF56>=41,"क-2", IF(BF56>=33,"ड", IF(BF56>=21,"ई-1", IF(BF56>=0, "ई-2" ))))))))) -> ई-2
B57: =Info_1!M49 -> 0 | C57: =Info_1!J49 -> 0 | D57: =Info_1!K49 -> 0 | E57: =Info_1!L49 -> 0 | F57: 0 | G57: 0 | H57: =SUM(F57:G57) -> 0 | J57: =IF(H57>=91,"अ-1", IF(H57>=81,"अ-2", IF(H57>=71,"ब-1", IF(H57>=61,"ब-2", IF(H57>=51,"क-1", IF(H57>=41,"क-2", IF(H57>=33,"ड", IF(H57>=21,"ई-1", IF(H57<=20, "ई-2" ))))))))) -> ई-2 | L57: 0 | M57: 0 | N57: =SUM(L57:M57) -> 0 | P57: =IF(N57>=91,"अ-1", IF(N57>=81,"अ-2", IF(N57>=71,"ब-1", IF(N57>=61,"ब-2", IF(N57>=51,"क-1", IF(N57>=41,"क-2", IF(N57>=33,"ड", IF(N57>=21,"ई-1", IF(N57<=20, "ई-2" ))))))))) -> ई-2 | R57: 0 | S57: 0 | T57: =SUM(R57:S57) -> 0 | V57: =IF(T57>=91,"अ-1", IF(T57>=81,"अ-2", IF(T57>=71,"ब-1", IF(T57>=61,"ब-2", IF(T57>=51,"क-1", IF(T57>=41,"क-2", IF(T57>=33,"ड", IF(T57>=21,"ई-1", IF(T57<=20, "ई-2" ))))))))) -> ई-2 | X57: 0 | Y57: 0 | Z57: =SUM(X57:Y57) -> 0 | AB57: =IF(Z57>=91,"अ-1", IF(Z57>=81,"अ-2", IF(Z57>=71,"ब-1", IF(Z57>=61,"ब-2", IF(Z57>=51,"क-1", IF(Z57>=41,"क-2", IF(Z57>=33,"ड", IF(Z57>=21,"ई-1", IF(Z57<=20, "ई-2" ))))))))) -> ई-2 | AD57: 0 | AE57: 0 | AF57: =SUM(AD57:AE57) -> 0 | AH57: =IF(AF57>=91,"अ-1", IF(AF57>=81,"अ-2", IF(AF57>=71,"ब-1", IF(AF57>=61,"ब-2", IF(AF57>=51,"क-1", IF(AF57>=41,"क-2", IF(AF57>=33,"ड", IF(AF57>=21,"ई-1", IF(AF57<=20, "ई-2" ))))))))) -> ई-2 | AJ57: 0 | AK57: 0 | AL57: =SUM(AJ57:AK57) -> 0 | AN57: =IF(AL57>=91,"अ-1", IF(AL57>=81,"अ-2", IF(AL57>=71,"ब-1", IF(AL57>=61,"ब-2", IF(AL57>=51,"क-1", IF(AL57>=41,"क-2", IF(AL57>=33,"ड", IF(AL57>=21,"ई-1", IF(AL57<=20, "ई-2" ))))))))) -> ई-2 | AP57: 0 | AQ57: 0 | AR57: =SUM(AP57:AQ57) -> 0 | AT57: =IF(AR57>=91,"अ-1", IF(AR57>=81,"अ-2", IF(AR57>=71,"ब-1", IF(AR57>=61,"ब-2", IF(AR57>=51,"क-1", IF(AR57>=41,"क-2", IF(AR57>=33,"ड", IF(AR57>=21,"ई-1", IF(AR57<=20, "ई-2" ))))))))) -> ई-2 | AV57: 0 | AW57: =IF(AV57>=91,"अ-1", IF(AV57>=81,"अ-2", IF(AV57>=71,"ब-1", IF(AV57>=61,"ब-2", IF(AV57>=51,"क-1", IF(AV57>=41,"क-2", IF(AV57>=33,"ड", IF(AV57>=21,"ई-1", IF(AV57<=20, "ई-2" ))))))))) -> ई-2 | AY57: 0 | AZ57: =IF(AY57>=91,"अ-1", IF(AY57>=81,"अ-2", IF(AY57>=71,"ब-1", IF(AY57>=61,"ब-2", IF(AY57>=51,"क-1", IF(AY57>=41,"क-2", IF(AY57>=33,"ड", IF(AY57>=21,"ई-1", IF(AY57<=20, "ई-2" ))))))))) -> ई-2 | BB57: 0 | BC57: =IF(BB57>=91,"अ-1", IF(BB57>=81,"अ-2", IF(BB57>=71,"ब-1", IF(BB57>=61,"ब-2", IF(BB57>=51,"क-1", IF(BB57>=41,"क-2", IF(BB57>=33,"ड", IF(BB57>=21,"ई-1", IF(BB57<=20, "ई-2" ))))))))) -> ई-2 | BE57: =SUM(H57,N57,T57,Z57,AF57,AL57,AR57,AV57,AY57,BB57) -> 0 | BF57: =SUM(BE57*100)/BE12 -> 0 | BG57: =IF(BF57>=91,"अ-1", IF(BF57>=81,"अ-2", IF(BF57>=71,"ब-1", IF(BF57>=61,"ब-2", IF(BF57>=51,"क-1", IF(BF57>=41,"क-2", IF(BF57>=33,"ड", IF(BF57>=21,"ई-1", IF(BF57>=0, "ई-2" ))))))))) -> ई-2
B58: =Info_1!M50 -> 0 | C58: =Info_1!J50 -> 0 | D58: =Info_1!K50 -> 0 | E58: =Info_1!L50 -> 0 | F58: 0 | G58: 0 | H58: =SUM(F58:G58) -> 0 | J58: =IF(H58>=91,"अ-1", IF(H58>=81,"अ-2", IF(H58>=71,"ब-1", IF(H58>=61,"ब-2", IF(H58>=51,"क-1", IF(H58>=41,"क-2", IF(H58>=33,"ड", IF(H58>=21,"ई-1", IF(H58<=20, "ई-2" ))))))))) -> ई-2 | L58: 0 | M58: 0 | N58: =SUM(L58:M58) -> 0 | P58: =IF(N58>=91,"अ-1", IF(N58>=81,"अ-2", IF(N58>=71,"ब-1", IF(N58>=61,"ब-2", IF(N58>=51,"क-1", IF(N58>=41,"क-2", IF(N58>=33,"ड", IF(N58>=21,"ई-1", IF(N58<=20, "ई-2" ))))))))) -> ई-2 | R58: 0 | S58: 0 | T58: =SUM(R58:S58) -> 0 | V58: =IF(T58>=91,"अ-1", IF(T58>=81,"अ-2", IF(T58>=71,"ब-1", IF(T58>=61,"ब-2", IF(T58>=51,"क-1", IF(T58>=41,"क-2", IF(T58>=33,"ड", IF(T58>=21,"ई-1", IF(T58<=20, "ई-2" ))))))))) -> ई-2 | X58: 0 | Y58: 0 | Z58: =SUM(X58:Y58) -> 0 | AB58: =IF(Z58>=91,"अ-1", IF(Z58>=81,"अ-2", IF(Z58>=71,"ब-1", IF(Z58>=61,"ब-2", IF(Z58>=51,"क-1", IF(Z58>=41,"क-2", IF(Z58>=33,"ड", IF(Z58>=21,"ई-1", IF(Z58<=20, "ई-2" ))))))))) -> ई-2 | AD58: 0 | AE58: 0 | AF58: =SUM(AD58:AE58) -> 0 | AH58: =IF(AF58>=91,"अ-1", IF(AF58>=81,"अ-2", IF(AF58>=71,"ब-1", IF(AF58>=61,"ब-2", IF(AF58>=51,"क-1", IF(AF58>=41,"क-2", IF(AF58>=33,"ड", IF(AF58>=21,"ई-1", IF(AF58<=20, "ई-2" ))))))))) -> ई-2 | AJ58: 0 | AK58: 0 | AL58: =SUM(AJ58:AK58) -> 0 | AN58: =IF(AL58>=91,"अ-1", IF(AL58>=81,"अ-2", IF(AL58>=71,"ब-1", IF(AL58>=61,"ब-2", IF(AL58>=51,"क-1", IF(AL58>=41,"क-2", IF(AL58>=33,"ड", IF(AL58>=21,"ई-1", IF(AL58<=20, "ई-2" ))))))))) -> ई-2 | AP58: 0 | AQ58: 0 | AR58: =SUM(AP58:AQ58) -> 0 | AT58: =IF(AR58>=91,"अ-1", IF(AR58>=81,"अ-2", IF(AR58>=71,"ब-1", IF(AR58>=61,"ब-2", IF(AR58>=51,"क-1", IF(AR58>=41,"क-2", IF(AR58>=33,"ड", IF(AR58>=21,"ई-1", IF(AR58<=20, "ई-2" ))))))))) -> ई-2 | AV58: 0 | AW58: =IF(AV58>=91,"अ-1", IF(AV58>=81,"अ-2", IF(AV58>=71,"ब-1", IF(AV58>=61,"ब-2", IF(AV58>=51,"क-1", IF(AV58>=41,"क-2", IF(AV58>=33,"ड", IF(AV58>=21,"ई-1", IF(AV58<=20, "ई-2" ))))))))) -> ई-2 | AY58: 0 | AZ58: =IF(AY58>=91,"अ-1", IF(AY58>=81,"अ-2", IF(AY58>=71,"ब-1", IF(AY58>=61,"ब-2", IF(AY58>=51,"क-1", IF(AY58>=41,"क-2", IF(AY58>=33,"ड", IF(AY58>=21,"ई-1", IF(AY58<=20, "ई-2" ))))))))) -> ई-2 | BB58: 0 | BC58: =IF(BB58>=91,"अ-1", IF(BB58>=81,"अ-2", IF(BB58>=71,"ब-1", IF(BB58>=61,"ब-2", IF(BB58>=51,"क-1", IF(BB58>=41,"क-2", IF(BB58>=33,"ड", IF(BB58>=21,"ई-1", IF(BB58<=20, "ई-2" ))))))))) -> ई-2 | BE58: =SUM(H58,N58,T58,Z58,AF58,AL58,AR58,AV58,AY58,BB58) -> 0 | BF58: =SUM(BE58*100)/BE12 -> 0 | BG58: =IF(BF58>=91,"अ-1", IF(BF58>=81,"अ-2", IF(BF58>=71,"ब-1", IF(BF58>=61,"ब-2", IF(BF58>=51,"क-1", IF(BF58>=41,"क-2", IF(BF58>=33,"ड", IF(BF58>=21,"ई-1", IF(BF58>=0, "ई-2" ))))))))) -> ई-2
B59: =Info_1!M51 -> 0 | C59: =Info_1!J51 -> 0 | D59: =Info_1!K51 -> 0 | E59: =Info_1!L51 -> 0 | F59: 0 | G59: 0 | H59: =SUM(F59:G59) -> 0 | J59: =IF(H59>=91,"अ-1", IF(H59>=81,"अ-2", IF(H59>=71,"ब-1", IF(H59>=61,"ब-2", IF(H59>=51,"क-1", IF(H59>=41,"क-2", IF(H59>=33,"ड", IF(H59>=21,"ई-1", IF(H59<=20, "ई-2" ))))))))) -> ई-2 | L59: 0 | M59: 0 | N59: =SUM(L59:M59) -> 0 | P59: =IF(N59>=91,"अ-1", IF(N59>=81,"अ-2", IF(N59>=71,"ब-1", IF(N59>=61,"ब-2", IF(N59>=51,"क-1", IF(N59>=41,"क-2", IF(N59>=33,"ड", IF(N59>=21,"ई-1", IF(N59<=20, "ई-2" ))))))))) -> ई-2 | R59: 0 | S59: 0 | T59: =SUM(R59:S59) -> 0 | V59: =IF(T59>=91,"अ-1", IF(T59>=81,"अ-2", IF(T59>=71,"ब-1", IF(T59>=61,"ब-2", IF(T59>=51,"क-1", IF(T59>=41,"क-2", IF(T59>=33,"ड", IF(T59>=21,"ई-1", IF(T59<=20, "ई-2" ))))))))) -> ई-2 | X59: 0 | Y59: 0 | Z59: =SUM(X59:Y59) -> 0 | AB59: =IF(Z59>=91,"अ-1", IF(Z59>=81,"अ-2", IF(Z59>=71,"ब-1", IF(Z59>=61,"ब-2", IF(Z59>=51,"क-1", IF(Z59>=41,"क-2", IF(Z59>=33,"ड", IF(Z59>=21,"ई-1", IF(Z59<=20, "ई-2" ))))))))) -> ई-2 | AD59: 0 | AE59: 0 | AF59: =SUM(AD59:AE59) -> 0 | AH59: =IF(AF59>=91,"अ-1", IF(AF59>=81,"अ-2", IF(AF59>=71,"ब-1", IF(AF59>=61,"ब-2", IF(AF59>=51,"क-1", IF(AF59>=41,"क-2", IF(AF59>=33,"ड", IF(AF59>=21,"ई-1", IF(AF59<=20, "ई-2" ))))))))) -> ई-2 | AJ59: 0 | AK59: 0 | AL59: =SUM(AJ59:AK59) -> 0 | AN59: =IF(AL59>=91,"अ-1", IF(AL59>=81,"अ-2", IF(AL59>=71,"ब-1", IF(AL59>=61,"ब-2", IF(AL59>=51,"क-1", IF(AL59>=41,"क-2", IF(AL59>=33,"ड", IF(AL59>=21,"ई-1", IF(AL59<=20, "ई-2" ))))))))) -> ई-2 | AP59: 0 | AQ59: 0 | AR59: =SUM(AP59:AQ59) -> 0 | AT59: =IF(AR59>=91,"अ-1", IF(AR59>=81,"अ-2", IF(AR59>=71,"ब-1", IF(AR59>=61,"ब-2", IF(AR59>=51,"क-1", IF(AR59>=41,"क-2", IF(AR59>=33,"ड", IF(AR59>=21,"ई-1", IF(AR59<=20, "ई-2" ))))))))) -> ई-2 | AV59: 0 | AW59: =IF(AV59>=91,"अ-1", IF(AV59>=81,"अ-2", IF(AV59>=71,"ब-1", IF(AV59>=61,"ब-2", IF(AV59>=51,"क-1", IF(AV59>=41,"क-2", IF(AV59>=33,"ड", IF(AV59>=21,"ई-1", IF(AV59<=20, "ई-2" ))))))))) -> ई-2 | AY59: 0 | AZ59: =IF(AY59>=91,"अ-1", IF(AY59>=81,"अ-2", IF(AY59>=71,"ब-1", IF(AY59>=61,"ब-2", IF(AY59>=51,"क-1", IF(AY59>=41,"क-2", IF(AY59>=33,"ड", IF(AY59>=21,"ई-1", IF(AY59<=20, "ई-2" ))))))))) -> ई-2 | BB59: 0 | BC59: =IF(BB59>=91,"अ-1", IF(BB59>=81,"अ-2", IF(BB59>=71,"ब-1", IF(BB59>=61,"ब-2", IF(BB59>=51,"क-1", IF(BB59>=41,"क-2", IF(BB59>=33,"ड", IF(BB59>=21,"ई-1", IF(BB59<=20, "ई-2" ))))))))) -> ई-2 | BE59: =SUM(H59,N59,T59,Z59,AF59,AL59,AR59,AV59,AY59,BB59) -> 0 | BF59: =SUM(BE59*100)/BE12 -> 0 | BG59: =IF(BF59>=91,"अ-1", IF(BF59>=81,"अ-2", IF(BF59>=71,"ब-1", IF(BF59>=61,"ब-2", IF(BF59>=51,"क-1", IF(BF59>=41,"क-2", IF(BF59>=33,"ड", IF(BF59>=21,"ई-1", IF(BF59>=0, "ई-2" ))))))))) -> ई-2
B60: =Info_1!M52 -> 0 | C60: =Info_1!J52 -> 0 | D60: =Info_1!K52 -> 0 | E60: =Info_1!L52 -> 0 | F60: 0 | G60: 0 | H60: =SUM(F60:G60) -> 0 | J60: =IF(H60>=91,"अ-1", IF(H60>=81,"अ-2", IF(H60>=71,"ब-1", IF(H60>=61,"ब-2", IF(H60>=51,"क-1", IF(H60>=41,"क-2", IF(H60>=33,"ड", IF(H60>=21,"ई-1", IF(H60<=20, "ई-2" ))))))))) -> ई-2 | L60: 0 | M60: 0 | N60: =SUM(L60:M60) -> 0 | P60: =IF(N60>=91,"अ-1", IF(N60>=81,"अ-2", IF(N60>=71,"ब-1", IF(N60>=61,"ब-2", IF(N60>=51,"क-1", IF(N60>=41,"क-2", IF(N60>=33,"ड", IF(N60>=21,"ई-1", IF(N60<=20, "ई-2" ))))))))) -> ई-2 | R60: 0 | S60: 0 | T60: =SUM(R60:S60) -> 0 | V60: =IF(T60>=91,"अ-1", IF(T60>=81,"अ-2", IF(T60>=71,"ब-1", IF(T60>=61,"ब-2", IF(T60>=51,"क-1", IF(T60>=41,"क-2", IF(T60>=33,"ड", IF(T60>=21,"ई-1", IF(T60<=20, "ई-2" ))))))))) -> ई-2 | X60: 0 | Y60: 0 | Z60: =SUM(X60:Y60) -> 0 | AB60: =IF(Z60>=91,"अ-1", IF(Z60>=81,"अ-2", IF(Z60>=71,"ब-1", IF(Z60>=61,"ब-2", IF(Z60>=51,"क-1", IF(Z60>=41,"क-2", IF(Z60>=33,"ड", IF(Z60>=21,"ई-1", IF(Z60<=20, "ई-2" ))))))))) -> ई-2 | AD60: 0 | AE60: 0 | AF60: =SUM(AD60:AE60) -> 0 | AH60: =IF(AF60>=91,"अ-1", IF(AF60>=81,"अ-2", IF(AF60>=71,"ब-1", IF(AF60>=61,"ब-2", IF(AF60>=51,"क-1", IF(AF60>=41,"क-2", IF(AF60>=33,"ड", IF(AF60>=21,"ई-1", IF(AF60<=20, "ई-2" ))))))))) -> ई-2 | AJ60: 0 | AK60: 0 | AL60: =SUM(AJ60:AK60) -> 0 | AN60: =IF(AL60>=91,"अ-1", IF(AL60>=81,"अ-2", IF(AL60>=71,"ब-1", IF(AL60>=61,"ब-2", IF(AL60>=51,"क-1", IF(AL60>=41,"क-2", IF(AL60>=33,"ड", IF(AL60>=21,"ई-1", IF(AL60<=20, "ई-2" ))))))))) -> ई-2 | AP60: 0 | AQ60: 0 | AR60: =SUM(AP60:AQ60) -> 0 | AT60: =IF(AR60>=91,"अ-1", IF(AR60>=81,"अ-2", IF(AR60>=71,"ब-1", IF(AR60>=61,"ब-2", IF(AR60>=51,"क-1", IF(AR60>=41,"क-2", IF(AR60>=33,"ड", IF(AR60>=21,"ई-1", IF(AR60<=20, "ई-2" ))))))))) -> ई-2 | AV60: 0 | AW60: =IF(AV60>=91,"अ-1", IF(AV60>=81,"अ-2", IF(AV60>=71,"ब-1", IF(AV60>=61,"ब-2", IF(AV60>=51,"क-1", IF(AV60>=41,"क-2", IF(AV60>=33,"ड", IF(AV60>=21,"ई-1", IF(AV60<=20, "ई-2" ))))))))) -> ई-2 | AY60: 0 | AZ60: =IF(AY60>=91,"अ-1", IF(AY60>=81,"अ-2", IF(AY60>=71,"ब-1", IF(AY60>=61,"ब-2", IF(AY60>=51,"क-1", IF(AY60>=41,"क-2", IF(AY60>=33,"ड", IF(AY60>=21,"ई-1", IF(AY60<=20, "ई-2" ))))))))) -> ई-2 | BB60: 0 | BC60: =IF(BB60>=91,"अ-1", IF(BB60>=81,"अ-2", IF(BB60>=71,"ब-1", IF(BB60>=61,"ब-2", IF(BB60>=51,"क-1", IF(BB60>=41,"क-2", IF(BB60>=33,"ड", IF(BB60>=21,"ई-1", IF(BB60<=20, "ई-2" ))))))))) -> ई-2 | BE60: =SUM(H60,N60,T60,Z60,AF60,AL60,AR60,AV60,AY60,BB60) -> 0 | BF60: =SUM(BE60*100)/BE12 -> 0 | BG60: =IF(BF60>=91,"अ-1", IF(BF60>=81,"अ-2", IF(BF60>=71,"ब-1", IF(BF60>=61,"ब-2", IF(BF60>=51,"क-1", IF(BF60>=41,"क-2", IF(BF60>=33,"ड", IF(BF60>=21,"ई-1", IF(BF60>=0, "ई-2" ))))))))) -> ई-2
B61: =Info_1!M53 -> 0 | C61: =Info_1!J53 -> 0 | D61: =Info_1!K53 -> 0 | E61: =Info_1!L53 -> 0 | F61: 0 | G61: 0 | H61: =SUM(F61:G61) -> 0 | J61: =IF(H61>=91,"अ-1", IF(H61>=81,"अ-2", IF(H61>=71,"ब-1", IF(H61>=61,"ब-2", IF(H61>=51,"क-1", IF(H61>=41,"क-2", IF(H61>=33,"ड", IF(H61>=21,"ई-1", IF(H61<=20, "ई-2" ))))))))) -> ई-2 | L61: 0 | M61: 0 | N61: =SUM(L61:M61) -> 0 | P61: =IF(N61>=91,"अ-1", IF(N61>=81,"अ-2", IF(N61>=71,"ब-1", IF(N61>=61,"ब-2", IF(N61>=51,"क-1", IF(N61>=41,"क-2", IF(N61>=33,"ड", IF(N61>=21,"ई-1", IF(N61<=20, "ई-2" ))))))))) -> ई-2 | R61: 0 | S61: 0 | T61: =SUM(R61:S61) -> 0 | V61: =IF(T61>=91,"अ-1", IF(T61>=81,"अ-2", IF(T61>=71,"ब-1", IF(T61>=61,"ब-2", IF(T61>=51,"क-1", IF(T61>=41,"क-2", IF(T61>=33,"ड", IF(T61>=21,"ई-1", IF(T61<=20, "ई-2" ))))))))) -> ई-2 | X61: 0 | Y61: 0 | Z61: =SUM(X61:Y61) -> 0 | AB61: =IF(Z61>=91,"अ-1", IF(Z61>=81,"अ-2", IF(Z61>=71,"ब-1", IF(Z61>=61,"ब-2", IF(Z61>=51,"क-1", IF(Z61>=41,"क-2", IF(Z61>=33,"ड", IF(Z61>=21,"ई-1", IF(Z61<=20, "ई-2" ))))))))) -> ई-2 | AD61: 0 | AE61: 0 | AF61: =SUM(AD61:AE61) -> 0 | AH61: =IF(AF61>=91,"अ-1", IF(AF61>=81,"अ-2", IF(AF61>=71,"ब-1", IF(AF61>=61,"ब-2", IF(AF61>=51,"क-1", IF(AF61>=41,"क-2", IF(AF61>=33,"ड", IF(AF61>=21,"ई-1", IF(AF61<=20, "ई-2" ))))))))) -> ई-2 | AJ61: 0 | AK61: 0 | AL61: =SUM(AJ61:AK61) -> 0 | AN61: =IF(AL61>=91,"अ-1", IF(AL61>=81,"अ-2", IF(AL61>=71,"ब-1", IF(AL61>=61,"ब-2", IF(AL61>=51,"क-1", IF(AL61>=41,"क-2", IF(AL61>=33,"ड", IF(AL61>=21,"ई-1", IF(AL61<=20, "ई-2" ))))))))) -> ई-2 | AP61: 0 | AQ61: 0 | AR61: =SUM(AP61:AQ61) -> 0 | AT61: =IF(AR61>=91,"अ-1", IF(AR61>=81,"अ-2", IF(AR61>=71,"ब-1", IF(AR61>=61,"ब-2", IF(AR61>=51,"क-1", IF(AR61>=41,"क-2", IF(AR61>=33,"ड", IF(AR61>=21,"ई-1", IF(AR61<=20, "ई-2" ))))))))) -> ई-2 | AV61: 0 | AW61: =IF(AV61>=91,"अ-1", IF(AV61>=81,"अ-2", IF(AV61>=71,"ब-1", IF(AV61>=61,"ब-2", IF(AV61>=51,"क-1", IF(AV61>=41,"क-2", IF(AV61>=33,"ड", IF(AV61>=21,"ई-1", IF(AV61<=20, "ई-2" ))))))))) -> ई-2 | AY61: 0 | AZ61: =IF(AY61>=91,"अ-1", IF(AY61>=81,"अ-2", IF(AY61>=71,"ब-1", IF(AY61>=61,"ब-2", IF(AY61>=51,"क-1", IF(AY61>=41,"क-2", IF(AY61>=33,"ड", IF(AY61>=21,"ई-1", IF(AY61<=20, "ई-2" ))))))))) -> ई-2 | BB61: 0 | BC61: =IF(BB61>=91,"अ-1", IF(BB61>=81,"अ-2", IF(BB61>=71,"ब-1", IF(BB61>=61,"ब-2", IF(BB61>=51,"क-1", IF(BB61>=41,"क-2", IF(BB61>=33,"ड", IF(BB61>=21,"ई-1", IF(BB61<=20, "ई-2" ))))))))) -> ई-2 | BE61: =SUM(H61,N61,T61,Z61,AF61,AL61,AR61,AV61,AY61,BB61) -> 0 | BF61: =SUM(BE61*100)/BE12 -> 0 | BG61: =IF(BF61>=91,"अ-1", IF(BF61>=81,"अ-2", IF(BF61>=71,"ब-1", IF(BF61>=61,"ब-2", IF(BF61>=51,"क-1", IF(BF61>=41,"क-2", IF(BF61>=33,"ड", IF(BF61>=21,"ई-1", IF(BF61>=0, "ई-2" ))))))))) -> ई-2
B62: =Info_1!M54 -> 0 | C62: =Info_1!J54 -> 0 | D62: =Info_1!K54 -> 0 | E62: =Info_1!L54 -> 0 | F62: 0 | G62: 0 | H62: =SUM(F62:G62) -> 0 | J62: =IF(H62>=91,"अ-1", IF(H62>=81,"अ-2", IF(H62>=71,"ब-1", IF(H62>=61,"ब-2", IF(H62>=51,"क-1", IF(H62>=41,"क-2", IF(H62>=33,"ड", IF(H62>=21,"ई-1", IF(H62<=20, "ई-2" ))))))))) -> ई-2 | L62: 0 | M62: 0 | N62: =SUM(L62:M62) -> 0 | P62: =IF(N62>=91,"अ-1", IF(N62>=81,"अ-2", IF(N62>=71,"ब-1", IF(N62>=61,"ब-2", IF(N62>=51,"क-1", IF(N62>=41,"क-2", IF(N62>=33,"ड", IF(N62>=21,"ई-1", IF(N62<=20, "ई-2" ))))))))) -> ई-2 | R62: 0 | S62: 0 | T62: =SUM(R62:S62) -> 0 | V62: =IF(T62>=91,"अ-1", IF(T62>=81,"अ-2", IF(T62>=71,"ब-1", IF(T62>=61,"ब-2", IF(T62>=51,"क-1", IF(T62>=41,"क-2", IF(T62>=33,"ड", IF(T62>=21,"ई-1", IF(T62<=20, "ई-2" ))))))))) -> ई-2 | X62: 0 | Y62: 0 | Z62: =SUM(X62:Y62) -> 0 | AB62: =IF(Z62>=91,"अ-1", IF(Z62>=81,"अ-2", IF(Z62>=71,"ब-1", IF(Z62>=61,"ब-2", IF(Z62>=51,"क-1", IF(Z62>=41,"क-2", IF(Z62>=33,"ड", IF(Z62>=21,"ई-1", IF(Z62<=20, "ई-2" ))))))))) -> ई-2 | AD62: 0 | AE62: 0 | AF62: =SUM(AD62:AE62) -> 0 | AH62: =IF(AF62>=91,"अ-1", IF(AF62>=81,"अ-2", IF(AF62>=71,"ब-1", IF(AF62>=61,"ब-2", IF(AF62>=51,"क-1", IF(AF62>=41,"क-2", IF(AF62>=33,"ड", IF(AF62>=21,"ई-1", IF(AF62<=20, "ई-2" ))))))))) -> ई-2 | AJ62: 0 | AK62: 0 | AL62: =SUM(AJ62:AK62) -> 0 | AN62: =IF(AL62>=91,"अ-1", IF(AL62>=81,"अ-2", IF(AL62>=71,"ब-1", IF(AL62>=61,"ब-2", IF(AL62>=51,"क-1", IF(AL62>=41,"क-2", IF(AL62>=33,"ड", IF(AL62>=21,"ई-1", IF(AL62<=20, "ई-2" ))))))))) -> ई-2 | AP62: 0 | AQ62: 0 | AR62: =SUM(AP62:AQ62) -> 0 | AT62: =IF(AR62>=91,"अ-1", IF(AR62>=81,"अ-2", IF(AR62>=71,"ब-1", IF(AR62>=61,"ब-2", IF(AR62>=51,"क-1", IF(AR62>=41,"क-2", IF(AR62>=33,"ड", IF(AR62>=21,"ई-1", IF(AR62<=20, "ई-2" ))))))))) -> ई-2 | AV62: 0 | AW62: =IF(AV62>=91,"अ-1", IF(AV62>=81,"अ-2", IF(AV62>=71,"ब-1", IF(AV62>=61,"ब-2", IF(AV62>=51,"क-1", IF(AV62>=41,"क-2", IF(AV62>=33,"ड", IF(AV62>=21,"ई-1", IF(AV62<=20, "ई-2" ))))))))) -> ई-2 | AY62: 0 | AZ62: =IF(AY62>=91,"अ-1", IF(AY62>=81,"अ-2", IF(AY62>=71,"ब-1", IF(AY62>=61,"ब-2", IF(AY62>=51,"क-1", IF(AY62>=41,"क-2", IF(AY62>=33,"ड", IF(AY62>=21,"ई-1", IF(AY62<=20, "ई-2" ))))))))) -> ई-2 | BB62: 0 | BC62: =IF(BB62>=91,"अ-1", IF(BB62>=81,"अ-2", IF(BB62>=71,"ब-1", IF(BB62>=61,"ब-2", IF(BB62>=51,"क-1", IF(BB62>=41,"क-2", IF(BB62>=33,"ड", IF(BB62>=21,"ई-1", IF(BB62<=20, "ई-2" ))))))))) -> ई-2 | BE62: =SUM(H62,N62,T62,Z62,AF62,AL62,AR62,AV62,AY62,BB62) -> 0 | BF62: =SUM(BE62*100)/BE12 -> 0 | BG62: =IF(BF62>=91,"अ-1", IF(BF62>=81,"अ-2", IF(BF62>=71,"ब-1", IF(BF62>=61,"ब-2", IF(BF62>=51,"क-1", IF(BF62>=41,"क-2", IF(BF62>=33,"ड", IF(BF62>=21,"ई-1", IF(BF62>=0, "ई-2" ))))))))) -> ई-2
B63: =Info_1!M55 -> 0 | C63: =Info_1!J55 -> 0 | D63: =Info_1!K55 -> 0 | E63: =Info_1!L55 -> 0 | F63: 0 | G63: 0 | H63: =SUM(F63:G63) -> 0 | J63: =IF(H63>=91,"अ-1", IF(H63>=81,"अ-2", IF(H63>=71,"ब-1", IF(H63>=61,"ब-2", IF(H63>=51,"क-1", IF(H63>=41,"क-2", IF(H63>=33,"ड", IF(H63>=21,"ई-1", IF(H63<=20, "ई-2" ))))))))) -> ई-2 | L63: 0 | M63: 0 | N63: =SUM(L63:M63) -> 0 | P63: =IF(N63>=91,"अ-1", IF(N63>=81,"अ-2", IF(N63>=71,"ब-1", IF(N63>=61,"ब-2", IF(N63>=51,"क-1", IF(N63>=41,"क-2", IF(N63>=33,"ड", IF(N63>=21,"ई-1", IF(N63<=20, "ई-2" ))))))))) -> ई-2 | R63: 0 | S63: 0 | T63: =SUM(R63:S63) -> 0 | V63: =IF(T63>=91,"अ-1", IF(T63>=81,"अ-2", IF(T63>=71,"ब-1", IF(T63>=61,"ब-2", IF(T63>=51,"क-1", IF(T63>=41,"क-2", IF(T63>=33,"ड", IF(T63>=21,"ई-1", IF(T63<=20, "ई-2" ))))))))) -> ई-2 | X63: 0 | Y63: 0 | Z63: =SUM(X63:Y63) -> 0 | AB63: =IF(Z63>=91,"अ-1", IF(Z63>=81,"अ-2", IF(Z63>=71,"ब-1", IF(Z63>=61,"ब-2", IF(Z63>=51,"क-1", IF(Z63>=41,"क-2", IF(Z63>=33,"ड", IF(Z63>=21,"ई-1", IF(Z63<=20, "ई-2" ))))))))) -> ई-2 | AD63: 0 | AE63: 0 | AF63: =SUM(AD63:AE63) -> 0 | AH63: =IF(AF63>=91,"अ-1", IF(AF63>=81,"अ-2", IF(AF63>=71,"ब-1", IF(AF63>=61,"ब-2", IF(AF63>=51,"क-1", IF(AF63>=41,"क-2", IF(AF63>=33,"ड", IF(AF63>=21,"ई-1", IF(AF63<=20, "ई-2" ))))))))) -> ई-2 | AJ63: 0 | AK63: 0 | AL63: =SUM(AJ63:AK63) -> 0 | AN63: =IF(AL63>=91,"अ-1", IF(AL63>=81,"अ-2", IF(AL63>=71,"ब-1", IF(AL63>=61,"ब-2", IF(AL63>=51,"क-1", IF(AL63>=41,"क-2", IF(AL63>=33,"ड", IF(AL63>=21,"ई-1", IF(AL63<=20, "ई-2" ))))))))) -> ई-2 | AP63: 0 | AQ63: 0 | AR63: =SUM(AP63:AQ63) -> 0 | AT63: =IF(AR63>=91,"अ-1", IF(AR63>=81,"अ-2", IF(AR63>=71,"ब-1", IF(AR63>=61,"ब-2", IF(AR63>=51,"क-1", IF(AR63>=41,"क-2", IF(AR63>=33,"ड", IF(AR63>=21,"ई-1", IF(AR63<=20, "ई-2" ))))))))) -> ई-2 | AV63: 0 | AW63: =IF(AV63>=91,"अ-1", IF(AV63>=81,"अ-2", IF(AV63>=71,"ब-1", IF(AV63>=61,"ब-2", IF(AV63>=51,"क-1", IF(AV63>=41,"क-2", IF(AV63>=33,"ड", IF(AV63>=21,"ई-1", IF(AV63<=20, "ई-2" ))))))))) -> ई-2 | AY63: 0 | AZ63: =IF(AY63>=91,"अ-1", IF(AY63>=81,"अ-2", IF(AY63>=71,"ब-1", IF(AY63>=61,"ब-2", IF(AY63>=51,"क-1", IF(AY63>=41,"क-2", IF(AY63>=33,"ड", IF(AY63>=21,"ई-1", IF(AY63<=20, "ई-2" ))))))))) -> ई-2 | BB63: 0 | BC63: =IF(BB63>=91,"अ-1", IF(BB63>=81,"अ-2", IF(BB63>=71,"ब-1", IF(BB63>=61,"ब-2", IF(BB63>=51,"क-1", IF(BB63>=41,"क-2", IF(BB63>=33,"ड", IF(BB63>=21,"ई-1", IF(BB63<=20, "ई-2" ))))))))) -> ई-2 | BE63: =SUM(H63,N63,T63,Z63,AF63,AL63,AR63,AV63,AY63,BB63) -> 0 | BF63: =SUM(BE63*100)/BE12 -> 0 | BG63: =IF(BF63>=91,"अ-1", IF(BF63>=81,"अ-2", IF(BF63>=71,"ब-1", IF(BF63>=61,"ब-2", IF(BF63>=51,"क-1", IF(BF63>=41,"क-2", IF(BF63>=33,"ड", IF(BF63>=21,"ई-1", IF(BF63>=0, "ई-2" ))))))))) -> ई-2
B64: =Info_1!M56 -> 0 | C64: =Info_1!J56 -> 0 | D64: =Info_1!K56 -> 0 | E64: =Info_1!L56 -> 0 | F64: 0 | G64: 0 | H64: =SUM(F64:G64) -> 0 | J64: =IF(H64>=91,"अ-1", IF(H64>=81,"अ-2", IF(H64>=71,"ब-1", IF(H64>=61,"ब-2", IF(H64>=51,"क-1", IF(H64>=41,"क-2", IF(H64>=33,"ड", IF(H64>=21,"ई-1", IF(H64<=20, "ई-2" ))))))))) -> ई-2 | L64: 0 | M64: 0 | N64: =SUM(L64:M64) -> 0 | P64: =IF(N64>=91,"अ-1", IF(N64>=81,"अ-2", IF(N64>=71,"ब-1", IF(N64>=61,"ब-2", IF(N64>=51,"क-1", IF(N64>=41,"क-2", IF(N64>=33,"ड", IF(N64>=21,"ई-1", IF(N64<=20, "ई-2" ))))))))) -> ई-2 | R64: 0 | S64: 0 | T64: =SUM(R64:S64) -> 0 | V64: =IF(T64>=91,"अ-1", IF(T64>=81,"अ-2", IF(T64>=71,"ब-1", IF(T64>=61,"ब-2", IF(T64>=51,"क-1", IF(T64>=41,"क-2", IF(T64>=33,"ड", IF(T64>=21,"ई-1", IF(T64<=20, "ई-2" ))))))))) -> ई-2 | X64: 0 | Y64: 0 | Z64: =SUM(X64:Y64) -> 0 | AB64: =IF(Z64>=91,"अ-1", IF(Z64>=81,"अ-2", IF(Z64>=71,"ब-1", IF(Z64>=61,"ब-2", IF(Z64>=51,"क-1", IF(Z64>=41,"क-2", IF(Z64>=33,"ड", IF(Z64>=21,"ई-1", IF(Z64<=20, "ई-2" ))))))))) -> ई-2 | AD64: 0 | AE64: 0 | AF64: =SUM(AD64:AE64) -> 0 | AH64: =IF(AF64>=91,"अ-1", IF(AF64>=81,"अ-2", IF(AF64>=71,"ब-1", IF(AF64>=61,"ब-2", IF(AF64>=51,"क-1", IF(AF64>=41,"क-2", IF(AF64>=33,"ड", IF(AF64>=21,"ई-1", IF(AF64<=20, "ई-2" ))))))))) -> ई-2 | AJ64: 0 | AK64: 0 | AL64: =SUM(AJ64:AK64) -> 0 | AN64: =IF(AL64>=91,"अ-1", IF(AL64>=81,"अ-2", IF(AL64>=71,"ब-1", IF(AL64>=61,"ब-2", IF(AL64>=51,"क-1", IF(AL64>=41,"क-2", IF(AL64>=33,"ड", IF(AL64>=21,"ई-1", IF(AL64<=20, "ई-2" ))))))))) -> ई-2 | AP64: 0 | AQ64: 0 | AR64: =SUM(AP64:AQ64) -> 0 | AT64: =IF(AR64>=91,"अ-1", IF(AR64>=81,"अ-2", IF(AR64>=71,"ब-1", IF(AR64>=61,"ब-2", IF(AR64>=51,"क-1", IF(AR64>=41,"क-2", IF(AR64>=33,"ड", IF(AR64>=21,"ई-1", IF(AR64<=20, "ई-2" ))))))))) -> ई-2 | AV64: 0 | AW64: =IF(AV64>=91,"अ-1", IF(AV64>=81,"अ-2", IF(AV64>=71,"ब-1", IF(AV64>=61,"ब-2", IF(AV64>=51,"क-1", IF(AV64>=41,"क-2", IF(AV64>=33,"ड", IF(AV64>=21,"ई-1", IF(AV64<=20, "ई-2" ))))))))) -> ई-2 | AY64: 0 | AZ64: =IF(AY64>=91,"अ-1", IF(AY64>=81,"अ-2", IF(AY64>=71,"ब-1", IF(AY64>=61,"ब-2", IF(AY64>=51,"क-1", IF(AY64>=41,"क-2", IF(AY64>=33,"ड", IF(AY64>=21,"ई-1", IF(AY64<=20, "ई-2" ))))))))) -> ई-2 | BB64: 0 | BC64: =IF(BB64>=91,"अ-1", IF(BB64>=81,"अ-2", IF(BB64>=71,"ब-1", IF(BB64>=61,"ब-2", IF(BB64>=51,"क-1", IF(BB64>=41,"क-2", IF(BB64>=33,"ड", IF(BB64>=21,"ई-1", IF(BB64<=20, "ई-2" ))))))))) -> ई-2 | BE64: =SUM(H64,N64,T64,Z64,AF64,AL64,AR64,AV64,AY64,BB64) -> 0 | BF64: =SUM(BE64*100)/BE12 -> 0 | BG64: =IF(BF64>=91,"अ-1", IF(BF64>=81,"अ-2", IF(BF64>=71,"ब-1", IF(BF64>=61,"ब-2", IF(BF64>=51,"क-1", IF(BF64>=41,"क-2", IF(BF64>=33,"ड", IF(BF64>=21,"ई-1", IF(BF64>=0, "ई-2" ))))))))) -> ई-2
B65: =Info_1!M57 -> 0 | C65: =Info_1!J57 -> 0 | D65: =Info_1!K57 -> 0 | E65: =Info_1!L57 -> 0 | F65: 0 | G65: 0 | H65: =SUM(F65:G65) -> 0 | J65: =IF(H65>=91,"अ-1", IF(H65>=81,"अ-2", IF(H65>=71,"ब-1", IF(H65>=61,"ब-2", IF(H65>=51,"क-1", IF(H65>=41,"क-2", IF(H65>=33,"ड", IF(H65>=21,"ई-1", IF(H65<=20, "ई-2" ))))))))) -> ई-2 | L65: 0 | M65: 0 | N65: =SUM(L65:M65) -> 0 | P65: =IF(N65>=91,"अ-1", IF(N65>=81,"अ-2", IF(N65>=71,"ब-1", IF(N65>=61,"ब-2", IF(N65>=51,"क-1", IF(N65>=41,"क-2", IF(N65>=33,"ड", IF(N65>=21,"ई-1", IF(N65<=20, "ई-2" ))))))))) -> ई-2 | R65: 0 | S65: 0 | T65: =SUM(R65:S65) -> 0 | V65: =IF(T65>=91,"अ-1", IF(T65>=81,"अ-2", IF(T65>=71,"ब-1", IF(T65>=61,"ब-2", IF(T65>=51,"क-1", IF(T65>=41,"क-2", IF(T65>=33,"ड", IF(T65>=21,"ई-1", IF(T65<=20, "ई-2" ))))))))) -> ई-2 | X65: 0 | Y65: 0 | Z65: =SUM(X65:Y65) -> 0 | AB65: =IF(Z65>=91,"अ-1", IF(Z65>=81,"अ-2", IF(Z65>=71,"ब-1", IF(Z65>=61,"ब-2", IF(Z65>=51,"क-1", IF(Z65>=41,"क-2", IF(Z65>=33,"ड", IF(Z65>=21,"ई-1", IF(Z65<=20, "ई-2" ))))))))) -> ई-2 | AD65: 0 | AE65: 0 | AF65: =SUM(AD65:AE65) -> 0 | AH65: =IF(AF65>=91,"अ-1", IF(AF65>=81,"अ-2", IF(AF65>=71,"ब-1", IF(AF65>=61,"ब-2", IF(AF65>=51,"क-1", IF(AF65>=41,"क-2", IF(AF65>=33,"ड", IF(AF65>=21,"ई-1", IF(AF65<=20, "ई-2" ))))))))) -> ई-2 | AJ65: 0 | AK65: 0 | AL65: =SUM(AJ65:AK65) -> 0 | AN65: =IF(AL65>=91,"अ-1", IF(AL65>=81,"अ-2", IF(AL65>=71,"ब-1", IF(AL65>=61,"ब-2", IF(AL65>=51,"क-1", IF(AL65>=41,"क-2", IF(AL65>=33,"ड", IF(AL65>=21,"ई-1", IF(AL65<=20, "ई-2" ))))))))) -> ई-2 | AP65: 0 | AQ65: 0 | AR65: =SUM(AP65:AQ65) -> 0 | AT65: =IF(AR65>=91,"अ-1", IF(AR65>=81,"अ-2", IF(AR65>=71,"ब-1", IF(AR65>=61,"ब-2", IF(AR65>=51,"क-1", IF(AR65>=41,"क-2", IF(AR65>=33,"ड", IF(AR65>=21,"ई-1", IF(AR65<=20, "ई-2" ))))))))) -> ई-2 | AV65: 0 | AW65: =IF(AV65>=91,"अ-1", IF(AV65>=81,"अ-2", IF(AV65>=71,"ब-1", IF(AV65>=61,"ब-2", IF(AV65>=51,"क-1", IF(AV65>=41,"क-2", IF(AV65>=33,"ड", IF(AV65>=21,"ई-1", IF(AV65<=20, "ई-2" ))))))))) -> ई-2 | AY65: 0 | AZ65: =IF(AY65>=91,"अ-1", IF(AY65>=81,"अ-2", IF(AY65>=71,"ब-1", IF(AY65>=61,"ब-2", IF(AY65>=51,"क-1", IF(AY65>=41,"क-2", IF(AY65>=33,"ड", IF(AY65>=21,"ई-1", IF(AY65<=20, "ई-2" ))))))))) -> ई-2 | BB65: 0 | BC65: =IF(BB65>=91,"अ-1", IF(BB65>=81,"अ-2", IF(BB65>=71,"ब-1", IF(BB65>=61,"ब-2", IF(BB65>=51,"क-1", IF(BB65>=41,"क-2", IF(BB65>=33,"ड", IF(BB65>=21,"ई-1", IF(BB65<=20, "ई-2" ))))))))) -> ई-2 | BE65: =SUM(H65,N65,T65,Z65,AF65,AL65,AR65,AV65,AY65,BB65) -> 0 | BF65: =SUM(BE65*100)/BE12 -> 0 | BG65: =IF(BF65>=91,"अ-1", IF(BF65>=81,"अ-2", IF(BF65>=71,"ब-1", IF(BF65>=61,"ब-2", IF(BF65>=51,"क-1", IF(BF65>=41,"क-2", IF(BF65>=33,"ड", IF(BF65>=21,"ई-1", IF(BF65>=0, "ई-2" ))))))))) -> ई-2
B66: =Info_1!M58 -> 0 | C66: =Info_1!J58 -> 0 | D66: =Info_1!K58 -> 0 | E66: =Info_1!L58 -> 0 | F66: 0 | G66: 0 | H66: =SUM(F66:G66) -> 0 | J66: =IF(H66>=91,"अ-1", IF(H66>=81,"अ-2", IF(H66>=71,"ब-1", IF(H66>=61,"ब-2", IF(H66>=51,"क-1", IF(H66>=41,"क-2", IF(H66>=33,"ड", IF(H66>=21,"ई-1", IF(H66<=20, "ई-2" ))))))))) -> ई-2 | L66: 0 | M66: 0 | N66: =SUM(L66:M66) -> 0 | P66: =IF(N66>=91,"अ-1", IF(N66>=81,"अ-2", IF(N66>=71,"ब-1", IF(N66>=61,"ब-2", IF(N66>=51,"क-1", IF(N66>=41,"क-2", IF(N66>=33,"ड", IF(N66>=21,"ई-1", IF(N66<=20, "ई-2" ))))))))) -> ई-2 | R66: 0 | S66: 0 | T66: =SUM(R66:S66) -> 0 | V66: =IF(T66>=91,"अ-1", IF(T66>=81,"अ-2", IF(T66>=71,"ब-1", IF(T66>=61,"ब-2", IF(T66>=51,"क-1", IF(T66>=41,"क-2", IF(T66>=33,"ड", IF(T66>=21,"ई-1", IF(T66<=20, "ई-2" ))))))))) -> ई-2 | X66: 0 | Y66: 0 | Z66: =SUM(X66:Y66) -> 0 | AB66: =IF(Z66>=91,"अ-1", IF(Z66>=81,"अ-2", IF(Z66>=71,"ब-1", IF(Z66>=61,"ब-2", IF(Z66>=51,"क-1", IF(Z66>=41,"क-2", IF(Z66>=33,"ड", IF(Z66>=21,"ई-1", IF(Z66<=20, "ई-2" ))))))))) -> ई-2 | AD66: 0 | AE66: 0 | AF66: =SUM(AD66:AE66) -> 0 | AH66: =IF(AF66>=91,"अ-1", IF(AF66>=81,"अ-2", IF(AF66>=71,"ब-1", IF(AF66>=61,"ब-2", IF(AF66>=51,"क-1", IF(AF66>=41,"क-2", IF(AF66>=33,"ड", IF(AF66>=21,"ई-1", IF(AF66<=20, "ई-2" ))))))))) -> ई-2 | AJ66: 0 | AK66: 0 | AL66: =SUM(AJ66:AK66) -> 0 | AN66: =IF(AL66>=91,"अ-1", IF(AL66>=81,"अ-2", IF(AL66>=71,"ब-1", IF(AL66>=61,"ब-2", IF(AL66>=51,"क-1", IF(AL66>=41,"क-2", IF(AL66>=33,"ड", IF(AL66>=21,"ई-1", IF(AL66<=20, "ई-2" ))))))))) -> ई-2 | AP66: 0 | AQ66: 0 | AR66: =SUM(AP66:AQ66) -> 0 | AT66: =IF(AR66>=91,"अ-1", IF(AR66>=81,"अ-2", IF(AR66>=71,"ब-1", IF(AR66>=61,"ब-2", IF(AR66>=51,"क-1", IF(AR66>=41,"क-2", IF(AR66>=33,"ड", IF(AR66>=21,"ई-1", IF(AR66<=20, "ई-2" ))))))))) -> ई-2 | AV66: 0 | AW66: =IF(AV66>=91,"अ-1", IF(AV66>=81,"अ-2", IF(AV66>=71,"ब-1", IF(AV66>=61,"ब-2", IF(AV66>=51,"क-1", IF(AV66>=41,"क-2", IF(AV66>=33,"ड", IF(AV66>=21,"ई-1", IF(AV66<=20, "ई-2" ))))))))) -> ई-2 | AY66: 0 | AZ66: =IF(AY66>=91,"अ-1", IF(AY66>=81,"अ-2", IF(AY66>=71,"ब-1", IF(AY66>=61,"ब-2", IF(AY66>=51,"क-1", IF(AY66>=41,"क-2", IF(AY66>=33,"ड", IF(AY66>=21,"ई-1", IF(AY66<=20, "ई-2" ))))))))) -> ई-2 | BB66: 0 | BC66: =IF(BB66>=91,"अ-1", IF(BB66>=81,"अ-2", IF(BB66>=71,"ब-1", IF(BB66>=61,"ब-2", IF(BB66>=51,"क-1", IF(BB66>=41,"क-2", IF(BB66>=33,"ड", IF(BB66>=21,"ई-1", IF(BB66<=20, "ई-2" ))))))))) -> ई-2 | BE66: =SUM(H66,N66,T66,Z66,AF66,AL66,AR66,AV66,AY66,BB66) -> 0 | BF66: =SUM(BE66*100)/BE12 -> 0 | BG66: =IF(BF66>=91,"अ-1", IF(BF66>=81,"अ-2", IF(BF66>=71,"ब-1", IF(BF66>=61,"ब-2", IF(BF66>=51,"क-1", IF(BF66>=41,"क-2", IF(BF66>=33,"ड", IF(BF66>=21,"ई-1", IF(BF66>=0, "ई-2" ))))))))) -> ई-2
B67: =Info_1!M59 -> 0 | C67: =Info_1!J59 -> 0 | D67: =Info_1!K59 -> 0 | E67: =Info_1!L59 -> 0 | F67: 0 | G67: 0 | H67: =SUM(F67:G67) -> 0 | J67: =IF(H67>=91,"अ-1", IF(H67>=81,"अ-2", IF(H67>=71,"ब-1", IF(H67>=61,"ब-2", IF(H67>=51,"क-1", IF(H67>=41,"क-2", IF(H67>=33,"ड", IF(H67>=21,"ई-1", IF(H67<=20, "ई-2" ))))))))) -> ई-2 | L67: 0 | M67: 0 | N67: =SUM(L67:M67) -> 0 | P67: =IF(N67>=91,"अ-1", IF(N67>=81,"अ-2", IF(N67>=71,"ब-1", IF(N67>=61,"ब-2", IF(N67>=51,"क-1", IF(N67>=41,"क-2", IF(N67>=33,"ड", IF(N67>=21,"ई-1", IF(N67<=20, "ई-2" ))))))))) -> ई-2 | R67: 0 | S67: 0 | T67: =SUM(R67:S67) -> 0 | V67: =IF(T67>=91,"अ-1", IF(T67>=81,"अ-2", IF(T67>=71,"ब-1", IF(T67>=61,"ब-2", IF(T67>=51,"क-1", IF(T67>=41,"क-2", IF(T67>=33,"ड", IF(T67>=21,"ई-1", IF(T67<=20, "ई-2" ))))))))) -> ई-2 | X67: 0 | Y67: 0 | Z67: =SUM(X67:Y67) -> 0 | AB67: =IF(Z67>=91,"अ-1", IF(Z67>=81,"अ-2", IF(Z67>=71,"ब-1", IF(Z67>=61,"ब-2", IF(Z67>=51,"क-1", IF(Z67>=41,"क-2", IF(Z67>=33,"ड", IF(Z67>=21,"ई-1", IF(Z67<=20, "ई-2" ))))))))) -> ई-2 | AD67: 0 | AE67: 0 | AF67: =SUM(AD67:AE67) -> 0 | AH67: =IF(AF67>=91,"अ-1", IF(AF67>=81,"अ-2", IF(AF67>=71,"ब-1", IF(AF67>=61,"ब-2", IF(AF67>=51,"क-1", IF(AF67>=41,"क-2", IF(AF67>=33,"ड", IF(AF67>=21,"ई-1", IF(AF67<=20, "ई-2" ))))))))) -> ई-2 | AJ67: 0 | AK67: 0 | AL67: =SUM(AJ67:AK67) -> 0 | AN67: =IF(AL67>=91,"अ-1", IF(AL67>=81,"अ-2", IF(AL67>=71,"ब-1", IF(AL67>=61,"ब-2", IF(AL67>=51,"क-1", IF(AL67>=41,"क-2", IF(AL67>=33,"ड", IF(AL67>=21,"ई-1", IF(AL67<=20, "ई-2" ))))))))) -> ई-2 | AP67: 0 | AQ67: 0 | AR67: =SUM(AP67:AQ67) -> 0 | AT67: =IF(AR67>=91,"अ-1", IF(AR67>=81,"अ-2", IF(AR67>=71,"ब-1", IF(AR67>=61,"ब-2", IF(AR67>=51,"क-1", IF(AR67>=41,"क-2", IF(AR67>=33,"ड", IF(AR67>=21,"ई-1", IF(AR67<=20, "ई-2" ))))))))) -> ई-2 | AV67: 0 | AW67: =IF(AV67>=91,"अ-1", IF(AV67>=81,"अ-2", IF(AV67>=71,"ब-1", IF(AV67>=61,"ब-2", IF(AV67>=51,"क-1", IF(AV67>=41,"क-2", IF(AV67>=33,"ड", IF(AV67>=21,"ई-1", IF(AV67<=20, "ई-2" ))))))))) -> ई-2 | AY67: 0 | AZ67: =IF(AY67>=91,"अ-1", IF(AY67>=81,"अ-2", IF(AY67>=71,"ब-1", IF(AY67>=61,"ब-2", IF(AY67>=51,"क-1", IF(AY67>=41,"क-2", IF(AY67>=33,"ड", IF(AY67>=21,"ई-1", IF(AY67<=20, "ई-2" ))))))))) -> ई-2 | BB67: 0 | BC67: =IF(BB67>=91,"अ-1", IF(BB67>=81,"अ-2", IF(BB67>=71,"ब-1", IF(BB67>=61,"ब-2", IF(BB67>=51,"क-1", IF(BB67>=41,"क-2", IF(BB67>=33,"ड", IF(BB67>=21,"ई-1", IF(BB67<=20, "ई-2" ))))))))) -> ई-2 | BE67: =SUM(H67,N67,T67,Z67,AF67,AL67,AR67,AV67,AY67,BB67) -> 0 | BF67: =SUM(BE67*100)/BE12 -> 0 | BG67: =IF(BF67>=91,"अ-1", IF(BF67>=81,"अ-2", IF(BF67>=71,"ब-1", IF(BF67>=61,"ब-2", IF(BF67>=51,"क-1", IF(BF67>=41,"क-2", IF(BF67>=33,"ड", IF(BF67>=21,"ई-1", IF(BF67>=0, "ई-2" ))))))))) -> ई-2
B68: =Info_1!M60 -> 0 | C68: =Info_1!J60 -> 0 | D68: =Info_1!K60 -> 0 | E68: =Info_1!L60 -> 0 | F68: 0 | G68: 0 | H68: =SUM(F68:G68) -> 0 | J68: =IF(H68>=91,"अ-1", IF(H68>=81,"अ-2", IF(H68>=71,"ब-1", IF(H68>=61,"ब-2", IF(H68>=51,"क-1", IF(H68>=41,"क-2", IF(H68>=33,"ड", IF(H68>=21,"ई-1", IF(H68<=20, "ई-2" ))))))))) -> ई-2 | L68: 0 | M68: 0 | N68: =SUM(L68:M68) -> 0 | P68: =IF(N68>=91,"अ-1", IF(N68>=81,"अ-2", IF(N68>=71,"ब-1", IF(N68>=61,"ब-2", IF(N68>=51,"क-1", IF(N68>=41,"क-2", IF(N68>=33,"ड", IF(N68>=21,"ई-1", IF(N68<=20, "ई-2" ))))))))) -> ई-2 | R68: 0 | S68: 0 | T68: =SUM(R68:S68) -> 0 | V68: =IF(T68>=91,"अ-1", IF(T68>=81,"अ-2", IF(T68>=71,"ब-1", IF(T68>=61,"ब-2", IF(T68>=51,"क-1", IF(T68>=41,"क-2", IF(T68>=33,"ड", IF(T68>=21,"ई-1", IF(T68<=20, "ई-2" ))))))))) -> ई-2 | X68: 0 | Y68: 0 | Z68: =SUM(X68:Y68) -> 0 | AB68: =IF(Z68>=91,"अ-1", IF(Z68>=81,"अ-2", IF(Z68>=71,"ब-1", IF(Z68>=61,"ब-2", IF(Z68>=51,"क-1", IF(Z68>=41,"क-2", IF(Z68>=33,"ड", IF(Z68>=21,"ई-1", IF(Z68<=20, "ई-2" ))))))))) -> ई-2 | AD68: 0 | AE68: 0 | AF68: =SUM(AD68:AE68) -> 0 | AH68: =IF(AF68>=91,"अ-1", IF(AF68>=81,"अ-2", IF(AF68>=71,"ब-1", IF(AF68>=61,"ब-2", IF(AF68>=51,"क-1", IF(AF68>=41,"क-2", IF(AF68>=33,"ड", IF(AF68>=21,"ई-1", IF(AF68<=20, "ई-2" ))))))))) -> ई-2 | AJ68: 0 | AK68: 0 | AL68: =SUM(AJ68:AK68) -> 0 | AN68: =IF(AL68>=91,"अ-1", IF(AL68>=81,"अ-2", IF(AL68>=71,"ब-1", IF(AL68>=61,"ब-2", IF(AL68>=51,"क-1", IF(AL68>=41,"क-2", IF(AL68>=33,"ड", IF(AL68>=21,"ई-1", IF(AL68<=20, "ई-2" ))))))))) -> ई-2 | AP68: 0 | AQ68: 0 | AR68: =SUM(AP68:AQ68) -> 0 | AT68: =IF(AR68>=91,"अ-1", IF(AR68>=81,"अ-2", IF(AR68>=71,"ब-1", IF(AR68>=61,"ब-2", IF(AR68>=51,"क-1", IF(AR68>=41,"क-2", IF(AR68>=33,"ड", IF(AR68>=21,"ई-1", IF(AR68<=20, "ई-2" ))))))))) -> ई-2 | AV68: 0 | AW68: =IF(AV68>=91,"अ-1", IF(AV68>=81,"अ-2", IF(AV68>=71,"ब-1", IF(AV68>=61,"ब-2", IF(AV68>=51,"क-1", IF(AV68>=41,"क-2", IF(AV68>=33,"ड", IF(AV68>=21,"ई-1", IF(AV68<=20, "ई-2" ))))))))) -> ई-2 | AY68: 0 | AZ68: =IF(AY68>=91,"अ-1", IF(AY68>=81,"अ-2", IF(AY68>=71,"ब-1", IF(AY68>=61,"ब-2", IF(AY68>=51,"क-1", IF(AY68>=41,"क-2", IF(AY68>=33,"ड", IF(AY68>=21,"ई-1", IF(AY68<=20, "ई-2" ))))))))) -> ई-2 | BB68: 0 | BC68: =IF(BB68>=91,"अ-1", IF(BB68>=81,"अ-2", IF(BB68>=71,"ब-1", IF(BB68>=61,"ब-2", IF(BB68>=51,"क-1", IF(BB68>=41,"क-2", IF(BB68>=33,"ड", IF(BB68>=21,"ई-1", IF(BB68<=20, "ई-2" ))))))))) -> ई-2 | BE68: =SUM(H68,N68,T68,Z68,AF68,AL68,AR68,AV68,AY68,BB68) -> 0 | BF68: =SUM(BE68*100)/BE12 -> 0 | BG68: =IF(BF68>=91,"अ-1", IF(BF68>=81,"अ-2", IF(BF68>=71,"ब-1", IF(BF68>=61,"ब-2", IF(BF68>=51,"क-1", IF(BF68>=41,"क-2", IF(BF68>=33,"ड", IF(BF68>=21,"ई-1", IF(BF68>=0, "ई-2" ))))))))) -> ई-2
B69: =Info_1!M61 -> 0 | C69: =Info_1!J61 -> 0 | D69: =Info_1!K61 -> 0 | E69: =Info_1!L61 -> 0 | F69: 0 | G69: 0 | H69: =SUM(F69:G69) -> 0 | J69: =IF(H69>=91,"अ-1", IF(H69>=81,"अ-2", IF(H69>=71,"ब-1", IF(H69>=61,"ब-2", IF(H69>=51,"क-1", IF(H69>=41,"क-2", IF(H69>=33,"ड", IF(H69>=21,"ई-1", IF(H69<=20, "ई-2" ))))))))) -> ई-2 | L69: 0 | M69: 0 | N69: =SUM(L69:M69) -> 0 | P69: =IF(N69>=91,"अ-1", IF(N69>=81,"अ-2", IF(N69>=71,"ब-1", IF(N69>=61,"ब-2", IF(N69>=51,"क-1", IF(N69>=41,"क-2", IF(N69>=33,"ड", IF(N69>=21,"ई-1", IF(N69<=20, "ई-2" ))))))))) -> ई-2 | R69: 0 | S69: 0 | T69: =SUM(R69:S69) -> 0 | V69: =IF(T69>=91,"अ-1", IF(T69>=81,"अ-2", IF(T69>=71,"ब-1", IF(T69>=61,"ब-2", IF(T69>=51,"क-1", IF(T69>=41,"क-2", IF(T69>=33,"ड", IF(T69>=21,"ई-1", IF(T69<=20, "ई-2" ))))))))) -> ई-2 | X69: 0 | Y69: 0 | Z69: =SUM(X69:Y69) -> 0 | AB69: =IF(Z69>=91,"अ-1", IF(Z69>=81,"अ-2", IF(Z69>=71,"ब-1", IF(Z69>=61,"ब-2", IF(Z69>=51,"क-1", IF(Z69>=41,"क-2", IF(Z69>=33,"ड", IF(Z69>=21,"ई-1", IF(Z69<=20, "ई-2" ))))))))) -> ई-2 | AD69: 0 | AE69: 0 | AF69: =SUM(AD69:AE69) -> 0 | AH69: =IF(AF69>=91,"अ-1", IF(AF69>=81,"अ-2", IF(AF69>=71,"ब-1", IF(AF69>=61,"ब-2", IF(AF69>=51,"क-1", IF(AF69>=41,"क-2", IF(AF69>=33,"ड", IF(AF69>=21,"ई-1", IF(AF69<=20, "ई-2" ))))))))) -> ई-2 | AJ69: 0 | AK69: 0 | AL69: =SUM(AJ69:AK69) -> 0 | AN69: =IF(AL69>=91,"अ-1", IF(AL69>=81,"अ-2", IF(AL69>=71,"ब-1", IF(AL69>=61,"ब-2", IF(AL69>=51,"क-1", IF(AL69>=41,"क-2", IF(AL69>=33,"ड", IF(AL69>=21,"ई-1", IF(AL69<=20, "ई-2" ))))))))) -> ई-2 | AP69: 0 | AQ69: 0 | AR69: =SUM(AP69:AQ69) -> 0 | AT69: =IF(AR69>=91,"अ-1", IF(AR69>=81,"अ-2", IF(AR69>=71,"ब-1", IF(AR69>=61,"ब-2", IF(AR69>=51,"क-1", IF(AR69>=41,"क-2", IF(AR69>=33,"ड", IF(AR69>=21,"ई-1", IF(AR69<=20, "ई-2" ))))))))) -> ई-2 | AV69: 0 | AW69: =IF(AV69>=91,"अ-1", IF(AV69>=81,"अ-2", IF(AV69>=71,"ब-1", IF(AV69>=61,"ब-2", IF(AV69>=51,"क-1", IF(AV69>=41,"क-2", IF(AV69>=33,"ड", IF(AV69>=21,"ई-1", IF(AV69<=20, "ई-2" ))))))))) -> ई-2 | AY69: 0 | AZ69: =IF(AY69>=91,"अ-1", IF(AY69>=81,"अ-2", IF(AY69>=71,"ब-1", IF(AY69>=61,"ब-2", IF(AY69>=51,"क-1", IF(AY69>=41,"क-2", IF(AY69>=33,"ड", IF(AY69>=21,"ई-1", IF(AY69<=20, "ई-2" ))))))))) -> ई-2 | BB69: 0 | BC69: =IF(BB69>=91,"अ-1", IF(BB69>=81,"अ-2", IF(BB69>=71,"ब-1", IF(BB69>=61,"ब-2", IF(BB69>=51,"क-1", IF(BB69>=41,"क-2", IF(BB69>=33,"ड", IF(BB69>=21,"ई-1", IF(BB69<=20, "ई-2" ))))))))) -> ई-2 | BE69: =SUM(H69,N69,T69,Z69,AF69,AL69,AR69,AV69,AY69,BB69) -> 0 | BF69: =SUM(BE69*100)/BE12 -> 0 | BG69: =IF(BF69>=91,"अ-1", IF(BF69>=81,"अ-2", IF(BF69>=71,"ब-1", IF(BF69>=61,"ब-2", IF(BF69>=51,"क-1", IF(BF69>=41,"क-2", IF(BF69>=33,"ड", IF(BF69>=21,"ई-1", IF(BF69>=0, "ई-2" ))))))))) -> ई-2
B70: =Info_1!M62 -> 0 | C70: =Info_1!J62 -> 0 | D70: =Info_1!K62 -> 0 | E70: =Info_1!L62 -> 0 | F70: 0 | G70: 0 | H70: =SUM(F70:G70) -> 0 | J70: =IF(H70>=91,"अ-1", IF(H70>=81,"अ-2", IF(H70>=71,"ब-1", IF(H70>=61,"ब-2", IF(H70>=51,"क-1", IF(H70>=41,"क-2", IF(H70>=33,"ड", IF(H70>=21,"ई-1", IF(H70<=20, "ई-2" ))))))))) -> ई-2 | L70: 0 | M70: 0 | N70: =SUM(L70:M70) -> 0 | P70: =IF(N70>=91,"अ-1", IF(N70>=81,"अ-2", IF(N70>=71,"ब-1", IF(N70>=61,"ब-2", IF(N70>=51,"क-1", IF(N70>=41,"क-2", IF(N70>=33,"ड", IF(N70>=21,"ई-1", IF(N70<=20, "ई-2" ))))))))) -> ई-2 | R70: 0 | S70: 0 | T70: =SUM(R70:S70) -> 0 | V70: =IF(T70>=91,"अ-1", IF(T70>=81,"अ-2", IF(T70>=71,"ब-1", IF(T70>=61,"ब-2", IF(T70>=51,"क-1", IF(T70>=41,"क-2", IF(T70>=33,"ड", IF(T70>=21,"ई-1", IF(T70<=20, "ई-2" ))))))))) -> ई-2 | X70: 0 | Y70: 0 | Z70: =SUM(X70:Y70) -> 0 | AB70: =IF(Z70>=91,"अ-1", IF(Z70>=81,"अ-2", IF(Z70>=71,"ब-1", IF(Z70>=61,"ब-2", IF(Z70>=51,"क-1", IF(Z70>=41,"क-2", IF(Z70>=33,"ड", IF(Z70>=21,"ई-1", IF(Z70<=20, "ई-2" ))))))))) -> ई-2 | AD70: 0 | AE70: 0 | AF70: =SUM(AD70:AE70) -> 0 | AH70: =IF(AF70>=91,"अ-1", IF(AF70>=81,"अ-2", IF(AF70>=71,"ब-1", IF(AF70>=61,"ब-2", IF(AF70>=51,"क-1", IF(AF70>=41,"क-2", IF(AF70>=33,"ड", IF(AF70>=21,"ई-1", IF(AF70<=20, "ई-2" ))))))))) -> ई-2 | AJ70: 0 | AK70: 0 | AL70: =SUM(AJ70:AK70) -> 0 | AN70: =IF(AL70>=91,"अ-1", IF(AL70>=81,"अ-2", IF(AL70>=71,"ब-1", IF(AL70>=61,"ब-2", IF(AL70>=51,"क-1", IF(AL70>=41,"क-2", IF(AL70>=33,"ड", IF(AL70>=21,"ई-1", IF(AL70<=20, "ई-2" ))))))))) -> ई-2 | AP70: 0 | AQ70: 0 | AR70: =SUM(AP70:AQ70) -> 0 | AT70: =IF(AR70>=91,"अ-1", IF(AR70>=81,"अ-2", IF(AR70>=71,"ब-1", IF(AR70>=61,"ब-2", IF(AR70>=51,"क-1", IF(AR70>=41,"क-2", IF(AR70>=33,"ड", IF(AR70>=21,"ई-1", IF(AR70<=20, "ई-2" ))))))))) -> ई-2 | AV70: 0 | AW70: =IF(AV70>=91,"अ-1", IF(AV70>=81,"अ-2", IF(AV70>=71,"ब-1", IF(AV70>=61,"ब-2", IF(AV70>=51,"क-1", IF(AV70>=41,"क-2", IF(AV70>=33,"ड", IF(AV70>=21,"ई-1", IF(AV70<=20, "ई-2" ))))))))) -> ई-2 | AY70: 0 | AZ70: =IF(AY70>=91,"अ-1", IF(AY70>=81,"अ-2", IF(AY70>=71,"ब-1", IF(AY70>=61,"ब-2", IF(AY70>=51,"क-1", IF(AY70>=41,"क-2", IF(AY70>=33,"ड", IF(AY70>=21,"ई-1", IF(AY70<=20, "ई-2" ))))))))) -> ई-2 | BB70: 0 | BC70: =IF(BB70>=91,"अ-1", IF(BB70>=81,"अ-2", IF(BB70>=71,"ब-1", IF(BB70>=61,"ब-2", IF(BB70>=51,"क-1", IF(BB70>=41,"क-2", IF(BB70>=33,"ड", IF(BB70>=21,"ई-1", IF(BB70<=20, "ई-2" ))))))))) -> ई-2 | BE70: =SUM(H70,N70,T70,Z70,AF70,AL70,AR70,AV70,AY70,BB70) -> 0 | BF70: =SUM(BE70*100)/BE12 -> 0 | BG70: =IF(BF70>=91,"अ-1", IF(BF70>=81,"अ-2", IF(BF70>=71,"ब-1", IF(BF70>=61,"ब-2", IF(BF70>=51,"क-1", IF(BF70>=41,"क-2", IF(BF70>=33,"ड", IF(BF70>=21,"ई-1", IF(BF70>=0, "ई-2" ))))))))) -> ई-2
B71: =Info_1!M63 -> 0 | C71: =Info_1!J63 -> 0 | D71: =Info_1!K63 -> 0 | E71: =Info_1!L63 -> 0 | F71: 0 | G71: 0 | H71: =SUM(F71:G71) -> 0 | J71: =IF(H71>=91,"अ-1", IF(H71>=81,"अ-2", IF(H71>=71,"ब-1", IF(H71>=61,"ब-2", IF(H71>=51,"क-1", IF(H71>=41,"क-2", IF(H71>=33,"ड", IF(H71>=21,"ई-1", IF(H71<=20, "ई-2" ))))))))) -> ई-2 | L71: 0 | M71: 0 | N71: =SUM(L71:M71) -> 0 | P71: =IF(N71>=91,"अ-1", IF(N71>=81,"अ-2", IF(N71>=71,"ब-1", IF(N71>=61,"ब-2", IF(N71>=51,"क-1", IF(N71>=41,"क-2", IF(N71>=33,"ड", IF(N71>=21,"ई-1", IF(N71<=20, "ई-2" ))))))))) -> ई-2 | R71: 0 | S71: 0 | T71: =SUM(R71:S71) -> 0 | V71: =IF(T71>=91,"अ-1", IF(T71>=81,"अ-2", IF(T71>=71,"ब-1", IF(T71>=61,"ब-2", IF(T71>=51,"क-1", IF(T71>=41,"क-2", IF(T71>=33,"ड", IF(T71>=21,"ई-1", IF(T71<=20, "ई-2" ))))))))) -> ई-2 | X71: 0 | Y71: 0 | Z71: =SUM(X71:Y71) -> 0 | AB71: =IF(Z71>=91,"अ-1", IF(Z71>=81,"अ-2", IF(Z71>=71,"ब-1", IF(Z71>=61,"ब-2", IF(Z71>=51,"क-1", IF(Z71>=41,"क-2", IF(Z71>=33,"ड", IF(Z71>=21,"ई-1", IF(Z71<=20, "ई-2" ))))))))) -> ई-2 | AD71: 0 | AE71: 0 | AF71: =SUM(AD71:AE71) -> 0 | AH71: =IF(AF71>=91,"अ-1", IF(AF71>=81,"अ-2", IF(AF71>=71,"ब-1", IF(AF71>=61,"ब-2", IF(AF71>=51,"क-1", IF(AF71>=41,"क-2", IF(AF71>=33,"ड", IF(AF71>=21,"ई-1", IF(AF71<=20, "ई-2" ))))))))) -> ई-2 | AJ71: 0 | AK71: 0 | AL71: =SUM(AJ71:AK71) -> 0 | AN71: =IF(AL71>=91,"अ-1", IF(AL71>=81,"अ-2", IF(AL71>=71,"ब-1", IF(AL71>=61,"ब-2", IF(AL71>=51,"क-1", IF(AL71>=41,"क-2", IF(AL71>=33,"ड", IF(AL71>=21,"ई-1", IF(AL71<=20, "ई-2" ))))))))) -> ई-2 | AP71: 0 | AQ71: 0 | AR71: =SUM(AP71:AQ71) -> 0 | AT71: =IF(AR71>=91,"अ-1", IF(AR71>=81,"अ-2", IF(AR71>=71,"ब-1", IF(AR71>=61,"ब-2", IF(AR71>=51,"क-1", IF(AR71>=41,"क-2", IF(AR71>=33,"ड", IF(AR71>=21,"ई-1", IF(AR71<=20, "ई-2" ))))))))) -> ई-2 | AV71: 0 | AW71: =IF(AV71>=91,"अ-1", IF(AV71>=81,"अ-2", IF(AV71>=71,"ब-1", IF(AV71>=61,"ब-2", IF(AV71>=51,"क-1", IF(AV71>=41,"क-2", IF(AV71>=33,"ड", IF(AV71>=21,"ई-1", IF(AV71<=20, "ई-2" ))))))))) -> ई-2 | AY71: 0 | AZ71: =IF(AY71>=91,"अ-1", IF(AY71>=81,"अ-2", IF(AY71>=71,"ब-1", IF(AY71>=61,"ब-2", IF(AY71>=51,"क-1", IF(AY71>=41,"क-2", IF(AY71>=33,"ड", IF(AY71>=21,"ई-1", IF(AY71<=20, "ई-2" ))))))))) -> ई-2 | BB71: 0 | BC71: =IF(BB71>=91,"अ-1", IF(BB71>=81,"अ-2", IF(BB71>=71,"ब-1", IF(BB71>=61,"ब-2", IF(BB71>=51,"क-1", IF(BB71>=41,"क-2", IF(BB71>=33,"ड", IF(BB71>=21,"ई-1", IF(BB71<=20, "ई-2" ))))))))) -> ई-2 | BE71: =SUM(H71,N71,T71,Z71,AF71,AL71,AR71,AV71,AY71,BB71) -> 0 | BF71: =SUM(BE71*100)/BE12 -> 0 | BG71: =IF(BF71>=91,"अ-1", IF(BF71>=81,"अ-2", IF(BF71>=71,"ब-1", IF(BF71>=61,"ब-2", IF(BF71>=51,"क-1", IF(BF71>=41,"क-2", IF(BF71>=33,"ड", IF(BF71>=21,"ई-1", IF(BF71>=0, "ई-2" ))))))))) -> ई-2
B72: =Info_1!M64 -> 0 | C72: =Info_1!J64 -> 0 | D72: =Info_1!K64 -> 0 | E72: =Info_1!L64 -> 0 | F72: 0 | G72: 0 | H72: =SUM(F72:G72) -> 0 | J72: =IF(H72>=91,"अ-1", IF(H72>=81,"अ-2", IF(H72>=71,"ब-1", IF(H72>=61,"ब-2", IF(H72>=51,"क-1", IF(H72>=41,"क-2", IF(H72>=33,"ड", IF(H72>=21,"ई-1", IF(H72<=20, "ई-2" ))))))))) -> ई-2 | L72: 0 | M72: 0 | N72: =SUM(L72:M72) -> 0 | P72: =IF(N72>=91,"अ-1", IF(N72>=81,"अ-2", IF(N72>=71,"ब-1", IF(N72>=61,"ब-2", IF(N72>=51,"क-1", IF(N72>=41,"क-2", IF(N72>=33,"ड", IF(N72>=21,"ई-1", IF(N72<=20, "ई-2" ))))))))) -> ई-2 | R72: 0 | S72: 0 | T72: =SUM(R72:S72) -> 0 | V72: =IF(T72>=91,"अ-1", IF(T72>=81,"अ-2", IF(T72>=71,"ब-1", IF(T72>=61,"ब-2", IF(T72>=51,"क-1", IF(T72>=41,"क-2", IF(T72>=33,"ड", IF(T72>=21,"ई-1", IF(T72<=20, "ई-2" ))))))))) -> ई-2 | X72: 0 | Y72: 0 | Z72: =SUM(X72:Y72) -> 0 | AB72: =IF(Z72>=91,"अ-1", IF(Z72>=81,"अ-2", IF(Z72>=71,"ब-1", IF(Z72>=61,"ब-2", IF(Z72>=51,"क-1", IF(Z72>=41,"क-2", IF(Z72>=33,"ड", IF(Z72>=21,"ई-1", IF(Z72<=20, "ई-2" ))))))))) -> ई-2 | AD72: 0 | AE72: 0 | AF72: =SUM(AD72:AE72) -> 0 | AH72: =IF(AF72>=91,"अ-1", IF(AF72>=81,"अ-2", IF(AF72>=71,"ब-1", IF(AF72>=61,"ब-2", IF(AF72>=51,"क-1", IF(AF72>=41,"क-2", IF(AF72>=33,"ड", IF(AF72>=21,"ई-1", IF(AF72<=20, "ई-2" ))))))))) -> ई-2 | AJ72: 0 | AK72: 0 | AL72: =SUM(AJ72:AK72) -> 0 | AN72: =IF(AL72>=91,"अ-1", IF(AL72>=81,"अ-2", IF(AL72>=71,"ब-1", IF(AL72>=61,"ब-2", IF(AL72>=51,"क-1", IF(AL72>=41,"क-2", IF(AL72>=33,"ड", IF(AL72>=21,"ई-1", IF(AL72<=20, "ई-2" ))))))))) -> ई-2 | AP72: 0 | AQ72: 0 | AR72: =SUM(AP72:AQ72) -> 0 | AT72: =IF(AR72>=91,"अ-1", IF(AR72>=81,"अ-2", IF(AR72>=71,"ब-1", IF(AR72>=61,"ब-2", IF(AR72>=51,"क-1", IF(AR72>=41,"क-2", IF(AR72>=33,"ड", IF(AR72>=21,"ई-1", IF(AR72<=20, "ई-2" ))))))))) -> ई-2 | AV72: 0 | AW72: =IF(AV72>=91,"अ-1", IF(AV72>=81,"अ-2", IF(AV72>=71,"ब-1", IF(AV72>=61,"ब-2", IF(AV72>=51,"क-1", IF(AV72>=41,"क-2", IF(AV72>=33,"ड", IF(AV72>=21,"ई-1", IF(AV72<=20, "ई-2" ))))))))) -> ई-2 | AY72: 0 | AZ72: =IF(AY72>=91,"अ-1", IF(AY72>=81,"अ-2", IF(AY72>=71,"ब-1", IF(AY72>=61,"ब-2", IF(AY72>=51,"क-1", IF(AY72>=41,"क-2", IF(AY72>=33,"ड", IF(AY72>=21,"ई-1", IF(AY72<=20, "ई-2" ))))))))) -> ई-2 | BB72: 0 | BC72: =IF(BB72>=91,"अ-1", IF(BB72>=81,"अ-2", IF(BB72>=71,"ब-1", IF(BB72>=61,"ब-2", IF(BB72>=51,"क-1", IF(BB72>=41,"क-2", IF(BB72>=33,"ड", IF(BB72>=21,"ई-1", IF(BB72<=20, "ई-2" ))))))))) -> ई-2 | BE72: =SUM(H72,N72,T72,Z72,AF72,AL72,AR72,AV72,AY72,BB72) -> 0 | BF72: =SUM(BE72*100)/BE12 -> 0 | BG72: =IF(BF72>=91,"अ-1", IF(BF72>=81,"अ-2", IF(BF72>=71,"ब-1", IF(BF72>=61,"ब-2", IF(BF72>=51,"क-1", IF(BF72>=41,"क-2", IF(BF72>=33,"ड", IF(BF72>=21,"ई-1", IF(BF72>=0, "ई-2" ))))))))) -> ई-2

Sheet Takta_B
B1: सातत्यपूर्ण सर्वंकष मूल्यमापन - | F1: =Takta_A!Q3 -> 2 | H1: वर्गस्तर संकलन ( तक्ता - ब ) | K1: =Takta_A!AG3 -> 2024 - 25
A3: शाळा : | C3: =Info_1!D5 -> School Name | J3: इयत्ता : | K3: =Info_1!D13 -> 6 | L3: वर्ग : | M3: =Info_1!F13 -> A
A4: hellomitra.in
A5: अनु.क्र. | B5: विषय | C5: श्रेणी | D5: मुली | E5: मुले | F5: श्रेणी प्राप्त विद्यार्थी संख्या | H5: अनु.क्र. | I5: विषय | J5: श्रेणी | K5: मुली | L5: मुले | M5: श्रेणी प्राप्त विद्यार्थी संख्या
A7: 1 | B7: प्रथम भाषा | C7: अ - 1 | D7: =SUMPRODUCT(--(Takta_A!E13:E72="F"),--(Takta_A!J13:J72="अ-1")) -> 0 | E7: =SUMPRODUCT(--(Takta_A!E13:E72="M"),--(Takta_A!J13:J72="अ-1")) -> 0 | F7: =SUM(D7:E7) -> 0 | G7: arvindgg | H7: 7 | I7: सामाजिक शास्त्र | J7: अ - 1 | K7: =SUMPRODUCT(--(Takta_A!E13:E72="F"),--(Takta_A!AN13:AN72="अ-1")) -> 0 | L7: =SUMPRODUCT(--(Takta_A!E13:E72="M"),--(Takta_A!AN13:AN72="अ-1")) -> 0 | M7: =SUM(K7:L7) -> 0
C8: अ - 2 | D8: =SUMPRODUCT(--(Takta_A!E13:E72="F"),--(Takta_A!J13:J72="अ-2")) -> 0 | E8: =SUMPRODUCT(--(Takta_A!E13:E72="M"),--(Takta_A!J13:J72="अ-2")) -> 0 | F8: =SUM(D8:E8) -> 0 | J8: अ - 2 | K8: =SUMPRODUCT(--(Takta_A!E13:E72="F"),--(Takta_A!AN13:AN72="अ-2")) -> 0 | L8: =SUMPRODUCT(--(Takta_A!E13:E72="M"),--(Takta_A!AN13:AN72="अ-2")) -> 0 | M8: =SUM(K8:L8) -> 0
C9: ब - 1 | D9: =SUMPRODUCT(--(Takta_A!E13:E72="F"),--(Takta_A!J13:J72="ब-1")) -> 0 | E9: =SUMPRODUCT(--(Takta_A!E13:E72="M"),--(Takta_A!J13:J72="ब-1")) -> 0 | F9: =SUM(D9:E9) -> 0 | J9: ब - 1 | K9: =SUMPRODUCT(--(Takta_A!E13:E72="F"),--(Takta_A!AN13:AN72="ब-1")) -> 0 | L9: =SUMPRODUCT(--(Takta_A!E13:E72="M"),--(Takta_A!AN13:AN72="ब-1")) -> 0 | M9: =SUM(K9:L9) -> 0
C10: ब - 2 | D10: =SUMPRODUCT(--(Takta_A!E13:E72="F"),--(Takta_A!J13:J72="ब-2")) -> 0 | E10: =SUMPRODUCT(--(Takta_A!E13:E72="M"),--(Takta_A!J13:J72="ब-2")) -> 0 | F10: =SUM(D10:E10) -> 0 | J10: ब - 2 | K10: =SUMPRODUCT(--(Takta_A!E13:E72="F"),--(Takta_A!AN13:AN72="ब-2")) -> 0 | L10: =SUMPRODUCT(--(Takta_A!E13:E72="M"),--(Takta_A!AN13:AN72="ब-2")) -> 0 | M10: =SUM(K10:L10) -> 0
C11: क - 1 | D11: =SUMPRODUCT(--(Takta_A!E13:E72="F"),--(Takta_A!J13:J72="क-1")) -> 0 | E11: =SUMPRODUCT(--(Takta_A!E13:E72="M"),--(Takta_A!J13:J72="क-1")) -> 0 | F11: =SUM(D11:E11) -> 0 | J11: क - 1 | K11: =SUMPRODUCT(--(Takta_A!E13:E72="F"),--(Takta_A!AN13:AN72="क-1")) -> 0 | L11: =SUMPRODUCT(--(Takta_A!E13:E72="M"),--(Takta_A!AN13:AN72="क-1")) -> 0 | M11: =SUM(K11:L11) -> 0
C12: क - 2 | D12: =SUMPRODUCT(--(Takta_A!E13:E72="F"),--(Takta_A!J13:J72="क-2")) -> 0 | E12: =SUMPRODUCT(--(Takta_A!E13:E72="M"),--(Takta_A!J13:J72="क-2")) -> 0 | F12: =SUM(D12:E12) -> 0 | J12: क - 2 | K12: =SUMPRODUCT(--(Takta_A!E13:E72="F"),--(Takta_A!AN13:AN72="क-2")) -> 0 | L12: =SUMPRODUCT(--(Takta_A!E13:E72="M"),--(Takta_A!AN13:AN72="क-2")) -> 0 | M12: =SUM(K12:L12) -> 0
C13: क - 2 च्या खालील श्रेणी | D13: =SUMPRODUCT(--(Takta_A!E13:E72="F"),--(Takta_A!J13:J72="ड")+(--(Takta_A!J13:J72="ई-1")+(--(Takta_A!J13:J72="ई-2")))) -> 0 | E13: =SUMPRODUCT(--(Takta_A!E13:E72="M"),--(Takta_A!J13:J72="ड")+(--(Takta_A!J13:J72="ई-1")+(--(Takta_A!J13:J72="ई-2")))) -> 0 | F13: =SUM(D13:E13) -> 0 | J13: क - 2 च्या खालील श्रेणी | K13: =SUMPRODUCT(--(Takta_A!E13:E72="F"),--(Takta_A!AN13:AN72="ड")+(--(Takta_A!AN13:AN72="ई-1")+(--(Takta_A!AN13:AN72="ई-2")))) -> 0 | L13: =SUMPRODUCT(--(Takta_A!E13:E72="M"),--(Takta_A!AN13:AN72="ड")+(--(Takta_A!AN13:AN72="ई-1")+(--(Takta_A!AN13:AN72="ई-2")))) -> 0 | M13: =SUM(K13:L13) -> 0
A14: 2 | B14: द्वितीय भाषा (मराठी) | C14: अ - 1 | D14: =SUMPRODUCT(--(Takta_A!E13:E72="F"),--(Takta_A!P13:P72="अ-1")) -> 0 | E14: =SUMPRODUCT(--(Takta_A!E13:E72="M"),--(Takta_A!P13:P72="अ-1")) -> 0 | F14: =SUM(D14:E14) -> 0 | H14: 8 | I14: कला | J14: अ - 1 | K14: =SUMPRODUCT(--(Takta_A!E13:E72="F"),--(Takta_A!AW13:AW72="अ-1")) -> 0 | L14: =SUMPRODUCT(--(Takta_A!E13:E72="M"),--(Takta_A!AW13:AW72="अ-1")) -> 0 | M14: =SUM(K14:L14) -> 0
C15: अ - 2 | D15: =SUMPRODUCT(--(Takta_A!E13:E72="F"),--(Takta_A!P13:P72="अ-2")) -> 0 | E15: =SUMPRODUCT(--(Takta_A!E13:E72="M"),--(Takta_A!P13:P72="अ-2")) -> 0 | F15: =SUM(D15:E15) -> 0 | J15: अ - 2 | K15: =SUMPRODUCT(--(Takta_A!E13:E72="F"),--(Takta_A!AW13:AW72="अ-2")) -> 0 | L15: =SUMPRODUCT(--(Takta_A!E13:E72="M"),--(Takta_A!AW13:AW72="अ-2")) -> 0 | M15: =SUM(K15:L15) -> 0
C16: ब - 1 | D16: =SUMPRODUCT(--(Takta_A!E13:E72="F"),--(Takta_A!P13:P72="ब-1")) -> 0 | E16: =SUMPRODUCT(--(Takta_A!E13:E72="M"),--(Takta_A!P13:P72="ब-1")) -> 0 | F16: =SUM(D16:E16) -> 0 | J16: ब - 1 | K16: =SUMPRODUCT(--(Takta_A!E13:E72="F"),--(Takta_A!AW13:AW72="ब-1")) -> 0 | L16: =SUMPRODUCT(--(Takta_A!E13:E72="M"),--(Takta_A!AW13:AW72="ब-1")) -> 0 | M16: =SUM(K16:L16) -> 0
C17: ब - 2 | D17: =SUMPRODUCT(--(Takta_A!E13:E72="F"),--(Takta_A!P13:P72="ब-2")) -> 0 | E17: =SUMPRODUCT(--(Takta_A!E13:E72="M"),--(Takta_A!P13:P72="ब-2")) -> 0 | F17: =SUM(D17:E17) -> 0 | J17: ब - 2 | K17: =SUMPRODUCT(--(Takta_A!E13:E72="F"),--(Takta_A!AW13:AW72="ब-2")) -> 0 | L17: =SUMPRODUCT(--(Takta_A!E13:E72="M"),--(Takta_A!AW13:AW72="ब-2")) -> 0 | M17: =SUM(K17:L17) -> 0
C18: क - 1 | D18: =SUMPRODUCT(--(Takta_A!E13:E72="F"),--(Takta_A!P13:P72="क-1")) -> 0 | E18: =SUMPRODUCT(--(Takta_A!E13:E72="M"),--(Takta_A!P13:P72="क-1")) -> 0 | F18: =SUM(D18:E18) -> 0 | J18: क - 1 | K18: =SUMPRODUCT(--(Takta_A!E13:E72="F"),--(Takta_A!AW13:AW72="क-1")) -> 0 | L18: =SUMPRODUCT(--(Takta_A!E13:E72="M"),--(Takta_A!AW13:AW72="क-1")) -> 0 | M18: =SUM(K18:L18) -> 0
C19: क - 2 | D19: =SUMPRODUCT(--(Takta_A!E13:E72="F"),--(Takta_A!P13:P72="क-2")) -> 0 | E19: =SUMPRODUCT(--(Takta_A!E13:E72="M"),--(Takta_A!P13:P72="क-2")) -> 0 | F19: =SUM(D19:E19) -> 0 | J19: क - 2 | K19: =SUMPRODUCT(--(Takta_A!E13:E72="F"),--(Takta_A!AW13:AW72="क-2")) -> 0 | L19: =SUMPRODUCT(--(Takta_A!E13:E72="M"),--(Takta_A!AW13:AW72="क-2")) -> 0 | M19: =SUM(K19:L19) -> 0
C20: क - 2 च्या खालील श्रेणी | D20: =SUMPRODUCT(--(Takta_A!E13:E72="F"),--(Takta_A!P13:P72="ड")+(--(Takta_A!P13:P72="ई-1")+(--(Takta_A!P13:P72="ई-2")))) -> 0 | E20: =SUMPRODUCT(--(Takta_A!E13:E72="M"),--(Takta_A!P13:P72="ड")+(--(Takta_A!P13:P72="ई-1")+(--(Takta_A!P13:P72="ई-2")))) -> 0 | F20: =SUM(D20:E20) -> 0 | J20: क - 2 च्या खालील श्रेणी | K20: =SUMPRODUCT(--(Takta_A!E13:E72="F"),--(Takta_A!AW13:AW72="ड")+(--(Takta_A!AW13:AW72="ई-1")+(--(Takta_A!AW13:AW72="ई-2")))) -> 0 | L20: =SUMPRODUCT(--(Takta_A!E13:E72="M"),--(Takta_A!AW13:AW72="ड")+(--(Takta_A!AW13:AW72="ई-1")+(--(Takta_A!AW13:AW72="ई-2")))) -> 0 | M20: =SUM(K20:L20) -> 0
A21: 3 | B21: तृतीय भाषा (इंग्रजी) | C21: अ - 1 | D21: =SUMPRODUCT(--(Takta_A!E13:E72="F"),--(Takta_A!V13:V72="अ-1")) -> 0 | E21: =SUMPRODUCT(--(Takta_A!E13:E72="M"),--(Takta_A!V13:V72="अ-1")) -> 0 | F21: =SUM(D21:E21) -> 0 | H21: 9 | I21: कार्यानुभव | J21: अ - 1 | K21: =SUMPRODUCT(--(Takta_A!E13:E72="F"),--(Takta_A!AZ13:AZ72="अ-1")) -> 0 | L21: =SUMPRODUCT(--(Takta_A!E13:E72="M"),--(Takta_A!AZ13:AZ72="अ-1")) -> 0 | M21: =SUM(K21:L21) -> 0
C22: अ - 2 | D22: =SUMPRODUCT(--(Takta_A!E13:E72="F"),--(Takta_A!V13:V72="अ-2")) -> 0 | E22: =SUMPRODUCT(--(Takta_A!E13:E72="M"),--(Takta_A!V13:V72="अ-2")) -> 0 | F22: =SUM(D22:E22) -> 0 | J22: अ - 2 | K22: =SUMPRODUCT(--(Takta_A!E13:E72="F"),--(Takta_A!AZ13:AZ72="अ-2")) -> 0 | L22: =SUMPRODUCT(--(Takta_A!E13:E72="M"),--(Takta_A!AZ13:AZ72="अ-2")) -> 0 | M22: =SUM(K22:L22) -> 0
C23: ब - 1 | D23: =SUMPRODUCT(--(Takta_A!E13:E72="F"),--(Takta_A!V13:V72="ब-1")) -> 0 | E23: =SUMPRODUCT(--(Takta_A!E13:E72="M"),--(Takta_A!V13:V72="ब-1")) -> 0 | F23: =SUM(D23:E23) -> 0 | J23: ब - 1 | K23: =SUMPRODUCT(--(Takta_A!E13:E72="F"),--(Takta_A!AZ13:AZ72="ब-1")) -> 0 | L23: =SUMPRODUCT(--(Takta_A!E13:E72="M"),--(Takta_A!AZ13:AZ72="ब-1")) -> 0 | M23: =SUM(K23:L23) -> 0
C24: ब - 2 | D24: =SUMPRODUCT(--(Takta_A!E13:E72="F"),--(Takta_A!V13:V72="ब-2")) -> 0 | E24: =SUMPRODUCT(--(Takta_A!E13:E72="M"),--(Takta_A!V13:V72="ब-2")) -> 0 | F24: =SUM(D24:E24) -> 0 | J24: ब - 2 | K24: =SUMPRODUCT(--(Takta_A!E13:E72="F"),--(Takta_A!AZ13:AZ72="ब-2")) -> 0 | L24: =SUMPRODUCT(--(Takta_A!E13:E72="M"),--(Takta_A!AZ13:AZ72="ब-2")) -> 0 | M24: =SUM(K24:L24) -> 0
C25: क - 1 | D25: =SUMPRODUCT(--(Takta_A!E13:E72="F"),--(Takta_A!V13:V72="क-1")) -> 0 | E25: =SUMPRODUCT(--(Takta_A!E13:E72="M"),--(Takta_A!V13:V72="क-1")) -> 0 | F25: =SUM(D25:E25) -> 0 | J25: क - 1 | K25: =SUMPRODUCT(--(Takta_A!E13:E72="F"),--(Takta_A!AZ13:AZ72="क-1")) -> 0 | L25: =SUMPRODUCT(--(Takta_A!E13:E72="M"),--(Takta_A!AZ13:AZ72="क-1")) -> 0 | M25: =SUM(K25:L25) -> 0
C26: क - 2 | D26: =SUMPRODUCT(--(Takta_A!E13:E72="F"),--(Takta_A!V13:V72="क-2")) -> 0 | E26: =SUMPRODUCT(--(Takta_A!E13:E72="M"),--(Takta_A!V13:V72="क-2")) -> 0 | F26: =SUM(D26:E26) -> 0 | J26: क - 2 | K26: =SUMPRODUCT(--(Takta_A!E13:E72="F"),--(Takta_A!AZ13:AZ72="क-2")) -> 0 | L26: =SUMPRODUCT(--(Takta_A!E13:E72="M"),--(Takta_A!AZ13:AZ72="क-2")) -> 0 | M26: =SUM(K26:L26) -> 0
C27: क - 2 च्या खालील श्रेणी | D27: =SUMPRODUCT(--(Takta_A!E13:E72="F"),--(Takta_A!V13:V72="ड")+(--(Takta_A!V13:V72="ई-1")+(--(Takta_A!V13:V72="ई-2")))) -> 0 | E27: =SUMPRODUCT(--(Takta_A!E13:E72="M"),--(Takta_A!V13:V72="ड")+(--(Takta_A!V13:V72="ई-1")+(--(Takta_A!V13:V72="ई-2")))) -> 0 | F27: =SUM(D27:E27) -> 0 | J27: क - 2 च्या खालील श्रेणी | K27: =SUMPRODUCT(--(Takta_A!E13:E72="F"),--(Takta_A!AZ13:AZ72="ड")+(--(Takta_A!AZ13:AZ72="ई-1")+(--(Takta_A!AZ13:AZ72="ई-2")))) -> 0 | L27: =SUMPRODUCT(--(Takta_A!E13:E72="M"),--(Takta_A!AZ13:AZ72="ड")+(--(Takta_A!AZ13:AZ72="ई-1")+(--(Takta_A!AZ13:AZ72="ई-2")))) -> 0 | M27: =SUM(K27:L27) -> 0
A28: 4 | B28: गणित | C28: अ - 1 | D28: =SUMPRODUCT(--(Takta_A!E13:E72="F"),--(Takta_A!AB13:AB72="अ-1")) -> 0 | E28: =SUMPRODUCT(--(Takta_A!E13:E72="M"),--(Takta_A!AB13:AB72="अ-1")) -> 0 | F28: =SUM(D28:E28) -> 0 | H28: 10 | I28: शा.शि. व आरोग्य | J28: अ - 1 | K28: =SUMPRODUCT(--(Takta_A!E13:E72="F"),--(Takta_A!BC13:BC72="अ-1")) -> 0 | L28: =SUMPRODUCT(--(Takta_A!E13:E72="M"),--(Takta_A!BC13:BC72="अ-1")) -> 0 | M28: =SUM(K28:L28) -> 0
C29: अ - 2 | D29: =SUMPRODUCT(--(Takta_A!E13:E72="F"),--(Takta_A!AB13:AB72="अ-2")) -> 0 | E29: =SUMPRODUCT(--(Takta_A!E13:E72="M"),--(Takta_A!AB13:AB72="अ-2")) -> 0 | F29: =SUM(D29:E29) -> 0 | J29: अ - 2 | K29: =SUMPRODUCT(--(Takta_A!E13:E72="F"),--(Takta_A!BC13:BC72="अ-2")) -> 0 | L29: =SUMPRODUCT(--(Takta_A!E13:E72="M"),--(Takta_A!BC13:BC72="अ-2")) -> 0 | M29: =SUM(K29:L29) -> 0
C30: ब - 1 | D30: =SUMPRODUCT(--(Takta_A!E13:E72="F"),--(Takta_A!AB13:AB72="ब-1")) -> 0 | E30: =SUMPRODUCT(--(Takta_A!E13:E72="M"),--(Takta_A!AB13:AB72="ब-1")) -> 0 | F30: =SUM(D30:E30) -> 0 | J30: ब - 1 | K30: =SUMPRODUCT(--(Takta_A!E13:E72="F"),--(Takta_A!BC13:BC72="ब-1")) -> 0 | L30: =SUMPRODUCT(--(Takta_A!E13:E72="M"),--(Takta_A!BC13:BC72="ब-1")) -> 0 | M30: =SUM(K30:L30) -> 0
C31: ब - 2 | D31: =SUMPRODUCT(--(Takta_A!E13:E72="F"),--(Takta_A!AB13:AB72="ब-2")) -> 0 | E31: =SUMPRODUCT(--(Takta_A!E13:E72="M"),--(Takta_A!AB13:AB72="ब-2")) -> 0 | F31: =SUM(D31:E31) -> 0 | J31: ब - 2 | K31: =SUMPRODUCT(--(Takta_A!E13:E72="F"),--(Takta_A!BC13:BC72="ब-2")) -> 0 | L31: =SUMPRODUCT(--(Takta_A!E13:E72="M"),--(Takta_A!BC13:BC72="ब-2")) -> 0 | M31: =SUM(K31:L31) -> 0
C32: क - 1 | D32: =SUMPRODUCT(--(Takta_A!E13:E72="F"),--(Takta_A!AB13:AB72="क-1")) -> 0 | E32: =SUMPRODUCT(--(Takta_A!E13:E72="M"),--(Takta_A!AB13:AB72="क-1")) -> 0 | F32: =SUM(D32:E32) -> 0 | J32: क - 1 | K32: =SUMPRODUCT(--(Takta_A!E13:E72="F"),--(Takta_A!BC13:BC72="क-1")) -> 0 | L32: =SUMPRODUCT(--(Takta_A!E13:E72="M"),--(Takta_A!BC13:BC72="क-1")) -> 0 | M32: =SUM(K32:L32) -> 0
C33: क - 2 | D33: =SUMPRODUCT(--(Takta_A!E13:E72="F"),--(Takta_A!AB13:AB72="क-2")) -> 0 | E33: =SUMPRODUCT(--(Takta_A!E13:E72="M"),--(Takta_A!AB13:AB72="क-2")) -> 0 | F33: =SUM(D33:E33) -> 0 | J33: क - 2 | K33: =SUMPRODUCT(--(Takta_A!E13:E72="F"),--(Takta_A!BC13:BC72="क-2")) -> 0 | L33: =SUMPRODUCT(--(Takta_A!E13:E72="M"),--(Takta_A!BC13:BC72="क-2")) -> 0 | M33: =SUM(K33:L33) -> 0
C34: क - 2 च्या खालील श्रेणी | D34: =SUMPRODUCT(--(Takta_A!E13:E72="F"),--(Takta_A!AB13:AB72="ड")+(--(Takta_A!AB13:AB72="ई-1")+(--(Takta_A!AB13:AB72="ई-2")))) -> 0 | E34: =SUMPRODUCT(--(Takta_A!E13:E72="M"),--(Takta_A!AB13:AB72="ड")+(--(Takta_A!AB13:AB72="ई-1")+(--(Takta_A!AB13:AB72="ई-2")))) -> 0 | F34: =SUM(D34:E34) -> 0 | J34: क - 2 च्या खालील श्रेणी | K34: =SUMPRODUCT(--(Takta_A!E13:E72="F"),--(Takta_A!BC13:BC72="ड")+(--(Takta_A!BC13:BC72="ई-1")+(--(Takta_A!BC13:BC72="ई-2")))) -> 0 | L34: =SUMPRODUCT(--(Takta_A!E13:E72="M"),--(Takta_A!BC13:BC72="ड")+(--(Takta_A!BC13:BC72="ई-1")+(--(Takta_A!BC13:BC72="ई-2")))) -> 0 | M34: =SUM(K34:L34) -> 0
A35: 5 | B35: सामान्य विज्ञान | C35: अ - 1 | D35: =SUMPRODUCT(--(Takta_A!E13:E72="F"),--(Takta_A!AH13:AH72="अ-1")) -> 0 | E35: =SUMPRODUCT(--(Takta_A!E13:E72="M"),--(Takta_A!AH13:AH72="अ-1")) -> 0 | F35: =SUM(D35:E35) -> 0
C36: अ - 2 | D36: =SUMPRODUCT(--(Takta_A!E13:E72="F"),--(Takta_A!AH13:AH72="अ-2")) -> 0 | E36: =SUMPRODUCT(--(Takta_A!E13:E72="M"),--(Takta_A!AH13:AH72="अ-2")) -> 0 | F36: =SUM(D36:E36) -> 0 | H36: शाळा सिद्धी में रिपोर्ट Submit के लिए | J36: <33 | K36: =SUMPRODUCT(--(Takta_A!E13:E72="F")+(Takta_A!E13:E72="M"),--(Takta_A!BG13:BG72="ई-1")+(--(Takta_A!BG13:BG72="ई-2"))) -> 0 | M36: ई
C37: ब - 1 | D37: =SUMPRODUCT(--(Takta_A!E13:E72="F"),--(Takta_A!AH13:AH72="ब-1")) -> 0 | E37: =SUMPRODUCT(--(Takta_A!E13:E72="M"),--(Takta_A!AH13:AH72="ब-1")) -> 0 | F37: =SUM(D37:E37) -> 0 | J37: 33 - 40 | K37: =SUMPRODUCT(--(Takta_A!E13:E72="F")+(Takta_A!E13:E72="M"),--(Takta_A!BG13:BG72="ड")) -> 0 | M37: ड
C38: ब - 2 | D38: =SUMPRODUCT(--(Takta_A!E13:E72="F"),--(Takta_A!AH13:AH72="ब-2")) -> 0 | E38: =SUMPRODUCT(--(Takta_A!E13:E72="M"),--(Takta_A!AH13:AH72="ब-2")) -> 0 | F38: =SUM(D38:E38) -> 0 | J38: 41 - 50 | K38: =SUMPRODUCT(--(Takta_A!E13:E72="F")+(Takta_A!E13:E72="M"),--(Takta_A!BG13:BG72="क-2")) -> 0 | M38: क - 2
C39: क - 1 | D39: =SUMPRODUCT(--(Takta_A!E13:E72="F"),--(Takta_A!AH13:AH72="क-1")) -> 0 | E39: =SUMPRODUCT(--(Takta_A!E13:E72="M"),--(Takta_A!AH13:AH72="क-1")) -> 0 | F39: =SUM(D39:E39) -> 0 | J39: 51 - 60 | K39: =SUMPRODUCT(--(Takta_A!E13:E72="F")+(Takta_A!E13:E72="M"),--(Takta_A!BG13:BG72="क-1")) -> 0 | M39: क - 1
C40: क - 2 | D40: =SUMPRODUCT(--(Takta_A!E13:E72="F"),--(Takta_A!AH13:AH72="क-2")) -> 0 | E40: =SUMPRODUCT(--(Takta_A!E13:E72="M"),--(Takta_A!AH13:AH72="क-2")) -> 0 | F40: =SUM(D40:E40) -> 0 | J40: 61 - 70 | K40: =SUMPRODUCT(--(Takta_A!E13:E72="F")+(Takta_A!E13:E72="M"),--(Takta_A!BG13:BG72="ब-2")) -> 0 | M40: ब - 2
C41: क - 2 च्या खालील श्रेणी | D41: =SUMPRODUCT(--(Takta_A!E13:E72="F"),--(Takta_A!AH13:AH72="ड")+(--(Takta_A!AH13:AH72="ई-1")+(--(Takta_A!AH13:AH72="ई-2")))) -> 0 | E41: =SUMPRODUCT(--(Takta_A!E13:E72="M"),--(Takta_A!AH13:AH72="ड")+(--(Takta_A!AH13:AH72="ई-1")+(--(Takta_A!AH13:AH72="ई-2")))) -> 0 | F41: =SUM(D41:E41) -> 0 | J41: 71 - 80 | K41: =SUMPRODUCT(--(Takta_A!E13:E72="F")+(Takta_A!E13:E72="M"),--(Takta_A!BG13:BG72="ब-1")) -> 0 | M41: ब - 1
A42: 6 | B42: =Takta_A!AP10 -> स्काऊट / गाईड | C42: अ - 1 | D42: =SUMPRODUCT(--(Takta_A!E13:E72="F"),--(Takta_A!AT13:AT72="अ-1")) -> 0 | E42: =SUMPRODUCT(--(Takta_A!E13:E72="M"),--(Takta_A!AT13:AT72="अ-1")) -> 0 | F42: =SUM(D42:E42) -> 0 | J42: 81 - 90 | K42: =SUMPRODUCT(--(Takta_A!E13:E72="F")+(Takta_A!E13:E72="M"),--(Takta_A!BG13:BG72="अ-2")) -> 0 | M42: अ - 2
C43: अ - 2 | D43: =SUMPRODUCT(--(Takta_A!E13:E72="F"),--(Takta_A!AT13:AT72="अ-2")) -> 0 | E43: =SUMPRODUCT(--(Takta_A!E13:E72="M"),--(Takta_A!AT13:AT72="अ-2")) -> 0 | F43: =SUM(D43:E43) -> 0 | J43: 91 - 100 | K43: =SUMPRODUCT(--(Takta_A!E13:E72="F")+(Takta_A!E13:E72="M"),--(Takta_A!BG13:BG72="अ-1")) -> 0 | M43: अ - 1
C44: ब - 1 | D44: =SUMPRODUCT(--(Takta_A!E13:E72="F"),--(Takta_A!AT13:AT72="ब-1")) -> 0 | E44: =SUMPRODUCT(--(Takta_A!E13:E72="M"),--(Takta_A!AT13:AT72="ब-1")) -> 0 | F44: =SUM(D44:E44) -> 0 | J44: एकूण पट : | K44: =SUM(K36:K43) -> 0
C45: ब - 2 | D45: =SUMPRODUCT(--(Takta_A!E13:E72="F"),--(Takta_A!AT13:AT72="ब-2")) -> 0 | E45: =SUMPRODUCT(--(Takta_A!E13:E72="M"),--(Takta_A!AT13:AT72="ब-2")) -> 0 | F45: =SUM(D45:E45) -> 0
C46: क - 1 | D46: =SUMPRODUCT(--(Takta_A!E13:E72="F"),--(Takta_A!AT13:AT72="क-1")) -> 0 | E46: =SUMPRODUCT(--(Takta_A!E13:E72="M"),--(Takta_A!AT13:AT72="क-1")) -> 0 | F46: =SUM(D46:E46) -> 0 | J46: पट व उपस्थिति | K46: बालक | L46: कन्या | M46: योग
C47: क - 2 | D47: =SUMPRODUCT(--(Takta_A!E13:E72="F"),--(Takta_A!AT13:AT72="क-2")) -> 0 | E47: =SUMPRODUCT(--(Takta_A!E13:E72="M"),--(Takta_A!AT13:AT72="क-2")) -> 0 | F47: =SUM(D47:E47) -> 0 | J47: पट | K47: =Info_1!D16 -> 0 | L47: =Info_1!D18 -> 0 | M47: =SUM(K47:L47) -> 0
C48: क - 2 च्या खालील श्रेणी | D48: =SUMPRODUCT(--(Takta_A!E13:E72="F"),--(Takta_A!AT13:AT72="ड")+(--(Takta_A!AT13:AT72="ई-1")+(--(Takta_A!AT13:AT72="ई-2")))) -> 0 | E48: =SUMPRODUCT(--(Takta_A!E13:E72="M"),--(Takta_A!AT13:AT72="ड")+(--(Takta_A!AT13:AT72="ई-1")+(--(Takta_A!AT13:AT72="ई-2")))) -> 0 | F48: =SUM(D48:E48) -> 0 | J48: उपस्थित | K48: =Info_1!E16 -> 0 | L48: =Info_1!E18 -> 0 | M48: =SUM(K48:L48) -> 0
J49: अनुपस्थित | K49: =SUM(K47:K48) -> 0 | L49: =SUM(L47:L48) -> 0 | M49: =SUM(M47:M48) -> 0
B51: वर्ग शिक्षकाची (स्वाक्षरी) | E51: मुख्याध्यापकाची (स्वाक्षरी) | J51: विभाग निरीक्षकाची (स्वाक्षरी)
B52: =Info_1!E22 -> Class Teacher's Name | D52: =Info_1!E28 -> HM's Name

Sheet Last_Page
C3: =Takta_A!B2 -> बृहन्मुंबई महानगरपालिका - शिक्षण विभाग
D5: सातत्यपूर्ण सर्वंकष मूल्यमापन - | N5: =Takta_A!Q3 -> 2
B7: शाळा : | D7: =Info_1!D5 -> School Name
B9: कक्षा : | D9: =Info_1!D13 -> 6 | G9: वर्ग : | I9: =Info_1!F13 -> A | N9: शैक्षणिक वर्ष : | Q9: =Takta_A!AG3 -> 2024 - 25
D11: निकाल एकीकरण तक्ता
D12: पट संख्या | F12: उपस्थित | H12: अनुपस्थित | J12: उत्तीर्ण | L12: उत्तारित | N12: अनुत्तीर्ण | P12: शे.प्रमाण | R12: arvindgg74@
D14: मुलगे | E14: मुली | F14: मुलगे | G14: मुली | H14: मुलगे | I14: मुली | J14: मुलगे | K14: मुली | L14: मुलगे | M14: मुली | N14: मुलगे | O14: मुली | P14: मुलगे | Q14: मुली
D15: =Info_1!D16 -> 0 | E15: =Info_1!D18 -> 0 | F15: =Info_1!E16 -> 0 | G15: =Info_1!E18 -> 0 | H15: =Info_1!F16 -> 0 | I15: =Info_1!F18 -> 0
D16: =Info_1!D20 -> 0 | F16: =Info_1!E20 -> 0 | H16: =Info_1!F20 -> 0
D18: विषय फलित - शेकडा प्रमाण
B20: मातृभाषा | D20: गणित | F20: सा.विज्ञान | H20: स.शास्त्र | J20: इंग्रजी | L20: मराठी | N20: स्काऊट/गाईड | P20: कार्यानुभव | R20: कला | T20: शा.शि.
B21: मुलगे | C21: मुली | D21: मुलगे | E21: मुली | F21: मुलगे | G21: मुली | H21: मुलगे | I21: मुली | J21: मुलगे | K21: मुली | L21: मुलगे | M21: मुली | N21: मुलगे | O21: मुली | P21: मुलगे | Q21: मुली | R21: मुलगे | S21: मुली | T21: मुलगे | U21: मुली
A26: तक्ता तयार केला (नांव): | F26: =Info_1!E24 -> Type Here - Prepaired By | N26: स्वाक्षरी :
A28: तक्ता तपासला (नांव) : | F28: =Info_1!E26 -> Type Here - Checked By | N28: स्वाक्षरी :
A30: वर्ग शिक्षक (नांव) : | F30: =Info_1!E22 -> Class Teacher's Name | N30: स्वाक्षरी :
A33: मुख्याध्यापक (नांव) : | E33: =Info_1!E28 -> HM's Name | K33: स्वाक्षरी व शिक्का :
A36: जॉच कर्ता
A38: 1) नांव : | K38: स्वाक्षरी :
A40: 2) नांव : | K40: स्वाक्षरी :
K45: स्वाक्षरी व शिक्का :
I47: विभाग निरिक्षक (शाळा)
A49: hellomitra.blogspot.in | K49: दिनांक व शिक्का

Sheet Report Card
H2: arvindgg74@
B3: =Takta_A!B2 -> बृहन्मुंबई महानगरपालिका - शिक्षण विभाग
B4: विद्यार्थी प्रगतिपत्रक
B6: शै. वर्ष : | C6: =Info_1!G9 -> 2024 - 25 | E6: सातत्यपूर्ण सर्वंकष मूल्यमापन - | I6: =Takta_A!Q3 -> 2
B7: विद्यालय का नाम : | D7: =Info_1!D5 -> School Name
B9: विद्यार्थी का नाम : | D9: =VLOOKUP(I11,Takta_A!C13:BE72,2,FALSE) -> 0
B11: कक्षा : | C11: =Info_1!D13 -> 6 | D11: वर्ग : | E11: =Info_1!F13 -> A | H11: अनुक्रमांक : | I11: 1
B13: प्रगति पत्रक : सत्र - | H13: =I6 -> 2
B14: अनु. क्र. | C14: विषय | H14: श्रेणी
B15: 1 | C15: प्रथम भाषा | G15: 1 | H15: =VLOOKUP(I11,Takta_A!C13:BE72,8,FALSE) -> ई-2
B16: 2 | C16: द्वितीय भाषा | G16: 2 | H16: =VLOOKUP(I11,Takta_A!C13:BE72,14,FALSE) -> ई-2
B17: 3 | C17: तृतीय भाषा | G17: 3 | H17: =VLOOKUP(I11,Takta_A!C13:BE72,20,FALSE) -> ई-2
B18: 4 | C18: गणित | G18: 4 | H18: =VLOOKUP(I11,Takta_A!C13:BE72,26,FALSE) -> ई-2
B19: 5 | C19: सा.विज्ञान / परिवेशीय अध्ययन | G19: 5 | H19: =VLOOKUP(I11,Takta_A!C13:BE72,32,FALSE) -> ई-2
B20: 6 | C20: समाज शास्त्र | G20: 6 | H20: =VLOOKUP(I11,Takta_A!C13:BE72,38,FALSE) -> ई-2
B21: 7 | C21: =Takta_A!AP10 -> स्काऊट / गाईड | H21: =VLOOKUP(I11,Takta_A!C13:BE72,44,FALSE) -> ई-2
B22: 8 | C22: कला | G22: 7 | H22: =VLOOKUP(I11,Takta_A!C13:BE72,47,FALSE) -> ई-2
B23: 9 | C23: कार्यानुभव | G23: 8 | H23: =VLOOKUP(I11,Takta_A!C13:BE72,50,FALSE) -> ई-2
B24: 10 | C24: शा.शिक्षण व आरोग्य शिक्षण | G24: 9 | H24: =VLOOKUP(I11,Takta_A!C13:BE72,53,FALSE) -> ई-2
G25: 10
B26: दिनांक : | C26: 45821 | E26: से कक्षा : | F26: =C11+1 -> 7 | G26: 11 | H26: में दाखिल ।
G27: 12
B28: वर्ग.शिक्षक : | D28: =Info_1!E22 -> Class Teacher's Name | G28: 13
G29: 14
B30: मुख्याध्यापक : | D30: =Info_1!E28 -> HM's Name | G30: 15
G31: 16 | H31: hellomitra.in
G32: 17
G33: 18
G34: 19
G35: 20
G36: 21
G37: 22
G38: 23
G39: 24
G40: 25
G41: 26
G42: 27
G43: 28
... G75: 60

Sheet Cover Page
C2: वार्ड: | D2: =Info_1!D7 -> A | E2: शै.वर्ष: | G2: =Info_1!G9 -> 2024 - 25
B4: =Info_1!E31 -> बृहन्मुंबई महानगरपालिका - शिक्षण विभाग
B6: विद्यार्थी प्रगति दर्शक तक्ता
B8: व
B10: सातत्यपूर्ण सर्वंकष मूल्यमापन : | F10: =Takta_A!Q3 -> 2 | G10: (तक्ता 'अ','ब')
B21: =Info_1!D5 -> School Name
B23: =Info_1!D6 -> School Address
B26: कक्षा : | D26: =Info_1!D13 -> 6 | G26: वर्ग : | I26: =Info_1!F13 -> A
B31: वर्ग शिक्षक : | E31: =Info_1!E22 -> Class Teacher's Name
B33: प्रधानाध्यापक : | E33: =Info_1!E28 -> HM's Name
C36: arvindgg74@ | F36: hellomitra.in
